BEGIN:VCALENDAR
VERSION:2.0
PRODID:-//The Market Common Myrtle Beach - ECPv6.15.12.2//NONSGML v1.0//EN
CALSCALE:GREGORIAN
METHOD:PUBLISH
X-WR-CALNAME:The Market Common Myrtle Beach
X-ORIGINAL-URL:https://marketcommonmb.com
X-WR-CALDESC:Events for The Market Common Myrtle Beach
REFRESH-INTERVAL;VALUE=DURATION:PT1H
X-Robots-Tag:noindex
X-PUBLISHED-TTL:PT1H
BEGIN:VTIMEZONE
TZID:America/New_York
BEGIN:DAYLIGHT
TZOFFSETFROM:-0500
TZOFFSETTO:-0400
TZNAME:EDT
DTSTART:20250309T070000
END:DAYLIGHT
BEGIN:STANDARD
TZOFFSETFROM:-0400
TZOFFSETTO:-0500
TZNAME:EST
DTSTART:20251102T060000
END:STANDARD
BEGIN:DAYLIGHT
TZOFFSETFROM:-0500
TZOFFSETTO:-0400
TZNAME:EDT
DTSTART:20260308T070000
END:DAYLIGHT
BEGIN:STANDARD
TZOFFSETFROM:-0400
TZOFFSETTO:-0500
TZNAME:EST
DTSTART:20261101T060000
END:STANDARD
BEGIN:DAYLIGHT
TZOFFSETFROM:-0500
TZOFFSETTO:-0400
TZNAME:EDT
DTSTART:20270314T070000
END:DAYLIGHT
BEGIN:STANDARD
TZOFFSETFROM:-0400
TZOFFSETTO:-0500
TZNAME:EST
DTSTART:20271107T060000
END:STANDARD
END:VTIMEZONE
BEGIN:VEVENT
DTSTART;TZID=America/New_York:20260416T103000
DTEND;TZID=America/New_York:20260418T220000
DTSTAMP:20260424T105114
CREATED:20260203T134226Z
LAST-MODIFIED:20260203T134226Z
UID:10025062-1776335400-1776549600@marketcommonmb.com
SUMMARY:All Day Specials - Gordon Biersch
DESCRIPTION:Enjoy these all day drink specials on Tuesday\, Wednesday\, and Thursday only at Gordon Biersch!
URL:https://marketcommonmb.com/event/all-day-specials-gordon-biersch/2026-04-16/
CATEGORIES:Drink Specials
ATTACH;FMTTYPE=image/jpeg:https://marketcommonmb.com/wp-content/uploads/2026/02/GB-Specials.jpeg
END:VEVENT
BEGIN:VEVENT
DTSTART;VALUE=DATE:20260418
DTEND;VALUE=DATE:20260419
DTSTAMP:20260424T105114
CREATED:20241004T142022Z
LAST-MODIFIED:20260220T132956Z
UID:10018814-1776470400-1776556799@marketcommonmb.com
SUMMARY:Weekend Happy Hour
DESCRIPTION:Enjoy Weekend Happy Hours at The Market Common! Unwind with great deals on drinks and appetizers at various restaurants\, perfect for relaxing with friends and soaking in the vibrant atmosphere! \nAll Day Every Day: P.F. Chang’s \nEvery Day 4-6 PM: Ck’s Bistro \nSaturday & Sunday 1-3 PM: Dirty Don’s Oyster Bar & Grill \nSaturday & Sunday 4-6 PM: 810 Bowling & Billiards \nSundays: Co Sushi \n 
URL:https://marketcommonmb.com/event/weekend-happy-hour/2026-04-18/
CATEGORIES:Drink Specials,Food Specials
ATTACH;FMTTYPE=image/png:https://marketcommonmb.com/wp-content/uploads/2024/10/mimosas-1.png
END:VEVENT
BEGIN:VEVENT
DTSTART;VALUE=DATE:20260418
DTEND;VALUE=DATE:20260419
DTSTAMP:20260424T105114
CREATED:20250425T190023Z
LAST-MODIFIED:20250425T190023Z
UID:10020685-1776470400-1776556799@marketcommonmb.com
SUMMARY:Weekend Vibes at P.F. Chang's
DESCRIPTION:Weekend vibes are in full swing at P.F. Chang’s! Sip on our two new specialty drinks—The Golden Buddha Mai Tai and Jade Margarita—available Thursday through Saturday for just $8.99.
URL:https://marketcommonmb.com/event/weekend-vibes-at-p-f-changs/2026-04-18/
LOCATION:P.F. Chang’s\, 1190 Farrow Parkway\, Myrtle Beach\, SC\, 29577\, United States
CATEGORIES:Drink Specials,Food Specials,Social Events
ATTACH;FMTTYPE=image/png:https://marketcommonmb.com/wp-content/uploads/2025/04/weekend-vibes.png
END:VEVENT
BEGIN:VEVENT
DTSTART;TZID=America/New_York:20260418T080000
DTEND;TZID=America/New_York:20260418T100000
DTSTAMP:20260424T105114
CREATED:20260205T134327Z
LAST-MODIFIED:20260205T134327Z
UID:10025949-1776499200-1776506400@marketcommonmb.com
SUMMARY:Run Club with The Yard Gym
DESCRIPTION:Lace up and join us for Run Club every Saturday at 8AM! We’ll meet at the front of The Yard Gym for a fun\, feel-good way to kick off your weekend. All paces and faces welcome!
URL:https://marketcommonmb.com/event/run-club-with-the-yard-gym/2026-04-18/
LOCATION:The Yard Gym\, 3026 Nevers Street\, MYRTLE BEACH\, SC\, 29577-1640\, United States
CATEGORIES:Social Events,Wellness
ATTACH;FMTTYPE=image/png:https://marketcommonmb.com/wp-content/uploads/2025/03/5K-run.png
END:VEVENT
BEGIN:VEVENT
DTSTART;TZID=America/New_York:20260418T100000
DTEND;TZID=America/New_York:20260418T150000
DTSTAMP:20260424T105114
CREATED:20260414T121753Z
LAST-MODIFIED:20260414T121756Z
UID:10027472-1776506400-1776524400@marketcommonmb.com
SUMMARY:Farmer's Market
DESCRIPTION:Every Saturday from April 4th- December 19th\, 10 am to 3 pm\, in Valor Park. Featuring fresh produce\, artisanal goods\, and more from local vendors. \nPlease note that the Farmer’s Markets are not managed or organized by The Market Common. For any inquiries regarding this event\, please contact Waccamaw Market Cooperative directly.  \n 
URL:https://marketcommonmb.com/event/farmers-market-3/2026-04-18/
LOCATION:Valor Park\, 1120 Farrow Parkway\, Myrtle Beach\, SC\, 29577\, United States
CATEGORIES:Family Events,Outdoor Market,Seasonal Events
ATTACH;FMTTYPE=image/png:https://marketcommonmb.com/wp-content/uploads/2024/06/Farmers-market-1.png
END:VEVENT
BEGIN:VEVENT
DTSTART;TZID=America/New_York:20260418T100000
DTEND;TZID=America/New_York:20260418T160000
DTSTAMP:20260424T105114
CREATED:20260327T154848Z
LAST-MODIFIED:20260410T130215Z
UID:10027398-1776506400-1776528000@marketcommonmb.com
SUMMARY:Art in the Park
DESCRIPTION:Experience Art in the Park at Valor Park on Saturday\, April 18th & November 9th and Sunday\, April 19th & November 10th\, from 10 am to 4 pm! Discover a vibrant showcase of talented local artists and vendors offering one-of-a-kind pieces. This event is perfect for finding unique holiday gifts for family and friends\, with handcrafted items\, original artwork\, and creative treasures. Hosted by the Waccamaw Arts & Crafts Guild. \n 
URL:https://marketcommonmb.com/event/art-in-the-park-3/2026-04-18/
LOCATION:Valor Park\, 1120 Farrow Parkway\, Myrtle Beach\, SC\, 29577\, United States
CATEGORIES:Art,Family Events,Outdoor Market,Shopping
ATTACH;FMTTYPE=image/png:https://marketcommonmb.com/wp-content/uploads/2024/09/artinthepark.png
END:VEVENT
BEGIN:VEVENT
DTSTART;TZID=America/New_York:20260418T110000
DTEND;TZID=America/New_York:20260418T150000
DTSTAMP:20260424T105114
CREATED:20260211T161013Z
LAST-MODIFIED:20260316T131238Z
UID:10026202-1776510000-1776524400@marketcommonmb.com
SUMMARY:Spring Taste of The Market Common
DESCRIPTION:🎉 Get ready to eat your heart out at Taste of The Market Common! 🍤🍰🍔 \nJoin us this Saturday\, April 18th from 11 AM – 3 PM at beautiful The Market Common for one of the most delicious days of the season! \n🍽️ Sample 40+ incredible bites — from appetizers and entrées to desserts and specialty treats — all from your favorite Market Common restaurants. Preview a few of the restaurant offerings here! \n🎟️ Tickets are just $1 each (cash only!)\, and tastings range from 1–5 tickets per item. \n🗳️ Vote for your favorite dish and enter to win over $300 in restaurant gift cards plus two guest passes to EdVenture Children’s Museum! \nDon’t miss this foodie favorite — it only happens twice a year\, and it’s always delicious! \nCome hungry\, bring friends\, and savor the flavors of The Market Common. 😋 \n  \n#TasteOfTheMarketCommon #MyrtleBeachEats #TheMarketCommon #FoodieFestival #EatLocalMB
URL:https://marketcommonmb.com/event/spring-taste-of-the-market-common-2/
LOCATION:The Market Common\, 4017 Deville St\, Myrtle Beach\, 29577\, United States
CATEGORIES:Family Events,Food Specials,Seasonal Events,Social Events,Tastings
ATTACH;FMTTYPE=image/jpeg:https://marketcommonmb.com/wp-content/uploads/2025/10/meatballs.jpg
END:VEVENT
BEGIN:VEVENT
DTSTART;TZID=America/New_York:20260418T160000
DTEND;TZID=America/New_York:20260418T180000
DTSTAMP:20260424T105114
CREATED:20240802T165601Z
LAST-MODIFIED:20250402T202345Z
UID:10014763-1776528000-1776535200@marketcommonmb.com
SUMMARY:1/2 Price Martinis at Travinia
DESCRIPTION:Wednesday’s & Saturday’s from 4-6 pm enjoy Travinia’s 1/2 price martinis from their menu.
URL:https://marketcommonmb.com/event/1-2-price-martinis-at-travinia/2026-04-18/
LOCATION:Travinia\, 4011 Deville St\, Myrtle Beach\, SC\, 29577\, United States
CATEGORIES:Drink Specials
ATTACH;FMTTYPE=image/png:https://marketcommonmb.com/wp-content/uploads/2024/08/Martinis.png
END:VEVENT
BEGIN:VEVENT
DTSTART;TZID=America/New_York:20260418T200000
DTEND;TZID=America/New_York:20260418T200000
DTSTAMP:20260424T105114
CREATED:20240613T201217Z
LAST-MODIFIED:20250306T140405Z
UID:10004492-1776542400-1776542400@marketcommonmb.com
SUMMARY:Live DJ
DESCRIPTION:Enjoy great music\, delicious food\, and endless fun at 810 Billiards & Bowling with Live DJ select Saturdays from 9 PM to 12 AM.
URL:https://marketcommonmb.com/event/live-dj/2026-04-18/
LOCATION:810 Billiards & Bowling\, 1220 Moser Drive\, Myrtle Beach\, SC\, 29577\, United States
CATEGORIES:Music Events
ATTACH;FMTTYPE=image/png:https://marketcommonmb.com/wp-content/uploads/2024/06/DJ.png
END:VEVENT
END:VCALENDAR