BEGIN:VCALENDAR
VERSION:2.0
PRODID:-//The Market Common Myrtle Beach - ECPv6.15.12.2//NONSGML v1.0//EN
CALSCALE:GREGORIAN
METHOD:PUBLISH
X-ORIGINAL-URL:https://marketcommonmb.com
X-WR-CALDESC:Events for The Market Common Myrtle Beach
REFRESH-INTERVAL;VALUE=DURATION:PT1H
X-Robots-Tag:noindex
X-PUBLISHED-TTL:PT1H
BEGIN:VTIMEZONE
TZID:America/New_York
BEGIN:DAYLIGHT
TZOFFSETFROM:-0500
TZOFFSETTO:-0400
TZNAME:EDT
DTSTART:20240310T070000
END:DAYLIGHT
BEGIN:STANDARD
TZOFFSETFROM:-0400
TZOFFSETTO:-0500
TZNAME:EST
DTSTART:20241103T060000
END:STANDARD
BEGIN:DAYLIGHT
TZOFFSETFROM:-0500
TZOFFSETTO:-0400
TZNAME:EDT
DTSTART:20250309T070000
END:DAYLIGHT
BEGIN:STANDARD
TZOFFSETFROM:-0400
TZOFFSETTO:-0500
TZNAME:EST
DTSTART:20251102T060000
END:STANDARD
BEGIN:DAYLIGHT
TZOFFSETFROM:-0500
TZOFFSETTO:-0400
TZNAME:EDT
DTSTART:20260308T070000
END:DAYLIGHT
BEGIN:STANDARD
TZOFFSETFROM:-0400
TZOFFSETTO:-0500
TZNAME:EST
DTSTART:20261101T060000
END:STANDARD
END:VTIMEZONE
BEGIN:VEVENT
DTSTART;TZID=America/New_York:20250902T193000
DTEND;TZID=America/New_York:20250902T203000
DTSTAMP:20260424T075626
CREATED:20250611T195550Z
LAST-MODIFIED:20250611T195550Z
UID:10023653-1756841400-1756845000@marketcommonmb.com
SUMMARY:Decked Out Divas Tour
DESCRIPTION:Fierce. Fabulous. Unforgettable. \nThe Decked Out Divas Drag Show Tour is hitting the streets in style! This double-decker drag show brings live performances\, games\, music\, and over-the-top fun to Myrtle Beach like never before. \nIt’s part bus\, part runway — and all sass. \n*Book Tickets online in advance. Please Note this tour is not managed by The Market Common. *
URL:https://marketcommonmb.com/event/decked-out-divas-tour/2025-09-02/
LOCATION:Grand 14 Theater\, 4002 DeVille Street\, Myrtle Beach\, SC\, 29577\, United States
CATEGORIES:Dance,Music Events,Social Events
ATTACH;FMTTYPE=image/png:https://marketcommonmb.com/wp-content/uploads/2025/06/divastour.png
END:VEVENT
BEGIN:VEVENT
DTSTART;TZID=America/New_York:20250905T201000
DTEND;TZID=America/New_York:20250905T230000
DTSTAMP:20260424T075626
CREATED:20250219T143354Z
LAST-MODIFIED:20250219T143354Z
UID:10020073-1757103000-1757113200@marketcommonmb.com
SUMMARY:Steel County Express: Live Music at 810 Bowling
DESCRIPTION:Enjoy live music every Friday at 810 Bowling & Billiards. Friday\, September 5th enjoy Steel County Express from 8:10 pm- 11:00 pm.
URL:https://marketcommonmb.com/event/steel-county-express-live-music-at-810-bowling-3/
LOCATION:810 Billiards & Bowling\, 1220 Moser Drive\, Myrtle Beach\, SC\, 29577\, United States
CATEGORIES:Dance,Drink Specials,Food Specials,Music Events,Social Events
ATTACH;FMTTYPE=image/png:https://marketcommonmb.com/wp-content/uploads/2025/01/810livemusic.png
END:VEVENT
BEGIN:VEVENT
DTSTART;TZID=America/New_York:20250909T193000
DTEND;TZID=America/New_York:20250909T203000
DTSTAMP:20260424T075626
CREATED:20250611T195550Z
LAST-MODIFIED:20250611T195550Z
UID:10023654-1757446200-1757449800@marketcommonmb.com
SUMMARY:Decked Out Divas Tour
DESCRIPTION:Fierce. Fabulous. Unforgettable. \nThe Decked Out Divas Drag Show Tour is hitting the streets in style! This double-decker drag show brings live performances\, games\, music\, and over-the-top fun to Myrtle Beach like never before. \nIt’s part bus\, part runway — and all sass. \n*Book Tickets online in advance. Please Note this tour is not managed by The Market Common. *
URL:https://marketcommonmb.com/event/decked-out-divas-tour/2025-09-09/
LOCATION:Grand 14 Theater\, 4002 DeVille Street\, Myrtle Beach\, SC\, 29577\, United States
CATEGORIES:Dance,Music Events,Social Events
ATTACH;FMTTYPE=image/png:https://marketcommonmb.com/wp-content/uploads/2025/06/divastour.png
END:VEVENT
BEGIN:VEVENT
DTSTART;TZID=America/New_York:20250912T201000
DTEND;TZID=America/New_York:20250912T230000
DTSTAMP:20260424T075626
CREATED:20250219T143500Z
LAST-MODIFIED:20250219T143500Z
UID:10020074-1757707800-1757718000@marketcommonmb.com
SUMMARY:Southern Kind: Live Music at 810 Bowling
DESCRIPTION:Enjoy live music every Friday at 810 Bowling & Billiards. Friday\, September 12th enjoy Southern Kind from 8:10 pm- 11:00 pm.
URL:https://marketcommonmb.com/event/southern-kind-live-music-at-810-bowling-3/
LOCATION:810 Billiards & Bowling\, 1220 Moser Drive\, Myrtle Beach\, SC\, 29577\, United States
CATEGORIES:Dance,Drink Specials,Food Specials,Music Events,Social Events
ATTACH;FMTTYPE=image/png:https://marketcommonmb.com/wp-content/uploads/2025/01/810livemusic.png
END:VEVENT
BEGIN:VEVENT
DTSTART;TZID=America/New_York:20250916T193000
DTEND;TZID=America/New_York:20250916T203000
DTSTAMP:20260424T075626
CREATED:20250611T195550Z
LAST-MODIFIED:20250611T195550Z
UID:10023655-1758051000-1758054600@marketcommonmb.com
SUMMARY:Decked Out Divas Tour
DESCRIPTION:Fierce. Fabulous. Unforgettable. \nThe Decked Out Divas Drag Show Tour is hitting the streets in style! This double-decker drag show brings live performances\, games\, music\, and over-the-top fun to Myrtle Beach like never before. \nIt’s part bus\, part runway — and all sass. \n*Book Tickets online in advance. Please Note this tour is not managed by The Market Common. *
URL:https://marketcommonmb.com/event/decked-out-divas-tour/2025-09-16/
LOCATION:Grand 14 Theater\, 4002 DeVille Street\, Myrtle Beach\, SC\, 29577\, United States
CATEGORIES:Dance,Music Events,Social Events
ATTACH;FMTTYPE=image/png:https://marketcommonmb.com/wp-content/uploads/2025/06/divastour.png
END:VEVENT
BEGIN:VEVENT
DTSTART;TZID=America/New_York:20250919T201000
DTEND;TZID=America/New_York:20250919T230000
DTSTAMP:20260424T075626
CREATED:20250219T143601Z
LAST-MODIFIED:20250219T143601Z
UID:10020075-1758312600-1758322800@marketcommonmb.com
SUMMARY:Thomas Road: Live Music at 810 Bowling
DESCRIPTION:Enjoy live music every Friday at 810 Bowling & Billiards. Friday\, September 19th enjoy Thomas Road from 8:10 pm- 11:00 pm.
URL:https://marketcommonmb.com/event/thomas-road-live-music-at-810-bowling-3-2/
LOCATION:810 Billiards & Bowling\, 1220 Moser Drive\, Myrtle Beach\, SC\, 29577\, United States
CATEGORIES:Dance,Drink Specials,Food Specials,Music Events,Social Events
ATTACH;FMTTYPE=image/png:https://marketcommonmb.com/wp-content/uploads/2025/01/810livemusic.png
END:VEVENT
BEGIN:VEVENT
DTSTART;TZID=America/New_York:20250923T193000
DTEND;TZID=America/New_York:20250923T203000
DTSTAMP:20260424T075626
CREATED:20250611T195550Z
LAST-MODIFIED:20250611T195550Z
UID:10023656-1758655800-1758659400@marketcommonmb.com
SUMMARY:Decked Out Divas Tour
DESCRIPTION:Fierce. Fabulous. Unforgettable. \nThe Decked Out Divas Drag Show Tour is hitting the streets in style! This double-decker drag show brings live performances\, games\, music\, and over-the-top fun to Myrtle Beach like never before. \nIt’s part bus\, part runway — and all sass. \n*Book Tickets online in advance. Please Note this tour is not managed by The Market Common. *
URL:https://marketcommonmb.com/event/decked-out-divas-tour/2025-09-23/
LOCATION:Grand 14 Theater\, 4002 DeVille Street\, Myrtle Beach\, SC\, 29577\, United States
CATEGORIES:Dance,Music Events,Social Events
ATTACH;FMTTYPE=image/png:https://marketcommonmb.com/wp-content/uploads/2025/06/divastour.png
END:VEVENT
BEGIN:VEVENT
DTSTART;TZID=America/New_York:20250926T201000
DTEND;TZID=America/New_York:20250926T230000
DTSTAMP:20260424T075626
CREATED:20250219T143645Z
LAST-MODIFIED:20250219T143645Z
UID:10020076-1758917400-1758927600@marketcommonmb.com
SUMMARY:Julio & the Saltines: Live Music at 810 Bowling
DESCRIPTION:Enjoy live music every Friday at 810 Bowling & Billiards. Friday\, September 26th enjoy Julio & the Saltines from 8:10 pm- 11:00 pm.
URL:https://marketcommonmb.com/event/julio-the-saltines-live-music-at-810-bowling-3/
LOCATION:810 Billiards & Bowling\, 1220 Moser Drive\, Myrtle Beach\, SC\, 29577\, United States
CATEGORIES:Dance,Drink Specials,Food Specials,Music Events,Social Events
ATTACH;FMTTYPE=image/png:https://marketcommonmb.com/wp-content/uploads/2025/01/810livemusic.png
END:VEVENT
BEGIN:VEVENT
DTSTART;TZID=America/New_York:20250930T193000
DTEND;TZID=America/New_York:20250930T203000
DTSTAMP:20260424T075626
CREATED:20250611T195550Z
LAST-MODIFIED:20250611T195550Z
UID:10023657-1759260600-1759264200@marketcommonmb.com
SUMMARY:Decked Out Divas Tour
DESCRIPTION:Fierce. Fabulous. Unforgettable. \nThe Decked Out Divas Drag Show Tour is hitting the streets in style! This double-decker drag show brings live performances\, games\, music\, and over-the-top fun to Myrtle Beach like never before. \nIt’s part bus\, part runway — and all sass. \n*Book Tickets online in advance. Please Note this tour is not managed by The Market Common. *
URL:https://marketcommonmb.com/event/decked-out-divas-tour/2025-09-30/
LOCATION:Grand 14 Theater\, 4002 DeVille Street\, Myrtle Beach\, SC\, 29577\, United States
CATEGORIES:Dance,Music Events,Social Events
ATTACH;FMTTYPE=image/png:https://marketcommonmb.com/wp-content/uploads/2025/06/divastour.png
END:VEVENT
END:VCALENDAR