BEGIN:VCALENDAR
VERSION:2.0
PRODID:-//The Market Common Myrtle Beach - ECPv6.15.12.2//NONSGML v1.0//EN
CALSCALE:GREGORIAN
METHOD:PUBLISH
X-ORIGINAL-URL:https://marketcommonmb.com
X-WR-CALDESC:Events for The Market Common Myrtle Beach
REFRESH-INTERVAL;VALUE=DURATION:PT1H
X-Robots-Tag:noindex
X-PUBLISHED-TTL:PT1H
BEGIN:VTIMEZONE
TZID:America/New_York
BEGIN:DAYLIGHT
TZOFFSETFROM:-0500
TZOFFSETTO:-0400
TZNAME:EDT
DTSTART:20240310T070000
END:DAYLIGHT
BEGIN:STANDARD
TZOFFSETFROM:-0400
TZOFFSETTO:-0500
TZNAME:EST
DTSTART:20241103T060000
END:STANDARD
BEGIN:DAYLIGHT
TZOFFSETFROM:-0500
TZOFFSETTO:-0400
TZNAME:EDT
DTSTART:20250309T070000
END:DAYLIGHT
BEGIN:STANDARD
TZOFFSETFROM:-0400
TZOFFSETTO:-0500
TZNAME:EST
DTSTART:20251102T060000
END:STANDARD
BEGIN:DAYLIGHT
TZOFFSETFROM:-0500
TZOFFSETTO:-0400
TZNAME:EDT
DTSTART:20260308T070000
END:DAYLIGHT
BEGIN:STANDARD
TZOFFSETFROM:-0400
TZOFFSETTO:-0500
TZNAME:EST
DTSTART:20261101T060000
END:STANDARD
END:VTIMEZONE
BEGIN:VEVENT
DTSTART;TZID=America/New_York:20251003T201000
DTEND;TZID=America/New_York:20251003T230000
DTSTAMP:20260424T091720
CREATED:20250219T143926Z
LAST-MODIFIED:20250219T143926Z
UID:10020077-1759522200-1759532400@marketcommonmb.com
SUMMARY:Smoke & Mirrors: Live Music at 810 Bowling
DESCRIPTION:Enjoy live music every Friday at 810 Bowling & Billiards. Friday\, October 3rd enjoy Smoke & Mirrors from 8:10 pm- 11:00 pm.
URL:https://marketcommonmb.com/event/smoke-mirrors-live-music-at-810-bowling-4-2/
LOCATION:810 Billiards & Bowling\, 1220 Moser Drive\, Myrtle Beach\, SC\, 29577\, United States
CATEGORIES:Dance,Drink Specials,Food Specials,Music Events,Social Events
ATTACH;FMTTYPE=image/png:https://marketcommonmb.com/wp-content/uploads/2025/01/810livemusic.png
END:VEVENT
BEGIN:VEVENT
DTSTART;TZID=America/New_York:20251007T193000
DTEND;TZID=America/New_York:20251007T203000
DTSTAMP:20260424T091720
CREATED:20250611T195550Z
LAST-MODIFIED:20250611T195550Z
UID:10023658-1759865400-1759869000@marketcommonmb.com
SUMMARY:Decked Out Divas Tour
DESCRIPTION:Fierce. Fabulous. Unforgettable. \nThe Decked Out Divas Drag Show Tour is hitting the streets in style! This double-decker drag show brings live performances\, games\, music\, and over-the-top fun to Myrtle Beach like never before. \nIt’s part bus\, part runway — and all sass. \n*Book Tickets online in advance. Please Note this tour is not managed by The Market Common. *
URL:https://marketcommonmb.com/event/decked-out-divas-tour/2025-10-07/
LOCATION:Grand 14 Theater\, 4002 DeVille Street\, Myrtle Beach\, SC\, 29577\, United States
CATEGORIES:Dance,Music Events,Social Events
ATTACH;FMTTYPE=image/png:https://marketcommonmb.com/wp-content/uploads/2025/06/divastour.png
END:VEVENT
BEGIN:VEVENT
DTSTART;TZID=America/New_York:20251010T201000
DTEND;TZID=America/New_York:20251010T230000
DTSTAMP:20260424T091720
CREATED:20250219T144043Z
LAST-MODIFIED:20250219T144057Z
UID:10020078-1760127000-1760137200@marketcommonmb.com
SUMMARY:Highway 17: Live Music at 810 Bowling
DESCRIPTION:Enjoy live music every Friday at 810 Bowling & Billiards. Friday\, October 10th enjoy Highway 17 from 8:10 pm- 11:00 pm.
URL:https://marketcommonmb.com/event/highway-17-live-music-at-810-bowling-4/
LOCATION:810 Billiards & Bowling\, 1220 Moser Drive\, Myrtle Beach\, SC\, 29577\, United States
CATEGORIES:Dance,Drink Specials,Food Specials,Music Events,Social Events
ATTACH;FMTTYPE=image/png:https://marketcommonmb.com/wp-content/uploads/2025/01/810livemusic.png
END:VEVENT
BEGIN:VEVENT
DTSTART;TZID=America/New_York:20251014T193000
DTEND;TZID=America/New_York:20251014T203000
DTSTAMP:20260424T091720
CREATED:20250611T195550Z
LAST-MODIFIED:20250611T195550Z
UID:10023659-1760470200-1760473800@marketcommonmb.com
SUMMARY:Decked Out Divas Tour
DESCRIPTION:Fierce. Fabulous. Unforgettable. \nThe Decked Out Divas Drag Show Tour is hitting the streets in style! This double-decker drag show brings live performances\, games\, music\, and over-the-top fun to Myrtle Beach like never before. \nIt’s part bus\, part runway — and all sass. \n*Book Tickets online in advance. Please Note this tour is not managed by The Market Common. *
URL:https://marketcommonmb.com/event/decked-out-divas-tour/2025-10-14/
LOCATION:Grand 14 Theater\, 4002 DeVille Street\, Myrtle Beach\, SC\, 29577\, United States
CATEGORIES:Dance,Music Events,Social Events
ATTACH;FMTTYPE=image/png:https://marketcommonmb.com/wp-content/uploads/2025/06/divastour.png
END:VEVENT
BEGIN:VEVENT
DTSTART;TZID=America/New_York:20251017T201000
DTEND;TZID=America/New_York:20251017T230000
DTSTAMP:20260424T091720
CREATED:20250219T144141Z
LAST-MODIFIED:20250219T144141Z
UID:10020079-1760731800-1760742000@marketcommonmb.com
SUMMARY:Julio & the Saltines: Live Music at 810 Bowling
DESCRIPTION:Enjoy live music every Friday at 810 Bowling & Billiards. Friday\, October 17th enjoy Julio & the Saltines from 8:10 pm- 11:00 pm.
URL:https://marketcommonmb.com/event/julio-the-saltines-live-music-at-810-bowling-4/
LOCATION:810 Billiards & Bowling\, 1220 Moser Drive\, Myrtle Beach\, SC\, 29577\, United States
CATEGORIES:Dance,Drink Specials,Food Specials,Music Events,Social Events
ATTACH;FMTTYPE=image/png:https://marketcommonmb.com/wp-content/uploads/2025/01/810livemusic.png
END:VEVENT
BEGIN:VEVENT
DTSTART;TZID=America/New_York:20251021T193000
DTEND;TZID=America/New_York:20251021T203000
DTSTAMP:20260424T091720
CREATED:20250611T195550Z
LAST-MODIFIED:20250611T195550Z
UID:10023660-1761075000-1761078600@marketcommonmb.com
SUMMARY:Decked Out Divas Tour
DESCRIPTION:Fierce. Fabulous. Unforgettable. \nThe Decked Out Divas Drag Show Tour is hitting the streets in style! This double-decker drag show brings live performances\, games\, music\, and over-the-top fun to Myrtle Beach like never before. \nIt’s part bus\, part runway — and all sass. \n*Book Tickets online in advance. Please Note this tour is not managed by The Market Common. *
URL:https://marketcommonmb.com/event/decked-out-divas-tour/2025-10-21/
LOCATION:Grand 14 Theater\, 4002 DeVille Street\, Myrtle Beach\, SC\, 29577\, United States
CATEGORIES:Dance,Music Events,Social Events
ATTACH;FMTTYPE=image/png:https://marketcommonmb.com/wp-content/uploads/2025/06/divastour.png
END:VEVENT
BEGIN:VEVENT
DTSTART;TZID=America/New_York:20251024T201000
DTEND;TZID=America/New_York:20251024T230000
DTSTAMP:20260424T091720
CREATED:20250219T144249Z
LAST-MODIFIED:20250219T144249Z
UID:10020080-1761336600-1761346800@marketcommonmb.com
SUMMARY:Chocolate Chip: Live Music at 810 Bowling
DESCRIPTION:Enjoy live music every Friday at 810 Bowling & Billiards. Friday\, October 24th enjoy Chocolate Chip from 8:10 pm- 11:00 pm.
URL:https://marketcommonmb.com/event/chocolate-chip-live-music-at-810-bowling-5/
LOCATION:810 Billiards & Bowling\, 1220 Moser Drive\, Myrtle Beach\, SC\, 29577\, United States
CATEGORIES:Dance,Drink Specials,Food Specials,Music Events,Social Events
ATTACH;FMTTYPE=image/png:https://marketcommonmb.com/wp-content/uploads/2025/01/810livemusic.png
END:VEVENT
BEGIN:VEVENT
DTSTART;TZID=America/New_York:20251028T193000
DTEND;TZID=America/New_York:20251028T203000
DTSTAMP:20260424T091720
CREATED:20250611T195550Z
LAST-MODIFIED:20250611T195550Z
UID:10023661-1761679800-1761683400@marketcommonmb.com
SUMMARY:Decked Out Divas Tour
DESCRIPTION:Fierce. Fabulous. Unforgettable. \nThe Decked Out Divas Drag Show Tour is hitting the streets in style! This double-decker drag show brings live performances\, games\, music\, and over-the-top fun to Myrtle Beach like never before. \nIt’s part bus\, part runway — and all sass. \n*Book Tickets online in advance. Please Note this tour is not managed by The Market Common. *
URL:https://marketcommonmb.com/event/decked-out-divas-tour/2025-10-28/
LOCATION:Grand 14 Theater\, 4002 DeVille Street\, Myrtle Beach\, SC\, 29577\, United States
CATEGORIES:Dance,Music Events,Social Events
ATTACH;FMTTYPE=image/png:https://marketcommonmb.com/wp-content/uploads/2025/06/divastour.png
END:VEVENT
BEGIN:VEVENT
DTSTART;TZID=America/New_York:20251031T201000
DTEND;TZID=America/New_York:20251031T230000
DTSTAMP:20260424T091720
CREATED:20250219T144416Z
LAST-MODIFIED:20250219T144416Z
UID:10020081-1761941400-1761951600@marketcommonmb.com
SUMMARY:Smoke & Mirrors: Live Music at 810 Bowling
DESCRIPTION:Enjoy live music every Friday at 810 Bowling & Billiards. Friday\, October 31st wear your best costume and enjoy Smoke & Mirrors from 8:10 pm- 11:00 pm.
URL:https://marketcommonmb.com/event/smoke-mirrors-live-music-at-810-bowling-5/
LOCATION:810 Billiards & Bowling\, 1220 Moser Drive\, Myrtle Beach\, SC\, 29577\, United States
CATEGORIES:Dance,Drink Specials,Food Specials,Music Events,Social Events
ATTACH;FMTTYPE=image/png:https://marketcommonmb.com/wp-content/uploads/2025/01/810livemusic.png
END:VEVENT
END:VCALENDAR