BEGIN:VCALENDAR
VERSION:2.0
PRODID:-//The Market Common Myrtle Beach - ECPv6.15.12.2//NONSGML v1.0//EN
CALSCALE:GREGORIAN
METHOD:PUBLISH
X-ORIGINAL-URL:https://marketcommonmb.com
X-WR-CALDESC:Events for The Market Common Myrtle Beach
REFRESH-INTERVAL;VALUE=DURATION:PT1H
X-Robots-Tag:noindex
X-PUBLISHED-TTL:PT1H
BEGIN:VTIMEZONE
TZID:America/New_York
BEGIN:DAYLIGHT
TZOFFSETFROM:-0500
TZOFFSETTO:-0400
TZNAME:EDT
DTSTART:20250309T070000
END:DAYLIGHT
BEGIN:STANDARD
TZOFFSETFROM:-0400
TZOFFSETTO:-0500
TZNAME:EST
DTSTART:20251102T060000
END:STANDARD
BEGIN:DAYLIGHT
TZOFFSETFROM:-0500
TZOFFSETTO:-0400
TZNAME:EDT
DTSTART:20260308T070000
END:DAYLIGHT
BEGIN:STANDARD
TZOFFSETFROM:-0400
TZOFFSETTO:-0500
TZNAME:EST
DTSTART:20261101T060000
END:STANDARD
BEGIN:DAYLIGHT
TZOFFSETFROM:-0500
TZOFFSETTO:-0400
TZNAME:EDT
DTSTART:20270314T070000
END:DAYLIGHT
BEGIN:STANDARD
TZOFFSETFROM:-0400
TZOFFSETTO:-0500
TZNAME:EST
DTSTART:20271107T060000
END:STANDARD
END:VTIMEZONE
BEGIN:VEVENT
DTSTART;TZID=America/New_York:20260925T201000
DTEND;TZID=America/New_York:20260925T231000
DTSTAMP:20260423T104840
CREATED:20260213T193028Z
LAST-MODIFIED:20260213T193156Z
UID:10026238-1790367000-1790377800@marketcommonmb.com
SUMMARY:Live Music @ 810 Entertainment
DESCRIPTION:Enjoy live music at 810 Entertainment every Friday starting at 8:10PM \n810’s Schedule of Events and Performers
URL:https://marketcommonmb.com/event/live-music-810-entertainment/2026-09-25/
LOCATION:810 Billiards & Bowling\, 1220 Moser Drive\, Myrtle Beach\, SC\, 29577\, United States
CATEGORIES:Dance,Music Events,Social Events
ATTACH;FMTTYPE=image/png:https://marketcommonmb.com/wp-content/uploads/2024/05/810.png
END:VEVENT
BEGIN:VEVENT
DTSTART;TZID=America/New_York:20260929T190000
DTEND;TZID=America/New_York:20260929T203000
DTSTAMP:20260423T104840
CREATED:20260129T173338Z
LAST-MODIFIED:20260129T173346Z
UID:10024802-1790708400-1790713800@marketcommonmb.com
SUMMARY:Line Dancing Lessons - Boots n Bikinis
DESCRIPTION:Mixed-Level Line Dance Lessons – Tuesdays at 7:00pm\nThis class is designed for ALL levels. Lessons start off easy and gradually become more challenging. We will be dancing to both new\, popular line dances and the classics.\nDancers will receive 20% off in-store purchases\n No partner needed High-energy\, fun atmosphere Perfect for beginners + experienced dancers Pricing: 15$/ Person  Sign up using the link below!Secure your spot\, lace up your boots\, and come dance with Boots n Bikinis!\nhttps://forms.gle/SvBGBHg2WeBLgiDH6
URL:https://marketcommonmb.com/event/line-dancing-lessons-boots-n-bikinis/2026-09-29/
LOCATION:Boots n Bikinis\, 3064 Howard Ave\, MYRTLE BEACH\, SC\, 29577-1640\, United States
CATEGORIES:Dance,Social Events
ATTACH;FMTTYPE=image/jpeg:https://marketcommonmb.com/wp-content/uploads/2026/01/boots-line-dancing.jpg
END:VEVENT
BEGIN:VEVENT
DTSTART;TZID=America/New_York:20260930T150000
DTEND;TZID=America/New_York:20260930T170000
DTSTAMP:20260423T104840
CREATED:20260226T141050Z
LAST-MODIFIED:20260316T155729Z
UID:10027146-1790780400-1790787600@marketcommonmb.com
SUMMARY:Line Dancing - 810 Entertainment
DESCRIPTION:Join 810 Entertainment for line dancing every Wednesday from  3PM – 5 PM
URL:https://marketcommonmb.com/event/line-dancing-810-entertainment/2026-09-30/
LOCATION:810 Billiards & Bowling\, 1220 Moser Drive\, Myrtle Beach\, SC\, 29577\, United States
CATEGORIES:Dance,Social Events
ATTACH;FMTTYPE=image/jpeg:https://marketcommonmb.com/wp-content/uploads/2026/02/istockphoto-1438967229-612x612-1.jpg
END:VEVENT
BEGIN:VEVENT
DTSTART;TZID=America/New_York:20261002T201000
DTEND;TZID=America/New_York:20261002T231000
DTSTAMP:20260423T104840
CREATED:20260213T193028Z
LAST-MODIFIED:20260213T193156Z
UID:10026239-1790971800-1790982600@marketcommonmb.com
SUMMARY:Live Music @ 810 Entertainment
DESCRIPTION:Enjoy live music at 810 Entertainment every Friday starting at 8:10PM \n810’s Schedule of Events and Performers
URL:https://marketcommonmb.com/event/live-music-810-entertainment/2026-10-02/
LOCATION:810 Billiards & Bowling\, 1220 Moser Drive\, Myrtle Beach\, SC\, 29577\, United States
CATEGORIES:Dance,Music Events,Social Events
ATTACH;FMTTYPE=image/png:https://marketcommonmb.com/wp-content/uploads/2024/05/810.png
END:VEVENT
BEGIN:VEVENT
DTSTART;TZID=America/New_York:20261006T190000
DTEND;TZID=America/New_York:20261006T203000
DTSTAMP:20260423T104840
CREATED:20260129T173338Z
LAST-MODIFIED:20260129T173346Z
UID:10024803-1791313200-1791318600@marketcommonmb.com
SUMMARY:Line Dancing Lessons - Boots n Bikinis
DESCRIPTION:Mixed-Level Line Dance Lessons – Tuesdays at 7:00pm\nThis class is designed for ALL levels. Lessons start off easy and gradually become more challenging. We will be dancing to both new\, popular line dances and the classics.\nDancers will receive 20% off in-store purchases\n No partner needed High-energy\, fun atmosphere Perfect for beginners + experienced dancers Pricing: 15$/ Person  Sign up using the link below!Secure your spot\, lace up your boots\, and come dance with Boots n Bikinis!\nhttps://forms.gle/SvBGBHg2WeBLgiDH6
URL:https://marketcommonmb.com/event/line-dancing-lessons-boots-n-bikinis/2026-10-06/
LOCATION:Boots n Bikinis\, 3064 Howard Ave\, MYRTLE BEACH\, SC\, 29577-1640\, United States
CATEGORIES:Dance,Social Events
ATTACH;FMTTYPE=image/jpeg:https://marketcommonmb.com/wp-content/uploads/2026/01/boots-line-dancing.jpg
END:VEVENT
BEGIN:VEVENT
DTSTART;TZID=America/New_York:20261007T150000
DTEND;TZID=America/New_York:20261007T170000
DTSTAMP:20260423T104840
CREATED:20260226T141050Z
LAST-MODIFIED:20260316T155729Z
UID:10027147-1791385200-1791392400@marketcommonmb.com
SUMMARY:Line Dancing - 810 Entertainment
DESCRIPTION:Join 810 Entertainment for line dancing every Wednesday from  3PM – 5 PM
URL:https://marketcommonmb.com/event/line-dancing-810-entertainment/2026-10-07/
LOCATION:810 Billiards & Bowling\, 1220 Moser Drive\, Myrtle Beach\, SC\, 29577\, United States
CATEGORIES:Dance,Social Events
ATTACH;FMTTYPE=image/jpeg:https://marketcommonmb.com/wp-content/uploads/2026/02/istockphoto-1438967229-612x612-1.jpg
END:VEVENT
BEGIN:VEVENT
DTSTART;TZID=America/New_York:20261009T201000
DTEND;TZID=America/New_York:20261009T231000
DTSTAMP:20260423T104840
CREATED:20260213T193028Z
LAST-MODIFIED:20260213T193156Z
UID:10026240-1791576600-1791587400@marketcommonmb.com
SUMMARY:Live Music @ 810 Entertainment
DESCRIPTION:Enjoy live music at 810 Entertainment every Friday starting at 8:10PM \n810’s Schedule of Events and Performers
URL:https://marketcommonmb.com/event/live-music-810-entertainment/2026-10-09/
LOCATION:810 Billiards & Bowling\, 1220 Moser Drive\, Myrtle Beach\, SC\, 29577\, United States
CATEGORIES:Dance,Music Events,Social Events
ATTACH;FMTTYPE=image/png:https://marketcommonmb.com/wp-content/uploads/2024/05/810.png
END:VEVENT
BEGIN:VEVENT
DTSTART;TZID=America/New_York:20261013T190000
DTEND;TZID=America/New_York:20261013T203000
DTSTAMP:20260423T104840
CREATED:20260129T173338Z
LAST-MODIFIED:20260129T173346Z
UID:10024804-1791918000-1791923400@marketcommonmb.com
SUMMARY:Line Dancing Lessons - Boots n Bikinis
DESCRIPTION:Mixed-Level Line Dance Lessons – Tuesdays at 7:00pm\nThis class is designed for ALL levels. Lessons start off easy and gradually become more challenging. We will be dancing to both new\, popular line dances and the classics.\nDancers will receive 20% off in-store purchases\n No partner needed High-energy\, fun atmosphere Perfect for beginners + experienced dancers Pricing: 15$/ Person  Sign up using the link below!Secure your spot\, lace up your boots\, and come dance with Boots n Bikinis!\nhttps://forms.gle/SvBGBHg2WeBLgiDH6
URL:https://marketcommonmb.com/event/line-dancing-lessons-boots-n-bikinis/2026-10-13/
LOCATION:Boots n Bikinis\, 3064 Howard Ave\, MYRTLE BEACH\, SC\, 29577-1640\, United States
CATEGORIES:Dance,Social Events
ATTACH;FMTTYPE=image/jpeg:https://marketcommonmb.com/wp-content/uploads/2026/01/boots-line-dancing.jpg
END:VEVENT
BEGIN:VEVENT
DTSTART;TZID=America/New_York:20261014T150000
DTEND;TZID=America/New_York:20261014T170000
DTSTAMP:20260423T104840
CREATED:20260226T141050Z
LAST-MODIFIED:20260316T155729Z
UID:10027148-1791990000-1791997200@marketcommonmb.com
SUMMARY:Line Dancing - 810 Entertainment
DESCRIPTION:Join 810 Entertainment for line dancing every Wednesday from  3PM – 5 PM
URL:https://marketcommonmb.com/event/line-dancing-810-entertainment/2026-10-14/
LOCATION:810 Billiards & Bowling\, 1220 Moser Drive\, Myrtle Beach\, SC\, 29577\, United States
CATEGORIES:Dance,Social Events
ATTACH;FMTTYPE=image/jpeg:https://marketcommonmb.com/wp-content/uploads/2026/02/istockphoto-1438967229-612x612-1.jpg
END:VEVENT
BEGIN:VEVENT
DTSTART;TZID=America/New_York:20261016T201000
DTEND;TZID=America/New_York:20261016T231000
DTSTAMP:20260423T104840
CREATED:20260213T193028Z
LAST-MODIFIED:20260213T193156Z
UID:10026241-1792181400-1792192200@marketcommonmb.com
SUMMARY:Live Music @ 810 Entertainment
DESCRIPTION:Enjoy live music at 810 Entertainment every Friday starting at 8:10PM \n810’s Schedule of Events and Performers
URL:https://marketcommonmb.com/event/live-music-810-entertainment/2026-10-16/
LOCATION:810 Billiards & Bowling\, 1220 Moser Drive\, Myrtle Beach\, SC\, 29577\, United States
CATEGORIES:Dance,Music Events,Social Events
ATTACH;FMTTYPE=image/png:https://marketcommonmb.com/wp-content/uploads/2024/05/810.png
END:VEVENT
BEGIN:VEVENT
DTSTART;TZID=America/New_York:20261020T190000
DTEND;TZID=America/New_York:20261020T203000
DTSTAMP:20260423T104840
CREATED:20260129T173338Z
LAST-MODIFIED:20260129T173346Z
UID:10024805-1792522800-1792528200@marketcommonmb.com
SUMMARY:Line Dancing Lessons - Boots n Bikinis
DESCRIPTION:Mixed-Level Line Dance Lessons – Tuesdays at 7:00pm\nThis class is designed for ALL levels. Lessons start off easy and gradually become more challenging. We will be dancing to both new\, popular line dances and the classics.\nDancers will receive 20% off in-store purchases\n No partner needed High-energy\, fun atmosphere Perfect for beginners + experienced dancers Pricing: 15$/ Person  Sign up using the link below!Secure your spot\, lace up your boots\, and come dance with Boots n Bikinis!\nhttps://forms.gle/SvBGBHg2WeBLgiDH6
URL:https://marketcommonmb.com/event/line-dancing-lessons-boots-n-bikinis/2026-10-20/
LOCATION:Boots n Bikinis\, 3064 Howard Ave\, MYRTLE BEACH\, SC\, 29577-1640\, United States
CATEGORIES:Dance,Social Events
ATTACH;FMTTYPE=image/jpeg:https://marketcommonmb.com/wp-content/uploads/2026/01/boots-line-dancing.jpg
END:VEVENT
BEGIN:VEVENT
DTSTART;TZID=America/New_York:20261021T150000
DTEND;TZID=America/New_York:20261021T170000
DTSTAMP:20260423T104840
CREATED:20260226T141050Z
LAST-MODIFIED:20260316T155729Z
UID:10027149-1792594800-1792602000@marketcommonmb.com
SUMMARY:Line Dancing - 810 Entertainment
DESCRIPTION:Join 810 Entertainment for line dancing every Wednesday from  3PM – 5 PM
URL:https://marketcommonmb.com/event/line-dancing-810-entertainment/2026-10-21/
LOCATION:810 Billiards & Bowling\, 1220 Moser Drive\, Myrtle Beach\, SC\, 29577\, United States
CATEGORIES:Dance,Social Events
ATTACH;FMTTYPE=image/jpeg:https://marketcommonmb.com/wp-content/uploads/2026/02/istockphoto-1438967229-612x612-1.jpg
END:VEVENT
BEGIN:VEVENT
DTSTART;TZID=America/New_York:20261023T201000
DTEND;TZID=America/New_York:20261023T231000
DTSTAMP:20260423T104840
CREATED:20260213T193028Z
LAST-MODIFIED:20260213T193156Z
UID:10026242-1792786200-1792797000@marketcommonmb.com
SUMMARY:Live Music @ 810 Entertainment
DESCRIPTION:Enjoy live music at 810 Entertainment every Friday starting at 8:10PM \n810’s Schedule of Events and Performers
URL:https://marketcommonmb.com/event/live-music-810-entertainment/2026-10-23/
LOCATION:810 Billiards & Bowling\, 1220 Moser Drive\, Myrtle Beach\, SC\, 29577\, United States
CATEGORIES:Dance,Music Events,Social Events
ATTACH;FMTTYPE=image/png:https://marketcommonmb.com/wp-content/uploads/2024/05/810.png
END:VEVENT
BEGIN:VEVENT
DTSTART;TZID=America/New_York:20261027T190000
DTEND;TZID=America/New_York:20261027T203000
DTSTAMP:20260423T104840
CREATED:20260129T173338Z
LAST-MODIFIED:20260129T173346Z
UID:10024806-1793127600-1793133000@marketcommonmb.com
SUMMARY:Line Dancing Lessons - Boots n Bikinis
DESCRIPTION:Mixed-Level Line Dance Lessons – Tuesdays at 7:00pm\nThis class is designed for ALL levels. Lessons start off easy and gradually become more challenging. We will be dancing to both new\, popular line dances and the classics.\nDancers will receive 20% off in-store purchases\n No partner needed High-energy\, fun atmosphere Perfect for beginners + experienced dancers Pricing: 15$/ Person  Sign up using the link below!Secure your spot\, lace up your boots\, and come dance with Boots n Bikinis!\nhttps://forms.gle/SvBGBHg2WeBLgiDH6
URL:https://marketcommonmb.com/event/line-dancing-lessons-boots-n-bikinis/2026-10-27/
LOCATION:Boots n Bikinis\, 3064 Howard Ave\, MYRTLE BEACH\, SC\, 29577-1640\, United States
CATEGORIES:Dance,Social Events
ATTACH;FMTTYPE=image/jpeg:https://marketcommonmb.com/wp-content/uploads/2026/01/boots-line-dancing.jpg
END:VEVENT
BEGIN:VEVENT
DTSTART;TZID=America/New_York:20261028T150000
DTEND;TZID=America/New_York:20261028T170000
DTSTAMP:20260423T104840
CREATED:20260226T141050Z
LAST-MODIFIED:20260316T155729Z
UID:10027150-1793199600-1793206800@marketcommonmb.com
SUMMARY:Line Dancing - 810 Entertainment
DESCRIPTION:Join 810 Entertainment for line dancing every Wednesday from  3PM – 5 PM
URL:https://marketcommonmb.com/event/line-dancing-810-entertainment/2026-10-28/
LOCATION:810 Billiards & Bowling\, 1220 Moser Drive\, Myrtle Beach\, SC\, 29577\, United States
CATEGORIES:Dance,Social Events
ATTACH;FMTTYPE=image/jpeg:https://marketcommonmb.com/wp-content/uploads/2026/02/istockphoto-1438967229-612x612-1.jpg
END:VEVENT
BEGIN:VEVENT
DTSTART;TZID=America/New_York:20261030T160000
DTEND;TZID=America/New_York:20261030T190000
DTSTAMP:20260423T104840
CREATED:20260203T140352Z
LAST-MODIFIED:20260203T140352Z
UID:10025883-1793376000-1793386800@marketcommonmb.com
SUMMARY:Live Music with Jason Owens - Gordon Biersch
DESCRIPTION:Enjoy live music with Jason Owens on the last Friday of every month at Gordon Biersch Brewery.
URL:https://marketcommonmb.com/event/live-music-with-jason-owens-gordon-biersch/2026-10-30/
LOCATION:Gordon Biersch Brewery\, 3060 Howard Avenue\, Myrtle Beach\, 29577\, United States
CATEGORIES:Dance,Music Events,Social Events
ATTACH;FMTTYPE=image/png:https://marketcommonmb.com/wp-content/uploads/2026/02/Screenshot-2026-02-03-090219.png
END:VEVENT
BEGIN:VEVENT
DTSTART;TZID=America/New_York:20261030T201000
DTEND;TZID=America/New_York:20261030T231000
DTSTAMP:20260423T104840
CREATED:20260213T193028Z
LAST-MODIFIED:20260213T193156Z
UID:10026243-1793391000-1793401800@marketcommonmb.com
SUMMARY:Live Music @ 810 Entertainment
DESCRIPTION:Enjoy live music at 810 Entertainment every Friday starting at 8:10PM \n810’s Schedule of Events and Performers
URL:https://marketcommonmb.com/event/live-music-810-entertainment/2026-10-30/
LOCATION:810 Billiards & Bowling\, 1220 Moser Drive\, Myrtle Beach\, SC\, 29577\, United States
CATEGORIES:Dance,Music Events,Social Events
ATTACH;FMTTYPE=image/png:https://marketcommonmb.com/wp-content/uploads/2024/05/810.png
END:VEVENT
BEGIN:VEVENT
DTSTART;TZID=America/New_York:20261103T190000
DTEND;TZID=America/New_York:20261103T203000
DTSTAMP:20260423T104840
CREATED:20260129T173338Z
LAST-MODIFIED:20260129T173346Z
UID:10024807-1793732400-1793737800@marketcommonmb.com
SUMMARY:Line Dancing Lessons - Boots n Bikinis
DESCRIPTION:Mixed-Level Line Dance Lessons – Tuesdays at 7:00pm\nThis class is designed for ALL levels. Lessons start off easy and gradually become more challenging. We will be dancing to both new\, popular line dances and the classics.\nDancers will receive 20% off in-store purchases\n No partner needed High-energy\, fun atmosphere Perfect for beginners + experienced dancers Pricing: 15$/ Person  Sign up using the link below!Secure your spot\, lace up your boots\, and come dance with Boots n Bikinis!\nhttps://forms.gle/SvBGBHg2WeBLgiDH6
URL:https://marketcommonmb.com/event/line-dancing-lessons-boots-n-bikinis/2026-11-03/
LOCATION:Boots n Bikinis\, 3064 Howard Ave\, MYRTLE BEACH\, SC\, 29577-1640\, United States
CATEGORIES:Dance,Social Events
ATTACH;FMTTYPE=image/jpeg:https://marketcommonmb.com/wp-content/uploads/2026/01/boots-line-dancing.jpg
END:VEVENT
BEGIN:VEVENT
DTSTART;TZID=America/New_York:20261104T150000
DTEND;TZID=America/New_York:20261104T170000
DTSTAMP:20260423T104840
CREATED:20260226T141050Z
LAST-MODIFIED:20260316T155729Z
UID:10027151-1793804400-1793811600@marketcommonmb.com
SUMMARY:Line Dancing - 810 Entertainment
DESCRIPTION:Join 810 Entertainment for line dancing every Wednesday from  3PM – 5 PM
URL:https://marketcommonmb.com/event/line-dancing-810-entertainment/2026-11-04/
LOCATION:810 Billiards & Bowling\, 1220 Moser Drive\, Myrtle Beach\, SC\, 29577\, United States
CATEGORIES:Dance,Social Events
ATTACH;FMTTYPE=image/jpeg:https://marketcommonmb.com/wp-content/uploads/2026/02/istockphoto-1438967229-612x612-1.jpg
END:VEVENT
BEGIN:VEVENT
DTSTART;TZID=America/New_York:20261106T201000
DTEND;TZID=America/New_York:20261106T231000
DTSTAMP:20260423T104840
CREATED:20260213T193028Z
LAST-MODIFIED:20260213T193156Z
UID:10026244-1793995800-1794006600@marketcommonmb.com
SUMMARY:Live Music @ 810 Entertainment
DESCRIPTION:Enjoy live music at 810 Entertainment every Friday starting at 8:10PM \n810’s Schedule of Events and Performers
URL:https://marketcommonmb.com/event/live-music-810-entertainment/2026-11-06/
LOCATION:810 Billiards & Bowling\, 1220 Moser Drive\, Myrtle Beach\, SC\, 29577\, United States
CATEGORIES:Dance,Music Events,Social Events
ATTACH;FMTTYPE=image/png:https://marketcommonmb.com/wp-content/uploads/2024/05/810.png
END:VEVENT
BEGIN:VEVENT
DTSTART;TZID=America/New_York:20261110T190000
DTEND;TZID=America/New_York:20261110T203000
DTSTAMP:20260423T104840
CREATED:20260129T173338Z
LAST-MODIFIED:20260129T173346Z
UID:10024808-1794337200-1794342600@marketcommonmb.com
SUMMARY:Line Dancing Lessons - Boots n Bikinis
DESCRIPTION:Mixed-Level Line Dance Lessons – Tuesdays at 7:00pm\nThis class is designed for ALL levels. Lessons start off easy and gradually become more challenging. We will be dancing to both new\, popular line dances and the classics.\nDancers will receive 20% off in-store purchases\n No partner needed High-energy\, fun atmosphere Perfect for beginners + experienced dancers Pricing: 15$/ Person  Sign up using the link below!Secure your spot\, lace up your boots\, and come dance with Boots n Bikinis!\nhttps://forms.gle/SvBGBHg2WeBLgiDH6
URL:https://marketcommonmb.com/event/line-dancing-lessons-boots-n-bikinis/2026-11-10/
LOCATION:Boots n Bikinis\, 3064 Howard Ave\, MYRTLE BEACH\, SC\, 29577-1640\, United States
CATEGORIES:Dance,Social Events
ATTACH;FMTTYPE=image/jpeg:https://marketcommonmb.com/wp-content/uploads/2026/01/boots-line-dancing.jpg
END:VEVENT
BEGIN:VEVENT
DTSTART;TZID=America/New_York:20261111T150000
DTEND;TZID=America/New_York:20261111T170000
DTSTAMP:20260423T104840
CREATED:20260226T141050Z
LAST-MODIFIED:20260316T155729Z
UID:10027152-1794409200-1794416400@marketcommonmb.com
SUMMARY:Line Dancing - 810 Entertainment
DESCRIPTION:Join 810 Entertainment for line dancing every Wednesday from  3PM – 5 PM
URL:https://marketcommonmb.com/event/line-dancing-810-entertainment/2026-11-11/
LOCATION:810 Billiards & Bowling\, 1220 Moser Drive\, Myrtle Beach\, SC\, 29577\, United States
CATEGORIES:Dance,Social Events
ATTACH;FMTTYPE=image/jpeg:https://marketcommonmb.com/wp-content/uploads/2026/02/istockphoto-1438967229-612x612-1.jpg
END:VEVENT
BEGIN:VEVENT
DTSTART;TZID=America/New_York:20261113T201000
DTEND;TZID=America/New_York:20261113T231000
DTSTAMP:20260423T104840
CREATED:20260213T193028Z
LAST-MODIFIED:20260213T193156Z
UID:10026245-1794600600-1794611400@marketcommonmb.com
SUMMARY:Live Music @ 810 Entertainment
DESCRIPTION:Enjoy live music at 810 Entertainment every Friday starting at 8:10PM \n810’s Schedule of Events and Performers
URL:https://marketcommonmb.com/event/live-music-810-entertainment/2026-11-13/
LOCATION:810 Billiards & Bowling\, 1220 Moser Drive\, Myrtle Beach\, SC\, 29577\, United States
CATEGORIES:Dance,Music Events,Social Events
ATTACH;FMTTYPE=image/png:https://marketcommonmb.com/wp-content/uploads/2024/05/810.png
END:VEVENT
BEGIN:VEVENT
DTSTART;TZID=America/New_York:20261117T190000
DTEND;TZID=America/New_York:20261117T203000
DTSTAMP:20260423T104840
CREATED:20260129T173338Z
LAST-MODIFIED:20260129T173346Z
UID:10024809-1794942000-1794947400@marketcommonmb.com
SUMMARY:Line Dancing Lessons - Boots n Bikinis
DESCRIPTION:Mixed-Level Line Dance Lessons – Tuesdays at 7:00pm\nThis class is designed for ALL levels. Lessons start off easy and gradually become more challenging. We will be dancing to both new\, popular line dances and the classics.\nDancers will receive 20% off in-store purchases\n No partner needed High-energy\, fun atmosphere Perfect for beginners + experienced dancers Pricing: 15$/ Person  Sign up using the link below!Secure your spot\, lace up your boots\, and come dance with Boots n Bikinis!\nhttps://forms.gle/SvBGBHg2WeBLgiDH6
URL:https://marketcommonmb.com/event/line-dancing-lessons-boots-n-bikinis/2026-11-17/
LOCATION:Boots n Bikinis\, 3064 Howard Ave\, MYRTLE BEACH\, SC\, 29577-1640\, United States
CATEGORIES:Dance,Social Events
ATTACH;FMTTYPE=image/jpeg:https://marketcommonmb.com/wp-content/uploads/2026/01/boots-line-dancing.jpg
END:VEVENT
BEGIN:VEVENT
DTSTART;TZID=America/New_York:20261118T150000
DTEND;TZID=America/New_York:20261118T170000
DTSTAMP:20260423T104840
CREATED:20260226T141050Z
LAST-MODIFIED:20260316T155729Z
UID:10027153-1795014000-1795021200@marketcommonmb.com
SUMMARY:Line Dancing - 810 Entertainment
DESCRIPTION:Join 810 Entertainment for line dancing every Wednesday from  3PM – 5 PM
URL:https://marketcommonmb.com/event/line-dancing-810-entertainment/2026-11-18/
LOCATION:810 Billiards & Bowling\, 1220 Moser Drive\, Myrtle Beach\, SC\, 29577\, United States
CATEGORIES:Dance,Social Events
ATTACH;FMTTYPE=image/jpeg:https://marketcommonmb.com/wp-content/uploads/2026/02/istockphoto-1438967229-612x612-1.jpg
END:VEVENT
BEGIN:VEVENT
DTSTART;TZID=America/New_York:20261120T201000
DTEND;TZID=America/New_York:20261120T231000
DTSTAMP:20260423T104840
CREATED:20260213T193028Z
LAST-MODIFIED:20260213T193156Z
UID:10026246-1795205400-1795216200@marketcommonmb.com
SUMMARY:Live Music @ 810 Entertainment
DESCRIPTION:Enjoy live music at 810 Entertainment every Friday starting at 8:10PM \n810’s Schedule of Events and Performers
URL:https://marketcommonmb.com/event/live-music-810-entertainment/2026-11-20/
LOCATION:810 Billiards & Bowling\, 1220 Moser Drive\, Myrtle Beach\, SC\, 29577\, United States
CATEGORIES:Dance,Music Events,Social Events
ATTACH;FMTTYPE=image/png:https://marketcommonmb.com/wp-content/uploads/2024/05/810.png
END:VEVENT
BEGIN:VEVENT
DTSTART;TZID=America/New_York:20261124T190000
DTEND;TZID=America/New_York:20261124T203000
DTSTAMP:20260423T104840
CREATED:20260129T173338Z
LAST-MODIFIED:20260129T173346Z
UID:10024810-1795546800-1795552200@marketcommonmb.com
SUMMARY:Line Dancing Lessons - Boots n Bikinis
DESCRIPTION:Mixed-Level Line Dance Lessons – Tuesdays at 7:00pm\nThis class is designed for ALL levels. Lessons start off easy and gradually become more challenging. We will be dancing to both new\, popular line dances and the classics.\nDancers will receive 20% off in-store purchases\n No partner needed High-energy\, fun atmosphere Perfect for beginners + experienced dancers Pricing: 15$/ Person  Sign up using the link below!Secure your spot\, lace up your boots\, and come dance with Boots n Bikinis!\nhttps://forms.gle/SvBGBHg2WeBLgiDH6
URL:https://marketcommonmb.com/event/line-dancing-lessons-boots-n-bikinis/2026-11-24/
LOCATION:Boots n Bikinis\, 3064 Howard Ave\, MYRTLE BEACH\, SC\, 29577-1640\, United States
CATEGORIES:Dance,Social Events
ATTACH;FMTTYPE=image/jpeg:https://marketcommonmb.com/wp-content/uploads/2026/01/boots-line-dancing.jpg
END:VEVENT
BEGIN:VEVENT
DTSTART;TZID=America/New_York:20261125T150000
DTEND;TZID=America/New_York:20261125T170000
DTSTAMP:20260423T104840
CREATED:20260226T141050Z
LAST-MODIFIED:20260316T155729Z
UID:10027154-1795618800-1795626000@marketcommonmb.com
SUMMARY:Line Dancing - 810 Entertainment
DESCRIPTION:Join 810 Entertainment for line dancing every Wednesday from  3PM – 5 PM
URL:https://marketcommonmb.com/event/line-dancing-810-entertainment/2026-11-25/
LOCATION:810 Billiards & Bowling\, 1220 Moser Drive\, Myrtle Beach\, SC\, 29577\, United States
CATEGORIES:Dance,Social Events
ATTACH;FMTTYPE=image/jpeg:https://marketcommonmb.com/wp-content/uploads/2026/02/istockphoto-1438967229-612x612-1.jpg
END:VEVENT
BEGIN:VEVENT
DTSTART;TZID=America/New_York:20261127T160000
DTEND;TZID=America/New_York:20261127T190000
DTSTAMP:20260423T104840
CREATED:20260203T140352Z
LAST-MODIFIED:20260203T140352Z
UID:10025884-1795795200-1795806000@marketcommonmb.com
SUMMARY:Live Music with Jason Owens - Gordon Biersch
DESCRIPTION:Enjoy live music with Jason Owens on the last Friday of every month at Gordon Biersch Brewery.
URL:https://marketcommonmb.com/event/live-music-with-jason-owens-gordon-biersch/2026-11-27/
LOCATION:Gordon Biersch Brewery\, 3060 Howard Avenue\, Myrtle Beach\, 29577\, United States
CATEGORIES:Dance,Music Events,Social Events
ATTACH;FMTTYPE=image/png:https://marketcommonmb.com/wp-content/uploads/2026/02/Screenshot-2026-02-03-090219.png
END:VEVENT
BEGIN:VEVENT
DTSTART;TZID=America/New_York:20261127T201000
DTEND;TZID=America/New_York:20261127T231000
DTSTAMP:20260423T104840
CREATED:20260213T193028Z
LAST-MODIFIED:20260213T193156Z
UID:10026247-1795810200-1795821000@marketcommonmb.com
SUMMARY:Live Music @ 810 Entertainment
DESCRIPTION:Enjoy live music at 810 Entertainment every Friday starting at 8:10PM \n810’s Schedule of Events and Performers
URL:https://marketcommonmb.com/event/live-music-810-entertainment/2026-11-27/
LOCATION:810 Billiards & Bowling\, 1220 Moser Drive\, Myrtle Beach\, SC\, 29577\, United States
CATEGORIES:Dance,Music Events,Social Events
ATTACH;FMTTYPE=image/png:https://marketcommonmb.com/wp-content/uploads/2024/05/810.png
END:VEVENT
END:VCALENDAR