BEGIN:VCALENDAR
VERSION:2.0
PRODID:-//The Market Common Myrtle Beach - ECPv6.15.12.2//NONSGML v1.0//EN
CALSCALE:GREGORIAN
METHOD:PUBLISH
X-WR-CALNAME:The Market Common Myrtle Beach
X-ORIGINAL-URL:https://marketcommonmb.com
X-WR-CALDESC:Events for The Market Common Myrtle Beach
REFRESH-INTERVAL;VALUE=DURATION:PT1H
X-Robots-Tag:noindex
X-PUBLISHED-TTL:PT1H
BEGIN:VTIMEZONE
TZID:America/New_York
BEGIN:DAYLIGHT
TZOFFSETFROM:-0500
TZOFFSETTO:-0400
TZNAME:EDT
DTSTART:20250309T070000
END:DAYLIGHT
BEGIN:STANDARD
TZOFFSETFROM:-0400
TZOFFSETTO:-0500
TZNAME:EST
DTSTART:20251102T060000
END:STANDARD
BEGIN:DAYLIGHT
TZOFFSETFROM:-0500
TZOFFSETTO:-0400
TZNAME:EDT
DTSTART:20260308T070000
END:DAYLIGHT
BEGIN:STANDARD
TZOFFSETFROM:-0400
TZOFFSETTO:-0500
TZNAME:EST
DTSTART:20261101T060000
END:STANDARD
BEGIN:DAYLIGHT
TZOFFSETFROM:-0500
TZOFFSETTO:-0400
TZNAME:EDT
DTSTART:20270314T070000
END:DAYLIGHT
BEGIN:STANDARD
TZOFFSETFROM:-0400
TZOFFSETTO:-0500
TZNAME:EST
DTSTART:20271107T060000
END:STANDARD
BEGIN:DAYLIGHT
TZOFFSETFROM:-0500
TZOFFSETTO:-0400
TZNAME:EDT
DTSTART:20280312T070000
END:DAYLIGHT
BEGIN:STANDARD
TZOFFSETFROM:-0400
TZOFFSETTO:-0500
TZNAME:EST
DTSTART:20281105T060000
END:STANDARD
END:VTIMEZONE
BEGIN:VEVENT
DTSTART;TZID=America/New_York:20261120T201000
DTEND;TZID=America/New_York:20261120T231000
DTSTAMP:20260423T073909
CREATED:20260213T193028Z
LAST-MODIFIED:20260213T193156Z
UID:10026246-1795205400-1795216200@marketcommonmb.com
SUMMARY:Live Music @ 810 Entertainment
DESCRIPTION:Enjoy live music at 810 Entertainment every Friday starting at 8:10PM \n810’s Schedule of Events and Performers
URL:https://marketcommonmb.com/event/live-music-810-entertainment/2026-11-20/
LOCATION:810 Billiards & Bowling\, 1220 Moser Drive\, Myrtle Beach\, SC\, 29577\, United States
CATEGORIES:Dance,Music Events,Social Events
ATTACH;FMTTYPE=image/png:https://marketcommonmb.com/wp-content/uploads/2024/05/810.png
END:VEVENT
BEGIN:VEVENT
DTSTART;TZID=America/New_York:20261124T190000
DTEND;TZID=America/New_York:20261124T203000
DTSTAMP:20260423T073909
CREATED:20260129T173338Z
LAST-MODIFIED:20260129T173346Z
UID:10024810-1795546800-1795552200@marketcommonmb.com
SUMMARY:Line Dancing Lessons - Boots n Bikinis
DESCRIPTION:Mixed-Level Line Dance Lessons – Tuesdays at 7:00pm\nThis class is designed for ALL levels. Lessons start off easy and gradually become more challenging. We will be dancing to both new\, popular line dances and the classics.\nDancers will receive 20% off in-store purchases\n No partner needed High-energy\, fun atmosphere Perfect for beginners + experienced dancers Pricing: 15$/ Person  Sign up using the link below!Secure your spot\, lace up your boots\, and come dance with Boots n Bikinis!\nhttps://forms.gle/SvBGBHg2WeBLgiDH6
URL:https://marketcommonmb.com/event/line-dancing-lessons-boots-n-bikinis/2026-11-24/
LOCATION:Boots n Bikinis\, 3064 Howard Ave\, MYRTLE BEACH\, SC\, 29577-1640\, United States
CATEGORIES:Dance,Social Events
ATTACH;FMTTYPE=image/jpeg:https://marketcommonmb.com/wp-content/uploads/2026/01/boots-line-dancing.jpg
END:VEVENT
BEGIN:VEVENT
DTSTART;TZID=America/New_York:20261125T150000
DTEND;TZID=America/New_York:20261125T170000
DTSTAMP:20260423T073909
CREATED:20260226T141050Z
LAST-MODIFIED:20260316T155729Z
UID:10027154-1795618800-1795626000@marketcommonmb.com
SUMMARY:Line Dancing - 810 Entertainment
DESCRIPTION:Join 810 Entertainment for line dancing every Wednesday from  3PM – 5 PM
URL:https://marketcommonmb.com/event/line-dancing-810-entertainment/2026-11-25/
LOCATION:810 Billiards & Bowling\, 1220 Moser Drive\, Myrtle Beach\, SC\, 29577\, United States
CATEGORIES:Dance,Social Events
ATTACH;FMTTYPE=image/jpeg:https://marketcommonmb.com/wp-content/uploads/2026/02/istockphoto-1438967229-612x612-1.jpg
END:VEVENT
BEGIN:VEVENT
DTSTART;TZID=America/New_York:20261127T160000
DTEND;TZID=America/New_York:20261127T190000
DTSTAMP:20260423T073909
CREATED:20260203T140352Z
LAST-MODIFIED:20260203T140352Z
UID:10025884-1795795200-1795806000@marketcommonmb.com
SUMMARY:Live Music with Jason Owens - Gordon Biersch
DESCRIPTION:Enjoy live music with Jason Owens on the last Friday of every month at Gordon Biersch Brewery.
URL:https://marketcommonmb.com/event/live-music-with-jason-owens-gordon-biersch/2026-11-27/
LOCATION:Gordon Biersch Brewery\, 3060 Howard Avenue\, Myrtle Beach\, 29577\, United States
CATEGORIES:Dance,Music Events,Social Events
ATTACH;FMTTYPE=image/png:https://marketcommonmb.com/wp-content/uploads/2026/02/Screenshot-2026-02-03-090219.png
END:VEVENT
BEGIN:VEVENT
DTSTART;TZID=America/New_York:20261127T201000
DTEND;TZID=America/New_York:20261127T231000
DTSTAMP:20260423T073909
CREATED:20260213T193028Z
LAST-MODIFIED:20260213T193156Z
UID:10026247-1795810200-1795821000@marketcommonmb.com
SUMMARY:Live Music @ 810 Entertainment
DESCRIPTION:Enjoy live music at 810 Entertainment every Friday starting at 8:10PM \n810’s Schedule of Events and Performers
URL:https://marketcommonmb.com/event/live-music-810-entertainment/2026-11-27/
LOCATION:810 Billiards & Bowling\, 1220 Moser Drive\, Myrtle Beach\, SC\, 29577\, United States
CATEGORIES:Dance,Music Events,Social Events
ATTACH;FMTTYPE=image/png:https://marketcommonmb.com/wp-content/uploads/2024/05/810.png
END:VEVENT
BEGIN:VEVENT
DTSTART;TZID=America/New_York:20261201T190000
DTEND;TZID=America/New_York:20261201T203000
DTSTAMP:20260423T073909
CREATED:20260129T173338Z
LAST-MODIFIED:20260129T173346Z
UID:10024811-1796151600-1796157000@marketcommonmb.com
SUMMARY:Line Dancing Lessons - Boots n Bikinis
DESCRIPTION:Mixed-Level Line Dance Lessons – Tuesdays at 7:00pm\nThis class is designed for ALL levels. Lessons start off easy and gradually become more challenging. We will be dancing to both new\, popular line dances and the classics.\nDancers will receive 20% off in-store purchases\n No partner needed High-energy\, fun atmosphere Perfect for beginners + experienced dancers Pricing: 15$/ Person  Sign up using the link below!Secure your spot\, lace up your boots\, and come dance with Boots n Bikinis!\nhttps://forms.gle/SvBGBHg2WeBLgiDH6
URL:https://marketcommonmb.com/event/line-dancing-lessons-boots-n-bikinis/2026-12-01/
LOCATION:Boots n Bikinis\, 3064 Howard Ave\, MYRTLE BEACH\, SC\, 29577-1640\, United States
CATEGORIES:Dance,Social Events
ATTACH;FMTTYPE=image/jpeg:https://marketcommonmb.com/wp-content/uploads/2026/01/boots-line-dancing.jpg
END:VEVENT
BEGIN:VEVENT
DTSTART;TZID=America/New_York:20261202T150000
DTEND;TZID=America/New_York:20261202T170000
DTSTAMP:20260423T073909
CREATED:20260226T141050Z
LAST-MODIFIED:20260316T155729Z
UID:10027155-1796223600-1796230800@marketcommonmb.com
SUMMARY:Line Dancing - 810 Entertainment
DESCRIPTION:Join 810 Entertainment for line dancing every Wednesday from  3PM – 5 PM
URL:https://marketcommonmb.com/event/line-dancing-810-entertainment/2026-12-02/
LOCATION:810 Billiards & Bowling\, 1220 Moser Drive\, Myrtle Beach\, SC\, 29577\, United States
CATEGORIES:Dance,Social Events
ATTACH;FMTTYPE=image/jpeg:https://marketcommonmb.com/wp-content/uploads/2026/02/istockphoto-1438967229-612x612-1.jpg
END:VEVENT
BEGIN:VEVENT
DTSTART;TZID=America/New_York:20261204T201000
DTEND;TZID=America/New_York:20261204T231000
DTSTAMP:20260423T073909
CREATED:20260213T193028Z
LAST-MODIFIED:20260213T193156Z
UID:10026248-1796415000-1796425800@marketcommonmb.com
SUMMARY:Live Music @ 810 Entertainment
DESCRIPTION:Enjoy live music at 810 Entertainment every Friday starting at 8:10PM \n810’s Schedule of Events and Performers
URL:https://marketcommonmb.com/event/live-music-810-entertainment/2026-12-04/
LOCATION:810 Billiards & Bowling\, 1220 Moser Drive\, Myrtle Beach\, SC\, 29577\, United States
CATEGORIES:Dance,Music Events,Social Events
ATTACH;FMTTYPE=image/png:https://marketcommonmb.com/wp-content/uploads/2024/05/810.png
END:VEVENT
BEGIN:VEVENT
DTSTART;TZID=America/New_York:20261208T190000
DTEND;TZID=America/New_York:20261208T203000
DTSTAMP:20260423T073909
CREATED:20260129T173338Z
LAST-MODIFIED:20260129T173346Z
UID:10024812-1796756400-1796761800@marketcommonmb.com
SUMMARY:Line Dancing Lessons - Boots n Bikinis
DESCRIPTION:Mixed-Level Line Dance Lessons – Tuesdays at 7:00pm\nThis class is designed for ALL levels. Lessons start off easy and gradually become more challenging. We will be dancing to both new\, popular line dances and the classics.\nDancers will receive 20% off in-store purchases\n No partner needed High-energy\, fun atmosphere Perfect for beginners + experienced dancers Pricing: 15$/ Person  Sign up using the link below!Secure your spot\, lace up your boots\, and come dance with Boots n Bikinis!\nhttps://forms.gle/SvBGBHg2WeBLgiDH6
URL:https://marketcommonmb.com/event/line-dancing-lessons-boots-n-bikinis/2026-12-08/
LOCATION:Boots n Bikinis\, 3064 Howard Ave\, MYRTLE BEACH\, SC\, 29577-1640\, United States
CATEGORIES:Dance,Social Events
ATTACH;FMTTYPE=image/jpeg:https://marketcommonmb.com/wp-content/uploads/2026/01/boots-line-dancing.jpg
END:VEVENT
BEGIN:VEVENT
DTSTART;TZID=America/New_York:20261209T150000
DTEND;TZID=America/New_York:20261209T170000
DTSTAMP:20260423T073909
CREATED:20260226T141050Z
LAST-MODIFIED:20260316T155729Z
UID:10027156-1796828400-1796835600@marketcommonmb.com
SUMMARY:Line Dancing - 810 Entertainment
DESCRIPTION:Join 810 Entertainment for line dancing every Wednesday from  3PM – 5 PM
URL:https://marketcommonmb.com/event/line-dancing-810-entertainment/2026-12-09/
LOCATION:810 Billiards & Bowling\, 1220 Moser Drive\, Myrtle Beach\, SC\, 29577\, United States
CATEGORIES:Dance,Social Events
ATTACH;FMTTYPE=image/jpeg:https://marketcommonmb.com/wp-content/uploads/2026/02/istockphoto-1438967229-612x612-1.jpg
END:VEVENT
BEGIN:VEVENT
DTSTART;TZID=America/New_York:20261211T201000
DTEND;TZID=America/New_York:20261211T231000
DTSTAMP:20260423T073909
CREATED:20260213T193028Z
LAST-MODIFIED:20260213T193156Z
UID:10026249-1797019800-1797030600@marketcommonmb.com
SUMMARY:Live Music @ 810 Entertainment
DESCRIPTION:Enjoy live music at 810 Entertainment every Friday starting at 8:10PM \n810’s Schedule of Events and Performers
URL:https://marketcommonmb.com/event/live-music-810-entertainment/2026-12-11/
LOCATION:810 Billiards & Bowling\, 1220 Moser Drive\, Myrtle Beach\, SC\, 29577\, United States
CATEGORIES:Dance,Music Events,Social Events
ATTACH;FMTTYPE=image/png:https://marketcommonmb.com/wp-content/uploads/2024/05/810.png
END:VEVENT
BEGIN:VEVENT
DTSTART;TZID=America/New_York:20261215T190000
DTEND;TZID=America/New_York:20261215T203000
DTSTAMP:20260423T073909
CREATED:20260129T173338Z
LAST-MODIFIED:20260129T173346Z
UID:10024813-1797361200-1797366600@marketcommonmb.com
SUMMARY:Line Dancing Lessons - Boots n Bikinis
DESCRIPTION:Mixed-Level Line Dance Lessons – Tuesdays at 7:00pm\nThis class is designed for ALL levels. Lessons start off easy and gradually become more challenging. We will be dancing to both new\, popular line dances and the classics.\nDancers will receive 20% off in-store purchases\n No partner needed High-energy\, fun atmosphere Perfect for beginners + experienced dancers Pricing: 15$/ Person  Sign up using the link below!Secure your spot\, lace up your boots\, and come dance with Boots n Bikinis!\nhttps://forms.gle/SvBGBHg2WeBLgiDH6
URL:https://marketcommonmb.com/event/line-dancing-lessons-boots-n-bikinis/2026-12-15/
LOCATION:Boots n Bikinis\, 3064 Howard Ave\, MYRTLE BEACH\, SC\, 29577-1640\, United States
CATEGORIES:Dance,Social Events
ATTACH;FMTTYPE=image/jpeg:https://marketcommonmb.com/wp-content/uploads/2026/01/boots-line-dancing.jpg
END:VEVENT
BEGIN:VEVENT
DTSTART;TZID=America/New_York:20261216T150000
DTEND;TZID=America/New_York:20261216T170000
DTSTAMP:20260423T073909
CREATED:20260226T141050Z
LAST-MODIFIED:20260316T155729Z
UID:10027157-1797433200-1797440400@marketcommonmb.com
SUMMARY:Line Dancing - 810 Entertainment
DESCRIPTION:Join 810 Entertainment for line dancing every Wednesday from  3PM – 5 PM
URL:https://marketcommonmb.com/event/line-dancing-810-entertainment/2026-12-16/
LOCATION:810 Billiards & Bowling\, 1220 Moser Drive\, Myrtle Beach\, SC\, 29577\, United States
CATEGORIES:Dance,Social Events
ATTACH;FMTTYPE=image/jpeg:https://marketcommonmb.com/wp-content/uploads/2026/02/istockphoto-1438967229-612x612-1.jpg
END:VEVENT
BEGIN:VEVENT
DTSTART;TZID=America/New_York:20261218T201000
DTEND;TZID=America/New_York:20261218T231000
DTSTAMP:20260423T073909
CREATED:20260213T193028Z
LAST-MODIFIED:20260213T193156Z
UID:10026250-1797624600-1797635400@marketcommonmb.com
SUMMARY:Live Music @ 810 Entertainment
DESCRIPTION:Enjoy live music at 810 Entertainment every Friday starting at 8:10PM \n810’s Schedule of Events and Performers
URL:https://marketcommonmb.com/event/live-music-810-entertainment/2026-12-18/
LOCATION:810 Billiards & Bowling\, 1220 Moser Drive\, Myrtle Beach\, SC\, 29577\, United States
CATEGORIES:Dance,Music Events,Social Events
ATTACH;FMTTYPE=image/png:https://marketcommonmb.com/wp-content/uploads/2024/05/810.png
END:VEVENT
BEGIN:VEVENT
DTSTART;TZID=America/New_York:20261222T190000
DTEND;TZID=America/New_York:20261222T203000
DTSTAMP:20260423T073909
CREATED:20260129T173338Z
LAST-MODIFIED:20260129T173346Z
UID:10024814-1797966000-1797971400@marketcommonmb.com
SUMMARY:Line Dancing Lessons - Boots n Bikinis
DESCRIPTION:Mixed-Level Line Dance Lessons – Tuesdays at 7:00pm\nThis class is designed for ALL levels. Lessons start off easy and gradually become more challenging. We will be dancing to both new\, popular line dances and the classics.\nDancers will receive 20% off in-store purchases\n No partner needed High-energy\, fun atmosphere Perfect for beginners + experienced dancers Pricing: 15$/ Person  Sign up using the link below!Secure your spot\, lace up your boots\, and come dance with Boots n Bikinis!\nhttps://forms.gle/SvBGBHg2WeBLgiDH6
URL:https://marketcommonmb.com/event/line-dancing-lessons-boots-n-bikinis/2026-12-22/
LOCATION:Boots n Bikinis\, 3064 Howard Ave\, MYRTLE BEACH\, SC\, 29577-1640\, United States
CATEGORIES:Dance,Social Events
ATTACH;FMTTYPE=image/jpeg:https://marketcommonmb.com/wp-content/uploads/2026/01/boots-line-dancing.jpg
END:VEVENT
BEGIN:VEVENT
DTSTART;TZID=America/New_York:20261223T150000
DTEND;TZID=America/New_York:20261223T170000
DTSTAMP:20260423T073909
CREATED:20260226T141050Z
LAST-MODIFIED:20260316T155729Z
UID:10027158-1798038000-1798045200@marketcommonmb.com
SUMMARY:Line Dancing - 810 Entertainment
DESCRIPTION:Join 810 Entertainment for line dancing every Wednesday from  3PM – 5 PM
URL:https://marketcommonmb.com/event/line-dancing-810-entertainment/2026-12-23/
LOCATION:810 Billiards & Bowling\, 1220 Moser Drive\, Myrtle Beach\, SC\, 29577\, United States
CATEGORIES:Dance,Social Events
ATTACH;FMTTYPE=image/jpeg:https://marketcommonmb.com/wp-content/uploads/2026/02/istockphoto-1438967229-612x612-1.jpg
END:VEVENT
BEGIN:VEVENT
DTSTART;TZID=America/New_York:20261225T160000
DTEND;TZID=America/New_York:20261225T190000
DTSTAMP:20260423T073909
CREATED:20260203T140352Z
LAST-MODIFIED:20260203T140352Z
UID:10025885-1798214400-1798225200@marketcommonmb.com
SUMMARY:Live Music with Jason Owens - Gordon Biersch
DESCRIPTION:Enjoy live music with Jason Owens on the last Friday of every month at Gordon Biersch Brewery.
URL:https://marketcommonmb.com/event/live-music-with-jason-owens-gordon-biersch/2026-12-25/
LOCATION:Gordon Biersch Brewery\, 3060 Howard Avenue\, Myrtle Beach\, 29577\, United States
CATEGORIES:Dance,Music Events,Social Events
ATTACH;FMTTYPE=image/png:https://marketcommonmb.com/wp-content/uploads/2026/02/Screenshot-2026-02-03-090219.png
END:VEVENT
BEGIN:VEVENT
DTSTART;TZID=America/New_York:20261225T201000
DTEND;TZID=America/New_York:20261225T231000
DTSTAMP:20260423T073909
CREATED:20260213T193028Z
LAST-MODIFIED:20260213T193156Z
UID:10026251-1798229400-1798240200@marketcommonmb.com
SUMMARY:Live Music @ 810 Entertainment
DESCRIPTION:Enjoy live music at 810 Entertainment every Friday starting at 8:10PM \n810’s Schedule of Events and Performers
URL:https://marketcommonmb.com/event/live-music-810-entertainment/2026-12-25/
LOCATION:810 Billiards & Bowling\, 1220 Moser Drive\, Myrtle Beach\, SC\, 29577\, United States
CATEGORIES:Dance,Music Events,Social Events
ATTACH;FMTTYPE=image/png:https://marketcommonmb.com/wp-content/uploads/2024/05/810.png
END:VEVENT
BEGIN:VEVENT
DTSTART;TZID=America/New_York:20261229T190000
DTEND;TZID=America/New_York:20261229T203000
DTSTAMP:20260423T073909
CREATED:20260129T173338Z
LAST-MODIFIED:20260129T173346Z
UID:10024815-1798570800-1798576200@marketcommonmb.com
SUMMARY:Line Dancing Lessons - Boots n Bikinis
DESCRIPTION:Mixed-Level Line Dance Lessons – Tuesdays at 7:00pm\nThis class is designed for ALL levels. Lessons start off easy and gradually become more challenging. We will be dancing to both new\, popular line dances and the classics.\nDancers will receive 20% off in-store purchases\n No partner needed High-energy\, fun atmosphere Perfect for beginners + experienced dancers Pricing: 15$/ Person  Sign up using the link below!Secure your spot\, lace up your boots\, and come dance with Boots n Bikinis!\nhttps://forms.gle/SvBGBHg2WeBLgiDH6
URL:https://marketcommonmb.com/event/line-dancing-lessons-boots-n-bikinis/2026-12-29/
LOCATION:Boots n Bikinis\, 3064 Howard Ave\, MYRTLE BEACH\, SC\, 29577-1640\, United States
CATEGORIES:Dance,Social Events
ATTACH;FMTTYPE=image/jpeg:https://marketcommonmb.com/wp-content/uploads/2026/01/boots-line-dancing.jpg
END:VEVENT
BEGIN:VEVENT
DTSTART;TZID=America/New_York:20261230T150000
DTEND;TZID=America/New_York:20261230T170000
DTSTAMP:20260423T073909
CREATED:20260226T141050Z
LAST-MODIFIED:20260316T155729Z
UID:10027159-1798642800-1798650000@marketcommonmb.com
SUMMARY:Line Dancing - 810 Entertainment
DESCRIPTION:Join 810 Entertainment for line dancing every Wednesday from  3PM – 5 PM
URL:https://marketcommonmb.com/event/line-dancing-810-entertainment/2026-12-30/
LOCATION:810 Billiards & Bowling\, 1220 Moser Drive\, Myrtle Beach\, SC\, 29577\, United States
CATEGORIES:Dance,Social Events
ATTACH;FMTTYPE=image/jpeg:https://marketcommonmb.com/wp-content/uploads/2026/02/istockphoto-1438967229-612x612-1.jpg
END:VEVENT
BEGIN:VEVENT
DTSTART;TZID=America/New_York:20270101T201000
DTEND;TZID=America/New_York:20270101T231000
DTSTAMP:20260423T073909
CREATED:20260213T193028Z
LAST-MODIFIED:20260213T193156Z
UID:10026252-1798834200-1798845000@marketcommonmb.com
SUMMARY:Live Music @ 810 Entertainment
DESCRIPTION:Enjoy live music at 810 Entertainment every Friday starting at 8:10PM \n810’s Schedule of Events and Performers
URL:https://marketcommonmb.com/event/live-music-810-entertainment/2027-01-01/
LOCATION:810 Billiards & Bowling\, 1220 Moser Drive\, Myrtle Beach\, SC\, 29577\, United States
CATEGORIES:Dance,Music Events,Social Events
ATTACH;FMTTYPE=image/png:https://marketcommonmb.com/wp-content/uploads/2024/05/810.png
END:VEVENT
BEGIN:VEVENT
DTSTART;TZID=America/New_York:20270105T190000
DTEND;TZID=America/New_York:20270105T203000
DTSTAMP:20260423T073909
CREATED:20260129T173338Z
LAST-MODIFIED:20260129T173346Z
UID:10024816-1799175600-1799181000@marketcommonmb.com
SUMMARY:Line Dancing Lessons - Boots n Bikinis
DESCRIPTION:Mixed-Level Line Dance Lessons – Tuesdays at 7:00pm\nThis class is designed for ALL levels. Lessons start off easy and gradually become more challenging. We will be dancing to both new\, popular line dances and the classics.\nDancers will receive 20% off in-store purchases\n No partner needed High-energy\, fun atmosphere Perfect for beginners + experienced dancers Pricing: 15$/ Person  Sign up using the link below!Secure your spot\, lace up your boots\, and come dance with Boots n Bikinis!\nhttps://forms.gle/SvBGBHg2WeBLgiDH6
URL:https://marketcommonmb.com/event/line-dancing-lessons-boots-n-bikinis/2027-01-05/
LOCATION:Boots n Bikinis\, 3064 Howard Ave\, MYRTLE BEACH\, SC\, 29577-1640\, United States
CATEGORIES:Dance,Social Events
ATTACH;FMTTYPE=image/jpeg:https://marketcommonmb.com/wp-content/uploads/2026/01/boots-line-dancing.jpg
END:VEVENT
BEGIN:VEVENT
DTSTART;TZID=America/New_York:20270106T150000
DTEND;TZID=America/New_York:20270106T170000
DTSTAMP:20260423T073909
CREATED:20260226T141050Z
LAST-MODIFIED:20260316T155729Z
UID:10027160-1799247600-1799254800@marketcommonmb.com
SUMMARY:Line Dancing - 810 Entertainment
DESCRIPTION:Join 810 Entertainment for line dancing every Wednesday from  3PM – 5 PM
URL:https://marketcommonmb.com/event/line-dancing-810-entertainment/2027-01-06/
LOCATION:810 Billiards & Bowling\, 1220 Moser Drive\, Myrtle Beach\, SC\, 29577\, United States
CATEGORIES:Dance,Social Events
ATTACH;FMTTYPE=image/jpeg:https://marketcommonmb.com/wp-content/uploads/2026/02/istockphoto-1438967229-612x612-1.jpg
END:VEVENT
BEGIN:VEVENT
DTSTART;TZID=America/New_York:20270108T201000
DTEND;TZID=America/New_York:20270108T231000
DTSTAMP:20260423T073909
CREATED:20260213T193028Z
LAST-MODIFIED:20260213T193156Z
UID:10026253-1799439000-1799449800@marketcommonmb.com
SUMMARY:Live Music @ 810 Entertainment
DESCRIPTION:Enjoy live music at 810 Entertainment every Friday starting at 8:10PM \n810’s Schedule of Events and Performers
URL:https://marketcommonmb.com/event/live-music-810-entertainment/2027-01-08/
LOCATION:810 Billiards & Bowling\, 1220 Moser Drive\, Myrtle Beach\, SC\, 29577\, United States
CATEGORIES:Dance,Music Events,Social Events
ATTACH;FMTTYPE=image/png:https://marketcommonmb.com/wp-content/uploads/2024/05/810.png
END:VEVENT
BEGIN:VEVENT
DTSTART;TZID=America/New_York:20270112T190000
DTEND;TZID=America/New_York:20270112T203000
DTSTAMP:20260423T073909
CREATED:20260129T173338Z
LAST-MODIFIED:20260129T173346Z
UID:10024817-1799780400-1799785800@marketcommonmb.com
SUMMARY:Line Dancing Lessons - Boots n Bikinis
DESCRIPTION:Mixed-Level Line Dance Lessons – Tuesdays at 7:00pm\nThis class is designed for ALL levels. Lessons start off easy and gradually become more challenging. We will be dancing to both new\, popular line dances and the classics.\nDancers will receive 20% off in-store purchases\n No partner needed High-energy\, fun atmosphere Perfect for beginners + experienced dancers Pricing: 15$/ Person  Sign up using the link below!Secure your spot\, lace up your boots\, and come dance with Boots n Bikinis!\nhttps://forms.gle/SvBGBHg2WeBLgiDH6
URL:https://marketcommonmb.com/event/line-dancing-lessons-boots-n-bikinis/2027-01-12/
LOCATION:Boots n Bikinis\, 3064 Howard Ave\, MYRTLE BEACH\, SC\, 29577-1640\, United States
CATEGORIES:Dance,Social Events
ATTACH;FMTTYPE=image/jpeg:https://marketcommonmb.com/wp-content/uploads/2026/01/boots-line-dancing.jpg
END:VEVENT
BEGIN:VEVENT
DTSTART;TZID=America/New_York:20270113T150000
DTEND;TZID=America/New_York:20270113T170000
DTSTAMP:20260423T073909
CREATED:20260226T141050Z
LAST-MODIFIED:20260316T155729Z
UID:10027161-1799852400-1799859600@marketcommonmb.com
SUMMARY:Line Dancing - 810 Entertainment
DESCRIPTION:Join 810 Entertainment for line dancing every Wednesday from  3PM – 5 PM
URL:https://marketcommonmb.com/event/line-dancing-810-entertainment/2027-01-13/
LOCATION:810 Billiards & Bowling\, 1220 Moser Drive\, Myrtle Beach\, SC\, 29577\, United States
CATEGORIES:Dance,Social Events
ATTACH;FMTTYPE=image/jpeg:https://marketcommonmb.com/wp-content/uploads/2026/02/istockphoto-1438967229-612x612-1.jpg
END:VEVENT
BEGIN:VEVENT
DTSTART;TZID=America/New_York:20270115T201000
DTEND;TZID=America/New_York:20270115T231000
DTSTAMP:20260423T073909
CREATED:20260213T193028Z
LAST-MODIFIED:20260213T193156Z
UID:10026254-1800043800-1800054600@marketcommonmb.com
SUMMARY:Live Music @ 810 Entertainment
DESCRIPTION:Enjoy live music at 810 Entertainment every Friday starting at 8:10PM \n810’s Schedule of Events and Performers
URL:https://marketcommonmb.com/event/live-music-810-entertainment/2027-01-15/
LOCATION:810 Billiards & Bowling\, 1220 Moser Drive\, Myrtle Beach\, SC\, 29577\, United States
CATEGORIES:Dance,Music Events,Social Events
ATTACH;FMTTYPE=image/png:https://marketcommonmb.com/wp-content/uploads/2024/05/810.png
END:VEVENT
BEGIN:VEVENT
DTSTART;TZID=America/New_York:20270119T190000
DTEND;TZID=America/New_York:20270119T203000
DTSTAMP:20260423T073909
CREATED:20260129T173338Z
LAST-MODIFIED:20260129T173346Z
UID:10024818-1800385200-1800390600@marketcommonmb.com
SUMMARY:Line Dancing Lessons - Boots n Bikinis
DESCRIPTION:Mixed-Level Line Dance Lessons – Tuesdays at 7:00pm\nThis class is designed for ALL levels. Lessons start off easy and gradually become more challenging. We will be dancing to both new\, popular line dances and the classics.\nDancers will receive 20% off in-store purchases\n No partner needed High-energy\, fun atmosphere Perfect for beginners + experienced dancers Pricing: 15$/ Person  Sign up using the link below!Secure your spot\, lace up your boots\, and come dance with Boots n Bikinis!\nhttps://forms.gle/SvBGBHg2WeBLgiDH6
URL:https://marketcommonmb.com/event/line-dancing-lessons-boots-n-bikinis/2027-01-19/
LOCATION:Boots n Bikinis\, 3064 Howard Ave\, MYRTLE BEACH\, SC\, 29577-1640\, United States
CATEGORIES:Dance,Social Events
ATTACH;FMTTYPE=image/jpeg:https://marketcommonmb.com/wp-content/uploads/2026/01/boots-line-dancing.jpg
END:VEVENT
BEGIN:VEVENT
DTSTART;TZID=America/New_York:20270120T150000
DTEND;TZID=America/New_York:20270120T170000
DTSTAMP:20260423T073909
CREATED:20260226T141050Z
LAST-MODIFIED:20260316T155729Z
UID:10027162-1800457200-1800464400@marketcommonmb.com
SUMMARY:Line Dancing - 810 Entertainment
DESCRIPTION:Join 810 Entertainment for line dancing every Wednesday from  3PM – 5 PM
URL:https://marketcommonmb.com/event/line-dancing-810-entertainment/2027-01-20/
LOCATION:810 Billiards & Bowling\, 1220 Moser Drive\, Myrtle Beach\, SC\, 29577\, United States
CATEGORIES:Dance,Social Events
ATTACH;FMTTYPE=image/jpeg:https://marketcommonmb.com/wp-content/uploads/2026/02/istockphoto-1438967229-612x612-1.jpg
END:VEVENT
BEGIN:VEVENT
DTSTART;TZID=America/New_York:20270122T201000
DTEND;TZID=America/New_York:20270122T231000
DTSTAMP:20260423T073909
CREATED:20260213T193028Z
LAST-MODIFIED:20260213T193156Z
UID:10026255-1800648600-1800659400@marketcommonmb.com
SUMMARY:Live Music @ 810 Entertainment
DESCRIPTION:Enjoy live music at 810 Entertainment every Friday starting at 8:10PM \n810’s Schedule of Events and Performers
URL:https://marketcommonmb.com/event/live-music-810-entertainment/2027-01-22/
LOCATION:810 Billiards & Bowling\, 1220 Moser Drive\, Myrtle Beach\, SC\, 29577\, United States
CATEGORIES:Dance,Music Events,Social Events
ATTACH;FMTTYPE=image/png:https://marketcommonmb.com/wp-content/uploads/2024/05/810.png
END:VEVENT
END:VCALENDAR