BEGIN:VCALENDAR
VERSION:2.0
PRODID:-//The Market Common Myrtle Beach - ECPv6.15.12.2//NONSGML v1.0//EN
CALSCALE:GREGORIAN
METHOD:PUBLISH
X-WR-CALNAME:The Market Common Myrtle Beach
X-ORIGINAL-URL:https://marketcommonmb.com
X-WR-CALDESC:Events for The Market Common Myrtle Beach
REFRESH-INTERVAL;VALUE=DURATION:PT1H
X-Robots-Tag:noindex
X-PUBLISHED-TTL:PT1H
BEGIN:VTIMEZONE
TZID:America/New_York
BEGIN:DAYLIGHT
TZOFFSETFROM:-0500
TZOFFSETTO:-0400
TZNAME:EDT
DTSTART:20260308T070000
END:DAYLIGHT
BEGIN:STANDARD
TZOFFSETFROM:-0400
TZOFFSETTO:-0500
TZNAME:EST
DTSTART:20261101T060000
END:STANDARD
BEGIN:DAYLIGHT
TZOFFSETFROM:-0500
TZOFFSETTO:-0400
TZNAME:EDT
DTSTART:20270314T070000
END:DAYLIGHT
BEGIN:STANDARD
TZOFFSETFROM:-0400
TZOFFSETTO:-0500
TZNAME:EST
DTSTART:20271107T060000
END:STANDARD
BEGIN:DAYLIGHT
TZOFFSETFROM:-0500
TZOFFSETTO:-0400
TZNAME:EDT
DTSTART:20280312T070000
END:DAYLIGHT
BEGIN:STANDARD
TZOFFSETFROM:-0400
TZOFFSETTO:-0500
TZNAME:EST
DTSTART:20281105T060000
END:STANDARD
END:VTIMEZONE
BEGIN:VEVENT
DTSTART;TZID=America/New_York:20270217T150000
DTEND;TZID=America/New_York:20270217T170000
DTSTAMP:20260424T123227
CREATED:20260226T141050Z
LAST-MODIFIED:20260316T155729Z
UID:10027166-1802876400-1802883600@marketcommonmb.com
SUMMARY:Line Dancing - 810 Entertainment
DESCRIPTION:Join 810 Entertainment for line dancing every Wednesday from  3PM – 5 PM
URL:https://marketcommonmb.com/event/line-dancing-810-entertainment/2027-02-17/
LOCATION:810 Billiards & Bowling\, 1220 Moser Drive\, Myrtle Beach\, SC\, 29577\, United States
CATEGORIES:Dance,Social Events
ATTACH;FMTTYPE=image/jpeg:https://marketcommonmb.com/wp-content/uploads/2026/02/istockphoto-1438967229-612x612-1.jpg
END:VEVENT
BEGIN:VEVENT
DTSTART;TZID=America/New_York:20270219T201000
DTEND;TZID=America/New_York:20270219T231000
DTSTAMP:20260424T123227
CREATED:20260213T193028Z
LAST-MODIFIED:20260213T193156Z
UID:10026259-1803067800-1803078600@marketcommonmb.com
SUMMARY:Live Music @ 810 Entertainment
DESCRIPTION:Enjoy live music at 810 Entertainment every Friday starting at 8:10PM \n810’s Schedule of Events and Performers
URL:https://marketcommonmb.com/event/live-music-810-entertainment/2027-02-19/
LOCATION:810 Billiards & Bowling\, 1220 Moser Drive\, Myrtle Beach\, SC\, 29577\, United States
CATEGORIES:Dance,Music Events,Social Events
ATTACH;FMTTYPE=image/png:https://marketcommonmb.com/wp-content/uploads/2024/05/810.png
END:VEVENT
BEGIN:VEVENT
DTSTART;TZID=America/New_York:20270223T190000
DTEND;TZID=America/New_York:20270223T203000
DTSTAMP:20260424T123227
CREATED:20260129T173338Z
LAST-MODIFIED:20260129T173346Z
UID:10024823-1803409200-1803414600@marketcommonmb.com
SUMMARY:Line Dancing Lessons - Boots n Bikinis
DESCRIPTION:Mixed-Level Line Dance Lessons – Tuesdays at 7:00pm\nThis class is designed for ALL levels. Lessons start off easy and gradually become more challenging. We will be dancing to both new\, popular line dances and the classics.\nDancers will receive 20% off in-store purchases\n No partner needed High-energy\, fun atmosphere Perfect for beginners + experienced dancers Pricing: 15$/ Person  Sign up using the link below!Secure your spot\, lace up your boots\, and come dance with Boots n Bikinis!\nhttps://forms.gle/SvBGBHg2WeBLgiDH6
URL:https://marketcommonmb.com/event/line-dancing-lessons-boots-n-bikinis/2027-02-23/
LOCATION:Boots n Bikinis\, 3064 Howard Ave\, MYRTLE BEACH\, SC\, 29577-1640\, United States
CATEGORIES:Dance,Social Events
ATTACH;FMTTYPE=image/jpeg:https://marketcommonmb.com/wp-content/uploads/2026/01/boots-line-dancing.jpg
END:VEVENT
BEGIN:VEVENT
DTSTART;TZID=America/New_York:20270224T150000
DTEND;TZID=America/New_York:20270224T170000
DTSTAMP:20260424T123227
CREATED:20260226T141050Z
LAST-MODIFIED:20260316T155729Z
UID:10027167-1803481200-1803488400@marketcommonmb.com
SUMMARY:Line Dancing - 810 Entertainment
DESCRIPTION:Join 810 Entertainment for line dancing every Wednesday from  3PM – 5 PM
URL:https://marketcommonmb.com/event/line-dancing-810-entertainment/2027-02-24/
LOCATION:810 Billiards & Bowling\, 1220 Moser Drive\, Myrtle Beach\, SC\, 29577\, United States
CATEGORIES:Dance,Social Events
ATTACH;FMTTYPE=image/jpeg:https://marketcommonmb.com/wp-content/uploads/2026/02/istockphoto-1438967229-612x612-1.jpg
END:VEVENT
BEGIN:VEVENT
DTSTART;TZID=America/New_York:20270226T160000
DTEND;TZID=America/New_York:20270226T190000
DTSTAMP:20260424T123227
CREATED:20260203T140352Z
LAST-MODIFIED:20260203T140352Z
UID:10025887-1803657600-1803668400@marketcommonmb.com
SUMMARY:Live Music with Jason Owens - Gordon Biersch
DESCRIPTION:Enjoy live music with Jason Owens on the last Friday of every month at Gordon Biersch Brewery.
URL:https://marketcommonmb.com/event/live-music-with-jason-owens-gordon-biersch/2027-02-26/
LOCATION:Gordon Biersch Brewery\, 3060 Howard Avenue\, Myrtle Beach\, 29577\, United States
CATEGORIES:Dance,Music Events,Social Events
ATTACH;FMTTYPE=image/png:https://marketcommonmb.com/wp-content/uploads/2026/02/Screenshot-2026-02-03-090219.png
END:VEVENT
BEGIN:VEVENT
DTSTART;TZID=America/New_York:20270226T201000
DTEND;TZID=America/New_York:20270226T231000
DTSTAMP:20260424T123227
CREATED:20260213T193028Z
LAST-MODIFIED:20260213T193156Z
UID:10026260-1803672600-1803683400@marketcommonmb.com
SUMMARY:Live Music @ 810 Entertainment
DESCRIPTION:Enjoy live music at 810 Entertainment every Friday starting at 8:10PM \n810’s Schedule of Events and Performers
URL:https://marketcommonmb.com/event/live-music-810-entertainment/2027-02-26/
LOCATION:810 Billiards & Bowling\, 1220 Moser Drive\, Myrtle Beach\, SC\, 29577\, United States
CATEGORIES:Dance,Music Events,Social Events
ATTACH;FMTTYPE=image/png:https://marketcommonmb.com/wp-content/uploads/2024/05/810.png
END:VEVENT
BEGIN:VEVENT
DTSTART;TZID=America/New_York:20270302T190000
DTEND;TZID=America/New_York:20270302T203000
DTSTAMP:20260424T123227
CREATED:20260129T173338Z
LAST-MODIFIED:20260129T173346Z
UID:10024824-1804014000-1804019400@marketcommonmb.com
SUMMARY:Line Dancing Lessons - Boots n Bikinis
DESCRIPTION:Mixed-Level Line Dance Lessons – Tuesdays at 7:00pm\nThis class is designed for ALL levels. Lessons start off easy and gradually become more challenging. We will be dancing to both new\, popular line dances and the classics.\nDancers will receive 20% off in-store purchases\n No partner needed High-energy\, fun atmosphere Perfect for beginners + experienced dancers Pricing: 15$/ Person  Sign up using the link below!Secure your spot\, lace up your boots\, and come dance with Boots n Bikinis!\nhttps://forms.gle/SvBGBHg2WeBLgiDH6
URL:https://marketcommonmb.com/event/line-dancing-lessons-boots-n-bikinis/2027-03-02/
LOCATION:Boots n Bikinis\, 3064 Howard Ave\, MYRTLE BEACH\, SC\, 29577-1640\, United States
CATEGORIES:Dance,Social Events
ATTACH;FMTTYPE=image/jpeg:https://marketcommonmb.com/wp-content/uploads/2026/01/boots-line-dancing.jpg
END:VEVENT
BEGIN:VEVENT
DTSTART;TZID=America/New_York:20270303T150000
DTEND;TZID=America/New_York:20270303T170000
DTSTAMP:20260424T123227
CREATED:20260226T141050Z
LAST-MODIFIED:20260316T155729Z
UID:10027168-1804086000-1804093200@marketcommonmb.com
SUMMARY:Line Dancing - 810 Entertainment
DESCRIPTION:Join 810 Entertainment for line dancing every Wednesday from  3PM – 5 PM
URL:https://marketcommonmb.com/event/line-dancing-810-entertainment/2027-03-03/
LOCATION:810 Billiards & Bowling\, 1220 Moser Drive\, Myrtle Beach\, SC\, 29577\, United States
CATEGORIES:Dance,Social Events
ATTACH;FMTTYPE=image/jpeg:https://marketcommonmb.com/wp-content/uploads/2026/02/istockphoto-1438967229-612x612-1.jpg
END:VEVENT
BEGIN:VEVENT
DTSTART;TZID=America/New_York:20270305T201000
DTEND;TZID=America/New_York:20270305T231000
DTSTAMP:20260424T123227
CREATED:20260213T193028Z
LAST-MODIFIED:20260213T193156Z
UID:10026261-1804277400-1804288200@marketcommonmb.com
SUMMARY:Live Music @ 810 Entertainment
DESCRIPTION:Enjoy live music at 810 Entertainment every Friday starting at 8:10PM \n810’s Schedule of Events and Performers
URL:https://marketcommonmb.com/event/live-music-810-entertainment/2027-03-05/
LOCATION:810 Billiards & Bowling\, 1220 Moser Drive\, Myrtle Beach\, SC\, 29577\, United States
CATEGORIES:Dance,Music Events,Social Events
ATTACH;FMTTYPE=image/png:https://marketcommonmb.com/wp-content/uploads/2024/05/810.png
END:VEVENT
BEGIN:VEVENT
DTSTART;TZID=America/New_York:20270309T190000
DTEND;TZID=America/New_York:20270309T203000
DTSTAMP:20260424T123227
CREATED:20260129T173338Z
LAST-MODIFIED:20260129T173346Z
UID:10024825-1804618800-1804624200@marketcommonmb.com
SUMMARY:Line Dancing Lessons - Boots n Bikinis
DESCRIPTION:Mixed-Level Line Dance Lessons – Tuesdays at 7:00pm\nThis class is designed for ALL levels. Lessons start off easy and gradually become more challenging. We will be dancing to both new\, popular line dances and the classics.\nDancers will receive 20% off in-store purchases\n No partner needed High-energy\, fun atmosphere Perfect for beginners + experienced dancers Pricing: 15$/ Person  Sign up using the link below!Secure your spot\, lace up your boots\, and come dance with Boots n Bikinis!\nhttps://forms.gle/SvBGBHg2WeBLgiDH6
URL:https://marketcommonmb.com/event/line-dancing-lessons-boots-n-bikinis/2027-03-09/
LOCATION:Boots n Bikinis\, 3064 Howard Ave\, MYRTLE BEACH\, SC\, 29577-1640\, United States
CATEGORIES:Dance,Social Events
ATTACH;FMTTYPE=image/jpeg:https://marketcommonmb.com/wp-content/uploads/2026/01/boots-line-dancing.jpg
END:VEVENT
BEGIN:VEVENT
DTSTART;TZID=America/New_York:20270310T150000
DTEND;TZID=America/New_York:20270310T170000
DTSTAMP:20260424T123227
CREATED:20260226T141050Z
LAST-MODIFIED:20260316T155729Z
UID:10027169-1804690800-1804698000@marketcommonmb.com
SUMMARY:Line Dancing - 810 Entertainment
DESCRIPTION:Join 810 Entertainment for line dancing every Wednesday from  3PM – 5 PM
URL:https://marketcommonmb.com/event/line-dancing-810-entertainment/2027-03-10/
LOCATION:810 Billiards & Bowling\, 1220 Moser Drive\, Myrtle Beach\, SC\, 29577\, United States
CATEGORIES:Dance,Social Events
ATTACH;FMTTYPE=image/jpeg:https://marketcommonmb.com/wp-content/uploads/2026/02/istockphoto-1438967229-612x612-1.jpg
END:VEVENT
BEGIN:VEVENT
DTSTART;TZID=America/New_York:20270312T201000
DTEND;TZID=America/New_York:20270312T231000
DTSTAMP:20260424T123227
CREATED:20260213T193028Z
LAST-MODIFIED:20260213T193156Z
UID:10026262-1804882200-1804893000@marketcommonmb.com
SUMMARY:Live Music @ 810 Entertainment
DESCRIPTION:Enjoy live music at 810 Entertainment every Friday starting at 8:10PM \n810’s Schedule of Events and Performers
URL:https://marketcommonmb.com/event/live-music-810-entertainment/2027-03-12/
LOCATION:810 Billiards & Bowling\, 1220 Moser Drive\, Myrtle Beach\, SC\, 29577\, United States
CATEGORIES:Dance,Music Events,Social Events
ATTACH;FMTTYPE=image/png:https://marketcommonmb.com/wp-content/uploads/2024/05/810.png
END:VEVENT
BEGIN:VEVENT
DTSTART;TZID=America/New_York:20270316T190000
DTEND;TZID=America/New_York:20270316T203000
DTSTAMP:20260424T123227
CREATED:20260129T173338Z
LAST-MODIFIED:20260129T173346Z
UID:10024826-1805223600-1805229000@marketcommonmb.com
SUMMARY:Line Dancing Lessons - Boots n Bikinis
DESCRIPTION:Mixed-Level Line Dance Lessons – Tuesdays at 7:00pm\nThis class is designed for ALL levels. Lessons start off easy and gradually become more challenging. We will be dancing to both new\, popular line dances and the classics.\nDancers will receive 20% off in-store purchases\n No partner needed High-energy\, fun atmosphere Perfect for beginners + experienced dancers Pricing: 15$/ Person  Sign up using the link below!Secure your spot\, lace up your boots\, and come dance with Boots n Bikinis!\nhttps://forms.gle/SvBGBHg2WeBLgiDH6
URL:https://marketcommonmb.com/event/line-dancing-lessons-boots-n-bikinis/2027-03-16/
LOCATION:Boots n Bikinis\, 3064 Howard Ave\, MYRTLE BEACH\, SC\, 29577-1640\, United States
CATEGORIES:Dance,Social Events
ATTACH;FMTTYPE=image/jpeg:https://marketcommonmb.com/wp-content/uploads/2026/01/boots-line-dancing.jpg
END:VEVENT
BEGIN:VEVENT
DTSTART;TZID=America/New_York:20270317T150000
DTEND;TZID=America/New_York:20270317T170000
DTSTAMP:20260424T123227
CREATED:20260226T141050Z
LAST-MODIFIED:20260316T155729Z
UID:10027170-1805295600-1805302800@marketcommonmb.com
SUMMARY:Line Dancing - 810 Entertainment
DESCRIPTION:Join 810 Entertainment for line dancing every Wednesday from  3PM – 5 PM
URL:https://marketcommonmb.com/event/line-dancing-810-entertainment/2027-03-17/
LOCATION:810 Billiards & Bowling\, 1220 Moser Drive\, Myrtle Beach\, SC\, 29577\, United States
CATEGORIES:Dance,Social Events
ATTACH;FMTTYPE=image/jpeg:https://marketcommonmb.com/wp-content/uploads/2026/02/istockphoto-1438967229-612x612-1.jpg
END:VEVENT
BEGIN:VEVENT
DTSTART;TZID=America/New_York:20270319T201000
DTEND;TZID=America/New_York:20270319T231000
DTSTAMP:20260424T123227
CREATED:20260213T193028Z
LAST-MODIFIED:20260213T193156Z
UID:10026263-1805487000-1805497800@marketcommonmb.com
SUMMARY:Live Music @ 810 Entertainment
DESCRIPTION:Enjoy live music at 810 Entertainment every Friday starting at 8:10PM \n810’s Schedule of Events and Performers
URL:https://marketcommonmb.com/event/live-music-810-entertainment/2027-03-19/
LOCATION:810 Billiards & Bowling\, 1220 Moser Drive\, Myrtle Beach\, SC\, 29577\, United States
CATEGORIES:Dance,Music Events,Social Events
ATTACH;FMTTYPE=image/png:https://marketcommonmb.com/wp-content/uploads/2024/05/810.png
END:VEVENT
BEGIN:VEVENT
DTSTART;TZID=America/New_York:20270323T190000
DTEND;TZID=America/New_York:20270323T203000
DTSTAMP:20260424T123227
CREATED:20260129T173338Z
LAST-MODIFIED:20260129T173346Z
UID:10024827-1805828400-1805833800@marketcommonmb.com
SUMMARY:Line Dancing Lessons - Boots n Bikinis
DESCRIPTION:Mixed-Level Line Dance Lessons – Tuesdays at 7:00pm\nThis class is designed for ALL levels. Lessons start off easy and gradually become more challenging. We will be dancing to both new\, popular line dances and the classics.\nDancers will receive 20% off in-store purchases\n No partner needed High-energy\, fun atmosphere Perfect for beginners + experienced dancers Pricing: 15$/ Person  Sign up using the link below!Secure your spot\, lace up your boots\, and come dance with Boots n Bikinis!\nhttps://forms.gle/SvBGBHg2WeBLgiDH6
URL:https://marketcommonmb.com/event/line-dancing-lessons-boots-n-bikinis/2027-03-23/
LOCATION:Boots n Bikinis\, 3064 Howard Ave\, MYRTLE BEACH\, SC\, 29577-1640\, United States
CATEGORIES:Dance,Social Events
ATTACH;FMTTYPE=image/jpeg:https://marketcommonmb.com/wp-content/uploads/2026/01/boots-line-dancing.jpg
END:VEVENT
BEGIN:VEVENT
DTSTART;TZID=America/New_York:20270324T150000
DTEND;TZID=America/New_York:20270324T170000
DTSTAMP:20260424T123227
CREATED:20260226T141050Z
LAST-MODIFIED:20260316T155729Z
UID:10027171-1805900400-1805907600@marketcommonmb.com
SUMMARY:Line Dancing - 810 Entertainment
DESCRIPTION:Join 810 Entertainment for line dancing every Wednesday from  3PM – 5 PM
URL:https://marketcommonmb.com/event/line-dancing-810-entertainment/2027-03-24/
LOCATION:810 Billiards & Bowling\, 1220 Moser Drive\, Myrtle Beach\, SC\, 29577\, United States
CATEGORIES:Dance,Social Events
ATTACH;FMTTYPE=image/jpeg:https://marketcommonmb.com/wp-content/uploads/2026/02/istockphoto-1438967229-612x612-1.jpg
END:VEVENT
BEGIN:VEVENT
DTSTART;TZID=America/New_York:20270326T160000
DTEND;TZID=America/New_York:20270326T190000
DTSTAMP:20260424T123227
CREATED:20260203T140352Z
LAST-MODIFIED:20260203T140352Z
UID:10025888-1806076800-1806087600@marketcommonmb.com
SUMMARY:Live Music with Jason Owens - Gordon Biersch
DESCRIPTION:Enjoy live music with Jason Owens on the last Friday of every month at Gordon Biersch Brewery.
URL:https://marketcommonmb.com/event/live-music-with-jason-owens-gordon-biersch/2027-03-26/
LOCATION:Gordon Biersch Brewery\, 3060 Howard Avenue\, Myrtle Beach\, 29577\, United States
CATEGORIES:Dance,Music Events,Social Events
ATTACH;FMTTYPE=image/png:https://marketcommonmb.com/wp-content/uploads/2026/02/Screenshot-2026-02-03-090219.png
END:VEVENT
BEGIN:VEVENT
DTSTART;TZID=America/New_York:20270326T201000
DTEND;TZID=America/New_York:20270326T231000
DTSTAMP:20260424T123227
CREATED:20260213T193028Z
LAST-MODIFIED:20260213T193156Z
UID:10026264-1806091800-1806102600@marketcommonmb.com
SUMMARY:Live Music @ 810 Entertainment
DESCRIPTION:Enjoy live music at 810 Entertainment every Friday starting at 8:10PM \n810’s Schedule of Events and Performers
URL:https://marketcommonmb.com/event/live-music-810-entertainment/2027-03-26/
LOCATION:810 Billiards & Bowling\, 1220 Moser Drive\, Myrtle Beach\, SC\, 29577\, United States
CATEGORIES:Dance,Music Events,Social Events
ATTACH;FMTTYPE=image/png:https://marketcommonmb.com/wp-content/uploads/2024/05/810.png
END:VEVENT
BEGIN:VEVENT
DTSTART;TZID=America/New_York:20270330T190000
DTEND;TZID=America/New_York:20270330T203000
DTSTAMP:20260424T123227
CREATED:20260129T173338Z
LAST-MODIFIED:20260129T173346Z
UID:10024828-1806433200-1806438600@marketcommonmb.com
SUMMARY:Line Dancing Lessons - Boots n Bikinis
DESCRIPTION:Mixed-Level Line Dance Lessons – Tuesdays at 7:00pm\nThis class is designed for ALL levels. Lessons start off easy and gradually become more challenging. We will be dancing to both new\, popular line dances and the classics.\nDancers will receive 20% off in-store purchases\n No partner needed High-energy\, fun atmosphere Perfect for beginners + experienced dancers Pricing: 15$/ Person  Sign up using the link below!Secure your spot\, lace up your boots\, and come dance with Boots n Bikinis!\nhttps://forms.gle/SvBGBHg2WeBLgiDH6
URL:https://marketcommonmb.com/event/line-dancing-lessons-boots-n-bikinis/2027-03-30/
LOCATION:Boots n Bikinis\, 3064 Howard Ave\, MYRTLE BEACH\, SC\, 29577-1640\, United States
CATEGORIES:Dance,Social Events
ATTACH;FMTTYPE=image/jpeg:https://marketcommonmb.com/wp-content/uploads/2026/01/boots-line-dancing.jpg
END:VEVENT
BEGIN:VEVENT
DTSTART;TZID=America/New_York:20270331T150000
DTEND;TZID=America/New_York:20270331T170000
DTSTAMP:20260424T123227
CREATED:20260226T141050Z
LAST-MODIFIED:20260316T155729Z
UID:10027172-1806505200-1806512400@marketcommonmb.com
SUMMARY:Line Dancing - 810 Entertainment
DESCRIPTION:Join 810 Entertainment for line dancing every Wednesday from  3PM – 5 PM
URL:https://marketcommonmb.com/event/line-dancing-810-entertainment/2027-03-31/
LOCATION:810 Billiards & Bowling\, 1220 Moser Drive\, Myrtle Beach\, SC\, 29577\, United States
CATEGORIES:Dance,Social Events
ATTACH;FMTTYPE=image/jpeg:https://marketcommonmb.com/wp-content/uploads/2026/02/istockphoto-1438967229-612x612-1.jpg
END:VEVENT
BEGIN:VEVENT
DTSTART;TZID=America/New_York:20270402T201000
DTEND;TZID=America/New_York:20270402T231000
DTSTAMP:20260424T123227
CREATED:20260213T193028Z
LAST-MODIFIED:20260213T193156Z
UID:10026265-1806696600-1806707400@marketcommonmb.com
SUMMARY:Live Music @ 810 Entertainment
DESCRIPTION:Enjoy live music at 810 Entertainment every Friday starting at 8:10PM \n810’s Schedule of Events and Performers
URL:https://marketcommonmb.com/event/live-music-810-entertainment/2027-04-02/
LOCATION:810 Billiards & Bowling\, 1220 Moser Drive\, Myrtle Beach\, SC\, 29577\, United States
CATEGORIES:Dance,Music Events,Social Events
ATTACH;FMTTYPE=image/png:https://marketcommonmb.com/wp-content/uploads/2024/05/810.png
END:VEVENT
BEGIN:VEVENT
DTSTART;TZID=America/New_York:20270406T190000
DTEND;TZID=America/New_York:20270406T203000
DTSTAMP:20260424T123227
CREATED:20260129T173338Z
LAST-MODIFIED:20260129T173346Z
UID:10024829-1807038000-1807043400@marketcommonmb.com
SUMMARY:Line Dancing Lessons - Boots n Bikinis
DESCRIPTION:Mixed-Level Line Dance Lessons – Tuesdays at 7:00pm\nThis class is designed for ALL levels. Lessons start off easy and gradually become more challenging. We will be dancing to both new\, popular line dances and the classics.\nDancers will receive 20% off in-store purchases\n No partner needed High-energy\, fun atmosphere Perfect for beginners + experienced dancers Pricing: 15$/ Person  Sign up using the link below!Secure your spot\, lace up your boots\, and come dance with Boots n Bikinis!\nhttps://forms.gle/SvBGBHg2WeBLgiDH6
URL:https://marketcommonmb.com/event/line-dancing-lessons-boots-n-bikinis/2027-04-06/
LOCATION:Boots n Bikinis\, 3064 Howard Ave\, MYRTLE BEACH\, SC\, 29577-1640\, United States
CATEGORIES:Dance,Social Events
ATTACH;FMTTYPE=image/jpeg:https://marketcommonmb.com/wp-content/uploads/2026/01/boots-line-dancing.jpg
END:VEVENT
BEGIN:VEVENT
DTSTART;TZID=America/New_York:20270407T150000
DTEND;TZID=America/New_York:20270407T170000
DTSTAMP:20260424T123227
CREATED:20260226T141050Z
LAST-MODIFIED:20260316T155729Z
UID:10027173-1807110000-1807117200@marketcommonmb.com
SUMMARY:Line Dancing - 810 Entertainment
DESCRIPTION:Join 810 Entertainment for line dancing every Wednesday from  3PM – 5 PM
URL:https://marketcommonmb.com/event/line-dancing-810-entertainment/2027-04-07/
LOCATION:810 Billiards & Bowling\, 1220 Moser Drive\, Myrtle Beach\, SC\, 29577\, United States
CATEGORIES:Dance,Social Events
ATTACH;FMTTYPE=image/jpeg:https://marketcommonmb.com/wp-content/uploads/2026/02/istockphoto-1438967229-612x612-1.jpg
END:VEVENT
BEGIN:VEVENT
DTSTART;TZID=America/New_York:20270409T201000
DTEND;TZID=America/New_York:20270409T231000
DTSTAMP:20260424T123227
CREATED:20260213T193028Z
LAST-MODIFIED:20260213T193156Z
UID:10026266-1807301400-1807312200@marketcommonmb.com
SUMMARY:Live Music @ 810 Entertainment
DESCRIPTION:Enjoy live music at 810 Entertainment every Friday starting at 8:10PM \n810’s Schedule of Events and Performers
URL:https://marketcommonmb.com/event/live-music-810-entertainment/2027-04-09/
LOCATION:810 Billiards & Bowling\, 1220 Moser Drive\, Myrtle Beach\, SC\, 29577\, United States
CATEGORIES:Dance,Music Events,Social Events
ATTACH;FMTTYPE=image/png:https://marketcommonmb.com/wp-content/uploads/2024/05/810.png
END:VEVENT
BEGIN:VEVENT
DTSTART;TZID=America/New_York:20270413T190000
DTEND;TZID=America/New_York:20270413T203000
DTSTAMP:20260424T123227
CREATED:20260129T173338Z
LAST-MODIFIED:20260129T173346Z
UID:10024830-1807642800-1807648200@marketcommonmb.com
SUMMARY:Line Dancing Lessons - Boots n Bikinis
DESCRIPTION:Mixed-Level Line Dance Lessons – Tuesdays at 7:00pm\nThis class is designed for ALL levels. Lessons start off easy and gradually become more challenging. We will be dancing to both new\, popular line dances and the classics.\nDancers will receive 20% off in-store purchases\n No partner needed High-energy\, fun atmosphere Perfect for beginners + experienced dancers Pricing: 15$/ Person  Sign up using the link below!Secure your spot\, lace up your boots\, and come dance with Boots n Bikinis!\nhttps://forms.gle/SvBGBHg2WeBLgiDH6
URL:https://marketcommonmb.com/event/line-dancing-lessons-boots-n-bikinis/2027-04-13/
LOCATION:Boots n Bikinis\, 3064 Howard Ave\, MYRTLE BEACH\, SC\, 29577-1640\, United States
CATEGORIES:Dance,Social Events
ATTACH;FMTTYPE=image/jpeg:https://marketcommonmb.com/wp-content/uploads/2026/01/boots-line-dancing.jpg
END:VEVENT
BEGIN:VEVENT
DTSTART;TZID=America/New_York:20270414T150000
DTEND;TZID=America/New_York:20270414T170000
DTSTAMP:20260424T123227
CREATED:20260226T141050Z
LAST-MODIFIED:20260316T155729Z
UID:10027174-1807714800-1807722000@marketcommonmb.com
SUMMARY:Line Dancing - 810 Entertainment
DESCRIPTION:Join 810 Entertainment for line dancing every Wednesday from  3PM – 5 PM
URL:https://marketcommonmb.com/event/line-dancing-810-entertainment/2027-04-14/
LOCATION:810 Billiards & Bowling\, 1220 Moser Drive\, Myrtle Beach\, SC\, 29577\, United States
CATEGORIES:Dance,Social Events
ATTACH;FMTTYPE=image/jpeg:https://marketcommonmb.com/wp-content/uploads/2026/02/istockphoto-1438967229-612x612-1.jpg
END:VEVENT
BEGIN:VEVENT
DTSTART;TZID=America/New_York:20270416T201000
DTEND;TZID=America/New_York:20270416T231000
DTSTAMP:20260424T123227
CREATED:20260213T193028Z
LAST-MODIFIED:20260213T193156Z
UID:10026267-1807906200-1807917000@marketcommonmb.com
SUMMARY:Live Music @ 810 Entertainment
DESCRIPTION:Enjoy live music at 810 Entertainment every Friday starting at 8:10PM \n810’s Schedule of Events and Performers
URL:https://marketcommonmb.com/event/live-music-810-entertainment/2027-04-16/
LOCATION:810 Billiards & Bowling\, 1220 Moser Drive\, Myrtle Beach\, SC\, 29577\, United States
CATEGORIES:Dance,Music Events,Social Events
ATTACH;FMTTYPE=image/png:https://marketcommonmb.com/wp-content/uploads/2024/05/810.png
END:VEVENT
BEGIN:VEVENT
DTSTART;TZID=America/New_York:20270420T190000
DTEND;TZID=America/New_York:20270420T203000
DTSTAMP:20260424T123227
CREATED:20260129T173338Z
LAST-MODIFIED:20260129T173346Z
UID:10024831-1808247600-1808253000@marketcommonmb.com
SUMMARY:Line Dancing Lessons - Boots n Bikinis
DESCRIPTION:Mixed-Level Line Dance Lessons – Tuesdays at 7:00pm\nThis class is designed for ALL levels. Lessons start off easy and gradually become more challenging. We will be dancing to both new\, popular line dances and the classics.\nDancers will receive 20% off in-store purchases\n No partner needed High-energy\, fun atmosphere Perfect for beginners + experienced dancers Pricing: 15$/ Person  Sign up using the link below!Secure your spot\, lace up your boots\, and come dance with Boots n Bikinis!\nhttps://forms.gle/SvBGBHg2WeBLgiDH6
URL:https://marketcommonmb.com/event/line-dancing-lessons-boots-n-bikinis/2027-04-20/
LOCATION:Boots n Bikinis\, 3064 Howard Ave\, MYRTLE BEACH\, SC\, 29577-1640\, United States
CATEGORIES:Dance,Social Events
ATTACH;FMTTYPE=image/jpeg:https://marketcommonmb.com/wp-content/uploads/2026/01/boots-line-dancing.jpg
END:VEVENT
BEGIN:VEVENT
DTSTART;TZID=America/New_York:20270421T150000
DTEND;TZID=America/New_York:20270421T170000
DTSTAMP:20260424T123227
CREATED:20260226T141050Z
LAST-MODIFIED:20260316T155729Z
UID:10027175-1808319600-1808326800@marketcommonmb.com
SUMMARY:Line Dancing - 810 Entertainment
DESCRIPTION:Join 810 Entertainment for line dancing every Wednesday from  3PM – 5 PM
URL:https://marketcommonmb.com/event/line-dancing-810-entertainment/2027-04-21/
LOCATION:810 Billiards & Bowling\, 1220 Moser Drive\, Myrtle Beach\, SC\, 29577\, United States
CATEGORIES:Dance,Social Events
ATTACH;FMTTYPE=image/jpeg:https://marketcommonmb.com/wp-content/uploads/2026/02/istockphoto-1438967229-612x612-1.jpg
END:VEVENT
END:VCALENDAR