BEGIN:VCALENDAR
VERSION:2.0
PRODID:-//The Market Common Myrtle Beach - ECPv6.15.12.2//NONSGML v1.0//EN
CALSCALE:GREGORIAN
METHOD:PUBLISH
X-WR-CALNAME:The Market Common Myrtle Beach
X-ORIGINAL-URL:https://marketcommonmb.com
X-WR-CALDESC:Events for The Market Common Myrtle Beach
REFRESH-INTERVAL;VALUE=DURATION:PT1H
X-Robots-Tag:noindex
X-PUBLISHED-TTL:PT1H
BEGIN:VTIMEZONE
TZID:America/New_York
BEGIN:DAYLIGHT
TZOFFSETFROM:-0500
TZOFFSETTO:-0400
TZNAME:EDT
DTSTART:20240310T070000
END:DAYLIGHT
BEGIN:STANDARD
TZOFFSETFROM:-0400
TZOFFSETTO:-0500
TZNAME:EST
DTSTART:20241103T060000
END:STANDARD
BEGIN:DAYLIGHT
TZOFFSETFROM:-0500
TZOFFSETTO:-0400
TZNAME:EDT
DTSTART:20250309T070000
END:DAYLIGHT
BEGIN:STANDARD
TZOFFSETFROM:-0400
TZOFFSETTO:-0500
TZNAME:EST
DTSTART:20251102T060000
END:STANDARD
BEGIN:DAYLIGHT
TZOFFSETFROM:-0500
TZOFFSETTO:-0400
TZNAME:EDT
DTSTART:20260308T070000
END:DAYLIGHT
BEGIN:STANDARD
TZOFFSETFROM:-0400
TZOFFSETTO:-0500
TZNAME:EST
DTSTART:20261101T060000
END:STANDARD
END:VTIMEZONE
BEGIN:VEVENT
DTSTART;TZID=America/New_York:20251222T100000
DTEND;TZID=America/New_York:20251222T120000
DTSTAMP:20260425T084458
CREATED:20251125T165040Z
LAST-MODIFIED:20251201T174547Z
UID:10024178-1766397600-1766404800@marketcommonmb.com
SUMMARY:Holiday Fun and Photos with Santa at EdVenture
DESCRIPTION:Join the Children’s Activities and Photos with Santa at EdVenture Children’s Museum on December 22 from 10am-12pm! Enjoy holiday crafts\, hands-on activities\, and photos with Santa—perfect for festive family fun at The Market Common!
URL:https://marketcommonmb.com/event/holiday-fun-and-photos-with-santa-at-edventure-2/
LOCATION:EdVenture Children’s Museum\, 4005 Howard Ave\, Myrtle Beach\, SC\, 29577\, United States
CATEGORIES:Design,Family Events,Holiday Events,Santa Events,Seasonal Events
ATTACH;FMTTYPE=image/png:https://marketcommonmb.com/wp-content/uploads/2024/10/Edventuresanta.png
END:VEVENT
END:VCALENDAR