BEGIN:VCALENDAR
VERSION:2.0
PRODID:-//The Market Common Myrtle Beach - ECPv6.15.12.2//NONSGML v1.0//EN
CALSCALE:GREGORIAN
METHOD:PUBLISH
X-WR-CALNAME:The Market Common Myrtle Beach
X-ORIGINAL-URL:https://marketcommonmb.com
X-WR-CALDESC:Events for The Market Common Myrtle Beach
REFRESH-INTERVAL;VALUE=DURATION:PT1H
X-Robots-Tag:noindex
X-PUBLISHED-TTL:PT1H
BEGIN:VTIMEZONE
TZID:America/New_York
BEGIN:DAYLIGHT
TZOFFSETFROM:-0500
TZOFFSETTO:-0400
TZNAME:EDT
DTSTART:20250309T070000
END:DAYLIGHT
BEGIN:STANDARD
TZOFFSETFROM:-0400
TZOFFSETTO:-0500
TZNAME:EST
DTSTART:20251102T060000
END:STANDARD
BEGIN:DAYLIGHT
TZOFFSETFROM:-0500
TZOFFSETTO:-0400
TZNAME:EDT
DTSTART:20260308T070000
END:DAYLIGHT
BEGIN:STANDARD
TZOFFSETFROM:-0400
TZOFFSETTO:-0500
TZNAME:EST
DTSTART:20261101T060000
END:STANDARD
BEGIN:DAYLIGHT
TZOFFSETFROM:-0500
TZOFFSETTO:-0400
TZNAME:EDT
DTSTART:20270314T070000
END:DAYLIGHT
BEGIN:STANDARD
TZOFFSETFROM:-0400
TZOFFSETTO:-0500
TZNAME:EST
DTSTART:20271107T060000
END:STANDARD
END:VTIMEZONE
BEGIN:VEVENT
DTSTART;TZID=America/New_York:20260321T100000
DTEND;TZID=America/New_York:20260321T140000
DTSTAMP:20260423T062933
CREATED:20260313T124803Z
LAST-MODIFIED:20260313T124803Z
UID:10027387-1774087200-1774101600@marketcommonmb.com
SUMMARY:Build Your Own Shelf Clicker - Monkey Lala Minerals
DESCRIPTION:Design it. Build it. Click it. \nJoin us for a hands-on creative experience where you’ll design your very own custom mini bookshelf clicker at Monkey Lala Minerals in Market Common on March 21 from 10-2 \nThis interactive event lets you build the viral TikTok bookshelf fidget clicker! It’s your turn to build the tiniest shelf of your dreams. \nMix + match the different caps from crystals\, books plants and more! Create a shelf that fits your personality whether you’re a crystal collector\, book lover\, plant parent\, or fidget fan! \n Tickets must be purchased in advance at TheCoastalRay.MyShopify.com
URL:https://marketcommonmb.com/event/build-your-own-shelf-clicker-monkey-lala-minerals/
LOCATION:Monkey Lala Minerals\, 3064 Deville St\, Myrtle beach\, SC\, 29577\, United States
CATEGORIES:Design,Kids Events,Shopping,Social Events
ATTACH;FMTTYPE=image/jpeg:https://marketcommonmb.com/wp-content/uploads/2026/03/byo-shelf-clicker.jpg
END:VEVENT
BEGIN:VEVENT
DTSTART;TZID=America/New_York:20260328T183000
DTEND;TZID=America/New_York:20260328T210000
DTSTAMP:20260423T062933
CREATED:20260302T180258Z
LAST-MODIFIED:20260302T201828Z
UID:10027377-1774722600-1774731600@marketcommonmb.com
SUMMARY:Easter Bunny Pajama Jam
DESCRIPTION:Join Coastal Dance’s Easter Bunny Pajama Jam event for kids 3 and older on Saturday\, March 28th from 6:30 – 9:00 pm. \nThe party will include an Easter egg hunt\, games\, dancing\, crafts\, pizza\, and drinks.\nEvent Pricing:\n• $30 per student\n• $25 per sibling \nReserve your spot now and help make this night a success for both your child and their amazing dancers! \nSign up by clicking here  \n 
URL:https://marketcommonmb.com/event/easter-bunny-pajama-jam-2/
LOCATION:Coastal Dance Centre\, 3073 Howard Avenue\, Myrtle Beach\, SC\, 29577\, United States
CATEGORIES:Art,Dance,Design,Family Events,Kids Events,Seasonal Events,Social Events
ATTACH;FMTTYPE=image/png:https://marketcommonmb.com/wp-content/uploads/2025/04/Easter-slumber.png
END:VEVENT
END:VCALENDAR