BEGIN:VCALENDAR
VERSION:2.0
PRODID:-//The Market Common Myrtle Beach - ECPv6.15.12.2//NONSGML v1.0//EN
CALSCALE:GREGORIAN
METHOD:PUBLISH
X-ORIGINAL-URL:https://marketcommonmb.com
X-WR-CALDESC:Events for The Market Common Myrtle Beach
REFRESH-INTERVAL;VALUE=DURATION:PT1H
X-Robots-Tag:noindex
X-PUBLISHED-TTL:PT1H
BEGIN:VTIMEZONE
TZID:America/New_York
BEGIN:DAYLIGHT
TZOFFSETFROM:-0500
TZOFFSETTO:-0400
TZNAME:EDT
DTSTART:20250309T070000
END:DAYLIGHT
BEGIN:STANDARD
TZOFFSETFROM:-0400
TZOFFSETTO:-0500
TZNAME:EST
DTSTART:20251102T060000
END:STANDARD
BEGIN:DAYLIGHT
TZOFFSETFROM:-0500
TZOFFSETTO:-0400
TZNAME:EDT
DTSTART:20260308T070000
END:DAYLIGHT
BEGIN:STANDARD
TZOFFSETFROM:-0400
TZOFFSETTO:-0500
TZNAME:EST
DTSTART:20261101T060000
END:STANDARD
BEGIN:DAYLIGHT
TZOFFSETFROM:-0500
TZOFFSETTO:-0400
TZNAME:EDT
DTSTART:20270314T070000
END:DAYLIGHT
BEGIN:STANDARD
TZOFFSETFROM:-0400
TZOFFSETTO:-0500
TZNAME:EST
DTSTART:20271107T060000
END:STANDARD
END:VTIMEZONE
BEGIN:VEVENT
DTSTART;TZID=America/New_York:20260202T190000
DTEND;TZID=America/New_York:20260202T210000
DTSTAMP:20260422T142054
CREATED:20240610T125546Z
LAST-MODIFIED:20240610T133250Z
UID:10002894-1770058800-1770066000@marketcommonmb.com
SUMMARY:Jukebox Bingo
DESCRIPTION:Jukebox Bingo uses songs from specific genres/eras. Fill your card up or complete the various Bingo games and win 810 gift cards! Mondays from 7-9 pm at 810 Billiards & Bowling in The Market Common.
URL:https://marketcommonmb.com/event/jukebox-bingo/2026-02-02/
LOCATION:810 Billiards & Bowling\, 1220 Moser Drive\, Myrtle Beach\, SC\, 29577\, United States
CATEGORIES:Music Events,Social Events
ATTACH;FMTTYPE=image/png:https://marketcommonmb.com/wp-content/uploads/2024/06/Jukebox-Bingo-1.png
END:VEVENT
BEGIN:VEVENT
DTSTART;TZID=America/New_York:20260206T180000
DTEND;TZID=America/New_York:20260206T210000
DTSTAMP:20260422T142054
CREATED:20240607T173809Z
LAST-MODIFIED:20240610T145130Z
UID:10000480-1770400800-1770411600@marketcommonmb.com
SUMMARY:Jazz Band at Travinia
DESCRIPTION:Live jazz every Friday night at Travinia Italian Wine Bar & Kitchen\, starting at 6:00 pm. Enjoy great music\, delicious Italian food\, and fine wines for a memorable evening!
URL:https://marketcommonmb.com/event/jazz-band-at-travinia/2026-02-06/
LOCATION:Travinia\, 4011 Deville St\, Myrtle Beach\, SC\, 29577\, United States
CATEGORIES:Music Events
ATTACH;FMTTYPE=image/png:https://marketcommonmb.com/wp-content/uploads/2024/06/Jazz-Band-1.png
END:VEVENT
BEGIN:VEVENT
DTSTART;TZID=America/New_York:20260206T201000
DTEND;TZID=America/New_York:20260206T231000
DTSTAMP:20260422T142054
CREATED:20260129T174332Z
LAST-MODIFIED:20260129T174332Z
UID:10025029-1770408600-1770419400@marketcommonmb.com
SUMMARY:Chocolate Chip: Live Music at 810 Bowling
DESCRIPTION:Enjoy live music every Friday at 810 Bowling & Billiards. Friday\, February 6th enjoy Chocolate Chip & Company from 8:10 pm- 11:10 pm.
URL:https://marketcommonmb.com/event/chocolate-chip-live-music-at-810-bowling-3/
LOCATION:810 Billiards & Bowling\, 1220 Moser Drive\, Myrtle Beach\, SC\, 29577\, United States
CATEGORIES:Dance,Drink Specials,Food Specials,Music Events,Social Events
ATTACH;FMTTYPE=image/png:https://marketcommonmb.com/wp-content/uploads/2025/01/810livemusic.png
END:VEVENT
BEGIN:VEVENT
DTSTART;TZID=America/New_York:20260207T200000
DTEND;TZID=America/New_York:20260207T200000
DTSTAMP:20260422T142054
CREATED:20240613T201217Z
LAST-MODIFIED:20250306T140405Z
UID:10004482-1770494400-1770494400@marketcommonmb.com
SUMMARY:Live DJ
DESCRIPTION:Enjoy great music\, delicious food\, and endless fun at 810 Billiards & Bowling with Live DJ select Saturdays from 9 PM to 12 AM.
URL:https://marketcommonmb.com/event/live-dj/2026-02-07/
LOCATION:810 Billiards & Bowling\, 1220 Moser Drive\, Myrtle Beach\, SC\, 29577\, United States
CATEGORIES:Music Events
ATTACH;FMTTYPE=image/png:https://marketcommonmb.com/wp-content/uploads/2024/06/DJ.png
END:VEVENT
BEGIN:VEVENT
DTSTART;TZID=America/New_York:20260209T190000
DTEND;TZID=America/New_York:20260209T210000
DTSTAMP:20260422T142054
CREATED:20240610T125546Z
LAST-MODIFIED:20240610T133250Z
UID:10002895-1770663600-1770670800@marketcommonmb.com
SUMMARY:Jukebox Bingo
DESCRIPTION:Jukebox Bingo uses songs from specific genres/eras. Fill your card up or complete the various Bingo games and win 810 gift cards! Mondays from 7-9 pm at 810 Billiards & Bowling in The Market Common.
URL:https://marketcommonmb.com/event/jukebox-bingo/2026-02-09/
LOCATION:810 Billiards & Bowling\, 1220 Moser Drive\, Myrtle Beach\, SC\, 29577\, United States
CATEGORIES:Music Events,Social Events
ATTACH;FMTTYPE=image/png:https://marketcommonmb.com/wp-content/uploads/2024/06/Jukebox-Bingo-1.png
END:VEVENT
BEGIN:VEVENT
DTSTART;TZID=America/New_York:20260210T170000
DTEND;TZID=America/New_York:20260210T200000
DTSTAMP:20260422T142054
CREATED:20260203T135519Z
LAST-MODIFIED:20260203T135519Z
UID:10025815-1770742800-1770753600@marketcommonmb.com
SUMMARY:Live Music with Dash - Gordon Biersch
DESCRIPTION:Enjoy live music with Dash every second Tuesday of the month from 5-8 PM at Gordon Biersch Brewery.
URL:https://marketcommonmb.com/event/live-music-with-dash-gordon-biersch/2026-02-10/
LOCATION:Gordon Biersch Brewery\, 3060 Howard Avenue\, Myrtle Beach\, 29577\, United States
CATEGORIES:Music Events,Social Events
ATTACH;FMTTYPE=image/png:https://marketcommonmb.com/wp-content/uploads/2026/02/Screenshot-2026-02-03-085240.png
END:VEVENT
BEGIN:VEVENT
DTSTART;TZID=America/New_York:20260213T180000
DTEND;TZID=America/New_York:20260213T210000
DTSTAMP:20260422T142054
CREATED:20240607T173809Z
LAST-MODIFIED:20240610T145130Z
UID:10000481-1771005600-1771016400@marketcommonmb.com
SUMMARY:Jazz Band at Travinia
DESCRIPTION:Live jazz every Friday night at Travinia Italian Wine Bar & Kitchen\, starting at 6:00 pm. Enjoy great music\, delicious Italian food\, and fine wines for a memorable evening!
URL:https://marketcommonmb.com/event/jazz-band-at-travinia/2026-02-13/
LOCATION:Travinia\, 4011 Deville St\, Myrtle Beach\, SC\, 29577\, United States
CATEGORIES:Music Events
ATTACH;FMTTYPE=image/png:https://marketcommonmb.com/wp-content/uploads/2024/06/Jazz-Band-1.png
END:VEVENT
BEGIN:VEVENT
DTSTART;TZID=America/New_York:20260213T201000
DTEND;TZID=America/New_York:20260213T231000
DTSTAMP:20260422T142054
CREATED:20260213T193028Z
LAST-MODIFIED:20260213T193156Z
UID:10026206-1771013400-1771024200@marketcommonmb.com
SUMMARY:Live Music @ 810 Entertainment
DESCRIPTION:Enjoy live music at 810 Entertainment every Friday starting at 8:10PM \n810’s Schedule of Events and Performers
URL:https://marketcommonmb.com/event/live-music-810-entertainment/2026-02-13/
LOCATION:810 Billiards & Bowling\, 1220 Moser Drive\, Myrtle Beach\, SC\, 29577\, United States
CATEGORIES:Dance,Music Events,Social Events
ATTACH;FMTTYPE=image/png:https://marketcommonmb.com/wp-content/uploads/2024/05/810.png
END:VEVENT
BEGIN:VEVENT
DTSTART;TZID=America/New_York:20260214T170000
DTEND;TZID=America/New_York:20260214T190000
DTSTAMP:20260422T142054
CREATED:20260127T160925Z
LAST-MODIFIED:20260127T160928Z
UID:10024699-1771088400-1771095600@marketcommonmb.com
SUMMARY:Valentine's Day String Duo Performance
DESCRIPTION:Compliment your Valentine’s date night with the romantic sounds of a string duo performance by Strand Strings. Happening right outside of Grand 14 Plaza! \nPlaces to dine to compliment your date night with this performance.
URL:https://marketcommonmb.com/event/valentines-day-string-duo-performance/
LOCATION:GTC Theater\, 4002 Deville Street\, MYRTLE BEACH\, SC\, 29577-1640\, United States
CATEGORIES:Music Events,Seasonal Events
ATTACH;FMTTYPE=image/avif:https://marketcommonmb.com/wp-content/uploads/2026/01/violin.avif
END:VEVENT
BEGIN:VEVENT
DTSTART;TZID=America/New_York:20260214T200000
DTEND;TZID=America/New_York:20260214T200000
DTSTAMP:20260422T142054
CREATED:20240613T201217Z
LAST-MODIFIED:20250306T140405Z
UID:10004483-1771099200-1771099200@marketcommonmb.com
SUMMARY:Live DJ
DESCRIPTION:Enjoy great music\, delicious food\, and endless fun at 810 Billiards & Bowling with Live DJ select Saturdays from 9 PM to 12 AM.
URL:https://marketcommonmb.com/event/live-dj/2026-02-14/
LOCATION:810 Billiards & Bowling\, 1220 Moser Drive\, Myrtle Beach\, SC\, 29577\, United States
CATEGORIES:Music Events
ATTACH;FMTTYPE=image/png:https://marketcommonmb.com/wp-content/uploads/2024/06/DJ.png
END:VEVENT
BEGIN:VEVENT
DTSTART;TZID=America/New_York:20260216T190000
DTEND;TZID=America/New_York:20260216T210000
DTSTAMP:20260422T142054
CREATED:20240610T125546Z
LAST-MODIFIED:20240610T133250Z
UID:10002896-1771268400-1771275600@marketcommonmb.com
SUMMARY:Jukebox Bingo
DESCRIPTION:Jukebox Bingo uses songs from specific genres/eras. Fill your card up or complete the various Bingo games and win 810 gift cards! Mondays from 7-9 pm at 810 Billiards & Bowling in The Market Common.
URL:https://marketcommonmb.com/event/jukebox-bingo/2026-02-16/
LOCATION:810 Billiards & Bowling\, 1220 Moser Drive\, Myrtle Beach\, SC\, 29577\, United States
CATEGORIES:Music Events,Social Events
ATTACH;FMTTYPE=image/png:https://marketcommonmb.com/wp-content/uploads/2024/06/Jukebox-Bingo-1.png
END:VEVENT
BEGIN:VEVENT
DTSTART;TZID=America/New_York:20260220T180000
DTEND;TZID=America/New_York:20260220T210000
DTSTAMP:20260422T142054
CREATED:20240607T173809Z
LAST-MODIFIED:20240610T145130Z
UID:10000482-1771610400-1771621200@marketcommonmb.com
SUMMARY:Jazz Band at Travinia
DESCRIPTION:Live jazz every Friday night at Travinia Italian Wine Bar & Kitchen\, starting at 6:00 pm. Enjoy great music\, delicious Italian food\, and fine wines for a memorable evening!
URL:https://marketcommonmb.com/event/jazz-band-at-travinia/2026-02-20/
LOCATION:Travinia\, 4011 Deville St\, Myrtle Beach\, SC\, 29577\, United States
CATEGORIES:Music Events
ATTACH;FMTTYPE=image/png:https://marketcommonmb.com/wp-content/uploads/2024/06/Jazz-Band-1.png
END:VEVENT
BEGIN:VEVENT
DTSTART;TZID=America/New_York:20260220T201000
DTEND;TZID=America/New_York:20260220T231000
DTSTAMP:20260422T142054
CREATED:20260213T134659Z
LAST-MODIFIED:20260213T134659Z
UID:10026204-1771618200-1771629000@marketcommonmb.com
SUMMARY:Julio and The Saltines - 810 Market Common
DESCRIPTION:One of Myrtle Beach’s hottest bands is back and ready to party at 810 Market Common starting at 810p-1110p!
URL:https://marketcommonmb.com/event/julio-and-the-saltines-810-market-common-2/
LOCATION:810 Billiards & Bowling\, 1220 Moser Drive\, Myrtle Beach\, SC\, 29577\, United States
CATEGORIES:Music Events
END:VEVENT
BEGIN:VEVENT
DTSTART;TZID=America/New_York:20260220T201000
DTEND;TZID=America/New_York:20260220T231000
DTSTAMP:20260422T142054
CREATED:20260213T193028Z
LAST-MODIFIED:20260213T193156Z
UID:10026207-1771618200-1771629000@marketcommonmb.com
SUMMARY:Live Music @ 810 Entertainment
DESCRIPTION:Enjoy live music at 810 Entertainment every Friday starting at 8:10PM \n810’s Schedule of Events and Performers
URL:https://marketcommonmb.com/event/live-music-810-entertainment/2026-02-20/
LOCATION:810 Billiards & Bowling\, 1220 Moser Drive\, Myrtle Beach\, SC\, 29577\, United States
CATEGORIES:Dance,Music Events,Social Events
ATTACH;FMTTYPE=image/png:https://marketcommonmb.com/wp-content/uploads/2024/05/810.png
END:VEVENT
BEGIN:VEVENT
DTSTART;TZID=America/New_York:20260221T200000
DTEND;TZID=America/New_York:20260221T200000
DTSTAMP:20260422T142054
CREATED:20240613T201217Z
LAST-MODIFIED:20250306T140405Z
UID:10004484-1771704000-1771704000@marketcommonmb.com
SUMMARY:Live DJ
DESCRIPTION:Enjoy great music\, delicious food\, and endless fun at 810 Billiards & Bowling with Live DJ select Saturdays from 9 PM to 12 AM.
URL:https://marketcommonmb.com/event/live-dj/2026-02-21/
LOCATION:810 Billiards & Bowling\, 1220 Moser Drive\, Myrtle Beach\, SC\, 29577\, United States
CATEGORIES:Music Events
ATTACH;FMTTYPE=image/png:https://marketcommonmb.com/wp-content/uploads/2024/06/DJ.png
END:VEVENT
BEGIN:VEVENT
DTSTART;TZID=America/New_York:20260223T190000
DTEND;TZID=America/New_York:20260223T210000
DTSTAMP:20260422T142054
CREATED:20240610T125546Z
LAST-MODIFIED:20240610T133250Z
UID:10002897-1771873200-1771880400@marketcommonmb.com
SUMMARY:Jukebox Bingo
DESCRIPTION:Jukebox Bingo uses songs from specific genres/eras. Fill your card up or complete the various Bingo games and win 810 gift cards! Mondays from 7-9 pm at 810 Billiards & Bowling in The Market Common.
URL:https://marketcommonmb.com/event/jukebox-bingo/2026-02-23/
LOCATION:810 Billiards & Bowling\, 1220 Moser Drive\, Myrtle Beach\, SC\, 29577\, United States
CATEGORIES:Music Events,Social Events
ATTACH;FMTTYPE=image/png:https://marketcommonmb.com/wp-content/uploads/2024/06/Jukebox-Bingo-1.png
END:VEVENT
BEGIN:VEVENT
DTSTART;TZID=America/New_York:20260227T160000
DTEND;TZID=America/New_York:20260227T190000
DTSTAMP:20260422T142054
CREATED:20260203T140352Z
LAST-MODIFIED:20260203T140352Z
UID:10025875-1772208000-1772218800@marketcommonmb.com
SUMMARY:Live Music with Jason Owens - Gordon Biersch
DESCRIPTION:Enjoy live music with Jason Owens on the last Friday of every month at Gordon Biersch Brewery.
URL:https://marketcommonmb.com/event/live-music-with-jason-owens-gordon-biersch/2026-02-27/
LOCATION:Gordon Biersch Brewery\, 3060 Howard Avenue\, Myrtle Beach\, 29577\, United States
CATEGORIES:Dance,Music Events,Social Events
ATTACH;FMTTYPE=image/png:https://marketcommonmb.com/wp-content/uploads/2026/02/Screenshot-2026-02-03-090219.png
END:VEVENT
BEGIN:VEVENT
DTSTART;TZID=America/New_York:20260227T180000
DTEND;TZID=America/New_York:20260227T210000
DTSTAMP:20260422T142054
CREATED:20240607T173809Z
LAST-MODIFIED:20240610T145130Z
UID:10000483-1772215200-1772226000@marketcommonmb.com
SUMMARY:Jazz Band at Travinia
DESCRIPTION:Live jazz every Friday night at Travinia Italian Wine Bar & Kitchen\, starting at 6:00 pm. Enjoy great music\, delicious Italian food\, and fine wines for a memorable evening!
URL:https://marketcommonmb.com/event/jazz-band-at-travinia/2026-02-27/
LOCATION:Travinia\, 4011 Deville St\, Myrtle Beach\, SC\, 29577\, United States
CATEGORIES:Music Events
ATTACH;FMTTYPE=image/png:https://marketcommonmb.com/wp-content/uploads/2024/06/Jazz-Band-1.png
END:VEVENT
BEGIN:VEVENT
DTSTART;TZID=America/New_York:20260227T201000
DTEND;TZID=America/New_York:20260227T231000
DTSTAMP:20260422T142054
CREATED:20260213T193028Z
LAST-MODIFIED:20260213T193156Z
UID:10026208-1772223000-1772233800@marketcommonmb.com
SUMMARY:Live Music @ 810 Entertainment
DESCRIPTION:Enjoy live music at 810 Entertainment every Friday starting at 8:10PM \n810’s Schedule of Events and Performers
URL:https://marketcommonmb.com/event/live-music-810-entertainment/2026-02-27/
LOCATION:810 Billiards & Bowling\, 1220 Moser Drive\, Myrtle Beach\, SC\, 29577\, United States
CATEGORIES:Dance,Music Events,Social Events
ATTACH;FMTTYPE=image/png:https://marketcommonmb.com/wp-content/uploads/2024/05/810.png
END:VEVENT
BEGIN:VEVENT
DTSTART;TZID=America/New_York:20260228T200000
DTEND;TZID=America/New_York:20260228T200000
DTSTAMP:20260422T142054
CREATED:20240613T201217Z
LAST-MODIFIED:20250306T140405Z
UID:10004485-1772308800-1772308800@marketcommonmb.com
SUMMARY:Live DJ
DESCRIPTION:Enjoy great music\, delicious food\, and endless fun at 810 Billiards & Bowling with Live DJ select Saturdays from 9 PM to 12 AM.
URL:https://marketcommonmb.com/event/live-dj/2026-02-28/
LOCATION:810 Billiards & Bowling\, 1220 Moser Drive\, Myrtle Beach\, SC\, 29577\, United States
CATEGORIES:Music Events
ATTACH;FMTTYPE=image/png:https://marketcommonmb.com/wp-content/uploads/2024/06/DJ.png
END:VEVENT
END:VCALENDAR