BEGIN:VCALENDAR
VERSION:2.0
PRODID:-//The Market Common Myrtle Beach - ECPv6.15.12.2//NONSGML v1.0//EN
CALSCALE:GREGORIAN
METHOD:PUBLISH
X-ORIGINAL-URL:https://marketcommonmb.com
X-WR-CALDESC:Events for The Market Common Myrtle Beach
REFRESH-INTERVAL;VALUE=DURATION:PT1H
X-Robots-Tag:noindex
X-PUBLISHED-TTL:PT1H
BEGIN:VTIMEZONE
TZID:America/New_York
BEGIN:DAYLIGHT
TZOFFSETFROM:-0500
TZOFFSETTO:-0400
TZNAME:EDT
DTSTART:20250309T070000
END:DAYLIGHT
BEGIN:STANDARD
TZOFFSETFROM:-0400
TZOFFSETTO:-0500
TZNAME:EST
DTSTART:20251102T060000
END:STANDARD
BEGIN:DAYLIGHT
TZOFFSETFROM:-0500
TZOFFSETTO:-0400
TZNAME:EDT
DTSTART:20260308T070000
END:DAYLIGHT
BEGIN:STANDARD
TZOFFSETFROM:-0400
TZOFFSETTO:-0500
TZNAME:EST
DTSTART:20261101T060000
END:STANDARD
BEGIN:DAYLIGHT
TZOFFSETFROM:-0500
TZOFFSETTO:-0400
TZNAME:EDT
DTSTART:20270314T070000
END:DAYLIGHT
BEGIN:STANDARD
TZOFFSETFROM:-0400
TZOFFSETTO:-0500
TZNAME:EST
DTSTART:20271107T060000
END:STANDARD
END:VTIMEZONE
BEGIN:VEVENT
DTSTART;TZID=America/New_York:20261013T170000
DTEND;TZID=America/New_York:20261013T200000
DTSTAMP:20260423T063041
CREATED:20260203T135519Z
LAST-MODIFIED:20260203T135519Z
UID:10025823-1791910800-1791921600@marketcommonmb.com
SUMMARY:Live Music with Dash - Gordon Biersch
DESCRIPTION:Enjoy live music with Dash every second Tuesday of the month from 5-8 PM at Gordon Biersch Brewery.
URL:https://marketcommonmb.com/event/live-music-with-dash-gordon-biersch/2026-10-13/
LOCATION:Gordon Biersch Brewery\, 3060 Howard Avenue\, Myrtle Beach\, 29577\, United States
CATEGORIES:Music Events,Social Events
ATTACH;FMTTYPE=image/png:https://marketcommonmb.com/wp-content/uploads/2026/02/Screenshot-2026-02-03-085240.png
END:VEVENT
BEGIN:VEVENT
DTSTART;TZID=America/New_York:20261016T180000
DTEND;TZID=America/New_York:20261016T210000
DTSTAMP:20260423T063041
CREATED:20240607T173809Z
LAST-MODIFIED:20240610T145130Z
UID:10000516-1792173600-1792184400@marketcommonmb.com
SUMMARY:Jazz Band at Travinia
DESCRIPTION:Live jazz every Friday night at Travinia Italian Wine Bar & Kitchen\, starting at 6:00 pm. Enjoy great music\, delicious Italian food\, and fine wines for a memorable evening!
URL:https://marketcommonmb.com/event/jazz-band-at-travinia/2026-10-16/
LOCATION:Travinia\, 4011 Deville St\, Myrtle Beach\, SC\, 29577\, United States
CATEGORIES:Music Events
ATTACH;FMTTYPE=image/png:https://marketcommonmb.com/wp-content/uploads/2024/06/Jazz-Band-1.png
END:VEVENT
BEGIN:VEVENT
DTSTART;TZID=America/New_York:20261016T201000
DTEND;TZID=America/New_York:20261016T231000
DTSTAMP:20260423T063041
CREATED:20260213T193028Z
LAST-MODIFIED:20260213T193156Z
UID:10026241-1792181400-1792192200@marketcommonmb.com
SUMMARY:Live Music @ 810 Entertainment
DESCRIPTION:Enjoy live music at 810 Entertainment every Friday starting at 8:10PM \n810’s Schedule of Events and Performers
URL:https://marketcommonmb.com/event/live-music-810-entertainment/2026-10-16/
LOCATION:810 Billiards & Bowling\, 1220 Moser Drive\, Myrtle Beach\, SC\, 29577\, United States
CATEGORIES:Dance,Music Events,Social Events
ATTACH;FMTTYPE=image/png:https://marketcommonmb.com/wp-content/uploads/2024/05/810.png
END:VEVENT
BEGIN:VEVENT
DTSTART;TZID=America/New_York:20261017T200000
DTEND;TZID=America/New_York:20261017T200000
DTSTAMP:20260423T063041
CREATED:20240613T201217Z
LAST-MODIFIED:20250306T140405Z
UID:10004518-1792267200-1792267200@marketcommonmb.com
SUMMARY:Live DJ
DESCRIPTION:Enjoy great music\, delicious food\, and endless fun at 810 Billiards & Bowling with Live DJ select Saturdays from 9 PM to 12 AM.
URL:https://marketcommonmb.com/event/live-dj/2026-10-17/
LOCATION:810 Billiards & Bowling\, 1220 Moser Drive\, Myrtle Beach\, SC\, 29577\, United States
CATEGORIES:Music Events
ATTACH;FMTTYPE=image/png:https://marketcommonmb.com/wp-content/uploads/2024/06/DJ.png
END:VEVENT
BEGIN:VEVENT
DTSTART;TZID=America/New_York:20261019T190000
DTEND;TZID=America/New_York:20261019T210000
DTSTAMP:20260423T063041
CREATED:20240610T125546Z
LAST-MODIFIED:20240610T133250Z
UID:10002931-1792436400-1792443600@marketcommonmb.com
SUMMARY:Jukebox Bingo
DESCRIPTION:Jukebox Bingo uses songs from specific genres/eras. Fill your card up or complete the various Bingo games and win 810 gift cards! Mondays from 7-9 pm at 810 Billiards & Bowling in The Market Common.
URL:https://marketcommonmb.com/event/jukebox-bingo/2026-10-19/
LOCATION:810 Billiards & Bowling\, 1220 Moser Drive\, Myrtle Beach\, SC\, 29577\, United States
CATEGORIES:Music Events,Social Events
ATTACH;FMTTYPE=image/png:https://marketcommonmb.com/wp-content/uploads/2024/06/Jukebox-Bingo-1.png
END:VEVENT
BEGIN:VEVENT
DTSTART;TZID=America/New_York:20261023T180000
DTEND;TZID=America/New_York:20261023T210000
DTSTAMP:20260423T063041
CREATED:20240607T173809Z
LAST-MODIFIED:20240610T145130Z
UID:10000517-1792778400-1792789200@marketcommonmb.com
SUMMARY:Jazz Band at Travinia
DESCRIPTION:Live jazz every Friday night at Travinia Italian Wine Bar & Kitchen\, starting at 6:00 pm. Enjoy great music\, delicious Italian food\, and fine wines for a memorable evening!
URL:https://marketcommonmb.com/event/jazz-band-at-travinia/2026-10-23/
LOCATION:Travinia\, 4011 Deville St\, Myrtle Beach\, SC\, 29577\, United States
CATEGORIES:Music Events
ATTACH;FMTTYPE=image/png:https://marketcommonmb.com/wp-content/uploads/2024/06/Jazz-Band-1.png
END:VEVENT
BEGIN:VEVENT
DTSTART;TZID=America/New_York:20261023T201000
DTEND;TZID=America/New_York:20261023T231000
DTSTAMP:20260423T063041
CREATED:20260213T193028Z
LAST-MODIFIED:20260213T193156Z
UID:10026242-1792786200-1792797000@marketcommonmb.com
SUMMARY:Live Music @ 810 Entertainment
DESCRIPTION:Enjoy live music at 810 Entertainment every Friday starting at 8:10PM \n810’s Schedule of Events and Performers
URL:https://marketcommonmb.com/event/live-music-810-entertainment/2026-10-23/
LOCATION:810 Billiards & Bowling\, 1220 Moser Drive\, Myrtle Beach\, SC\, 29577\, United States
CATEGORIES:Dance,Music Events,Social Events
ATTACH;FMTTYPE=image/png:https://marketcommonmb.com/wp-content/uploads/2024/05/810.png
END:VEVENT
BEGIN:VEVENT
DTSTART;TZID=America/New_York:20261024T200000
DTEND;TZID=America/New_York:20261024T200000
DTSTAMP:20260423T063041
CREATED:20240613T201217Z
LAST-MODIFIED:20250306T140405Z
UID:10004519-1792872000-1792872000@marketcommonmb.com
SUMMARY:Live DJ
DESCRIPTION:Enjoy great music\, delicious food\, and endless fun at 810 Billiards & Bowling with Live DJ select Saturdays from 9 PM to 12 AM.
URL:https://marketcommonmb.com/event/live-dj/2026-10-24/
LOCATION:810 Billiards & Bowling\, 1220 Moser Drive\, Myrtle Beach\, SC\, 29577\, United States
CATEGORIES:Music Events
ATTACH;FMTTYPE=image/png:https://marketcommonmb.com/wp-content/uploads/2024/06/DJ.png
END:VEVENT
BEGIN:VEVENT
DTSTART;TZID=America/New_York:20261026T190000
DTEND;TZID=America/New_York:20261026T210000
DTSTAMP:20260423T063041
CREATED:20240610T125546Z
LAST-MODIFIED:20240610T133250Z
UID:10002932-1793041200-1793048400@marketcommonmb.com
SUMMARY:Jukebox Bingo
DESCRIPTION:Jukebox Bingo uses songs from specific genres/eras. Fill your card up or complete the various Bingo games and win 810 gift cards! Mondays from 7-9 pm at 810 Billiards & Bowling in The Market Common.
URL:https://marketcommonmb.com/event/jukebox-bingo/2026-10-26/
LOCATION:810 Billiards & Bowling\, 1220 Moser Drive\, Myrtle Beach\, SC\, 29577\, United States
CATEGORIES:Music Events,Social Events
ATTACH;FMTTYPE=image/png:https://marketcommonmb.com/wp-content/uploads/2024/06/Jukebox-Bingo-1.png
END:VEVENT
BEGIN:VEVENT
DTSTART;TZID=America/New_York:20261030T160000
DTEND;TZID=America/New_York:20261030T190000
DTSTAMP:20260423T063041
CREATED:20260203T140352Z
LAST-MODIFIED:20260203T140352Z
UID:10025883-1793376000-1793386800@marketcommonmb.com
SUMMARY:Live Music with Jason Owens - Gordon Biersch
DESCRIPTION:Enjoy live music with Jason Owens on the last Friday of every month at Gordon Biersch Brewery.
URL:https://marketcommonmb.com/event/live-music-with-jason-owens-gordon-biersch/2026-10-30/
LOCATION:Gordon Biersch Brewery\, 3060 Howard Avenue\, Myrtle Beach\, 29577\, United States
CATEGORIES:Dance,Music Events,Social Events
ATTACH;FMTTYPE=image/png:https://marketcommonmb.com/wp-content/uploads/2026/02/Screenshot-2026-02-03-090219.png
END:VEVENT
BEGIN:VEVENT
DTSTART;TZID=America/New_York:20261030T180000
DTEND;TZID=America/New_York:20261030T210000
DTSTAMP:20260423T063041
CREATED:20240607T173809Z
LAST-MODIFIED:20240610T145130Z
UID:10000518-1793383200-1793394000@marketcommonmb.com
SUMMARY:Jazz Band at Travinia
DESCRIPTION:Live jazz every Friday night at Travinia Italian Wine Bar & Kitchen\, starting at 6:00 pm. Enjoy great music\, delicious Italian food\, and fine wines for a memorable evening!
URL:https://marketcommonmb.com/event/jazz-band-at-travinia/2026-10-30/
LOCATION:Travinia\, 4011 Deville St\, Myrtle Beach\, SC\, 29577\, United States
CATEGORIES:Music Events
ATTACH;FMTTYPE=image/png:https://marketcommonmb.com/wp-content/uploads/2024/06/Jazz-Band-1.png
END:VEVENT
BEGIN:VEVENT
DTSTART;TZID=America/New_York:20261030T201000
DTEND;TZID=America/New_York:20261030T231000
DTSTAMP:20260423T063041
CREATED:20260213T193028Z
LAST-MODIFIED:20260213T193156Z
UID:10026243-1793391000-1793401800@marketcommonmb.com
SUMMARY:Live Music @ 810 Entertainment
DESCRIPTION:Enjoy live music at 810 Entertainment every Friday starting at 8:10PM \n810’s Schedule of Events and Performers
URL:https://marketcommonmb.com/event/live-music-810-entertainment/2026-10-30/
LOCATION:810 Billiards & Bowling\, 1220 Moser Drive\, Myrtle Beach\, SC\, 29577\, United States
CATEGORIES:Dance,Music Events,Social Events
ATTACH;FMTTYPE=image/png:https://marketcommonmb.com/wp-content/uploads/2024/05/810.png
END:VEVENT
BEGIN:VEVENT
DTSTART;TZID=America/New_York:20261031T200000
DTEND;TZID=America/New_York:20261031T200000
DTSTAMP:20260423T063041
CREATED:20240613T201217Z
LAST-MODIFIED:20250306T140405Z
UID:10004520-1793476800-1793476800@marketcommonmb.com
SUMMARY:Live DJ
DESCRIPTION:Enjoy great music\, delicious food\, and endless fun at 810 Billiards & Bowling with Live DJ select Saturdays from 9 PM to 12 AM.
URL:https://marketcommonmb.com/event/live-dj/2026-10-31/
LOCATION:810 Billiards & Bowling\, 1220 Moser Drive\, Myrtle Beach\, SC\, 29577\, United States
CATEGORIES:Music Events
ATTACH;FMTTYPE=image/png:https://marketcommonmb.com/wp-content/uploads/2024/06/DJ.png
END:VEVENT
BEGIN:VEVENT
DTSTART;TZID=America/New_York:20261102T190000
DTEND;TZID=America/New_York:20261102T210000
DTSTAMP:20260423T063041
CREATED:20240610T125546Z
LAST-MODIFIED:20240610T133250Z
UID:10002933-1793646000-1793653200@marketcommonmb.com
SUMMARY:Jukebox Bingo
DESCRIPTION:Jukebox Bingo uses songs from specific genres/eras. Fill your card up or complete the various Bingo games and win 810 gift cards! Mondays from 7-9 pm at 810 Billiards & Bowling in The Market Common.
URL:https://marketcommonmb.com/event/jukebox-bingo/2026-11-02/
LOCATION:810 Billiards & Bowling\, 1220 Moser Drive\, Myrtle Beach\, SC\, 29577\, United States
CATEGORIES:Music Events,Social Events
ATTACH;FMTTYPE=image/png:https://marketcommonmb.com/wp-content/uploads/2024/06/Jukebox-Bingo-1.png
END:VEVENT
BEGIN:VEVENT
DTSTART;TZID=America/New_York:20261106T180000
DTEND;TZID=America/New_York:20261106T210000
DTSTAMP:20260423T063041
CREATED:20240607T173809Z
LAST-MODIFIED:20240610T145130Z
UID:10000519-1793988000-1793998800@marketcommonmb.com
SUMMARY:Jazz Band at Travinia
DESCRIPTION:Live jazz every Friday night at Travinia Italian Wine Bar & Kitchen\, starting at 6:00 pm. Enjoy great music\, delicious Italian food\, and fine wines for a memorable evening!
URL:https://marketcommonmb.com/event/jazz-band-at-travinia/2026-11-06/
LOCATION:Travinia\, 4011 Deville St\, Myrtle Beach\, SC\, 29577\, United States
CATEGORIES:Music Events
ATTACH;FMTTYPE=image/png:https://marketcommonmb.com/wp-content/uploads/2024/06/Jazz-Band-1.png
END:VEVENT
BEGIN:VEVENT
DTSTART;TZID=America/New_York:20261106T201000
DTEND;TZID=America/New_York:20261106T231000
DTSTAMP:20260423T063041
CREATED:20260213T193028Z
LAST-MODIFIED:20260213T193156Z
UID:10026244-1793995800-1794006600@marketcommonmb.com
SUMMARY:Live Music @ 810 Entertainment
DESCRIPTION:Enjoy live music at 810 Entertainment every Friday starting at 8:10PM \n810’s Schedule of Events and Performers
URL:https://marketcommonmb.com/event/live-music-810-entertainment/2026-11-06/
LOCATION:810 Billiards & Bowling\, 1220 Moser Drive\, Myrtle Beach\, SC\, 29577\, United States
CATEGORIES:Dance,Music Events,Social Events
ATTACH;FMTTYPE=image/png:https://marketcommonmb.com/wp-content/uploads/2024/05/810.png
END:VEVENT
BEGIN:VEVENT
DTSTART;TZID=America/New_York:20261107T200000
DTEND;TZID=America/New_York:20261107T200000
DTSTAMP:20260423T063041
CREATED:20240613T201217Z
LAST-MODIFIED:20250306T140405Z
UID:10004521-1794081600-1794081600@marketcommonmb.com
SUMMARY:Live DJ
DESCRIPTION:Enjoy great music\, delicious food\, and endless fun at 810 Billiards & Bowling with Live DJ select Saturdays from 9 PM to 12 AM.
URL:https://marketcommonmb.com/event/live-dj/2026-11-07/
LOCATION:810 Billiards & Bowling\, 1220 Moser Drive\, Myrtle Beach\, SC\, 29577\, United States
CATEGORIES:Music Events
ATTACH;FMTTYPE=image/png:https://marketcommonmb.com/wp-content/uploads/2024/06/DJ.png
END:VEVENT
BEGIN:VEVENT
DTSTART;TZID=America/New_York:20261109T190000
DTEND;TZID=America/New_York:20261109T210000
DTSTAMP:20260423T063041
CREATED:20240610T125546Z
LAST-MODIFIED:20240610T133250Z
UID:10002934-1794250800-1794258000@marketcommonmb.com
SUMMARY:Jukebox Bingo
DESCRIPTION:Jukebox Bingo uses songs from specific genres/eras. Fill your card up or complete the various Bingo games and win 810 gift cards! Mondays from 7-9 pm at 810 Billiards & Bowling in The Market Common.
URL:https://marketcommonmb.com/event/jukebox-bingo/2026-11-09/
LOCATION:810 Billiards & Bowling\, 1220 Moser Drive\, Myrtle Beach\, SC\, 29577\, United States
CATEGORIES:Music Events,Social Events
ATTACH;FMTTYPE=image/png:https://marketcommonmb.com/wp-content/uploads/2024/06/Jukebox-Bingo-1.png
END:VEVENT
BEGIN:VEVENT
DTSTART;TZID=America/New_York:20261110T170000
DTEND;TZID=America/New_York:20261110T200000
DTSTAMP:20260423T063041
CREATED:20260203T135519Z
LAST-MODIFIED:20260203T135519Z
UID:10025824-1794330000-1794340800@marketcommonmb.com
SUMMARY:Live Music with Dash - Gordon Biersch
DESCRIPTION:Enjoy live music with Dash every second Tuesday of the month from 5-8 PM at Gordon Biersch Brewery.
URL:https://marketcommonmb.com/event/live-music-with-dash-gordon-biersch/2026-11-10/
LOCATION:Gordon Biersch Brewery\, 3060 Howard Avenue\, Myrtle Beach\, 29577\, United States
CATEGORIES:Music Events,Social Events
ATTACH;FMTTYPE=image/png:https://marketcommonmb.com/wp-content/uploads/2026/02/Screenshot-2026-02-03-085240.png
END:VEVENT
BEGIN:VEVENT
DTSTART;TZID=America/New_York:20261113T180000
DTEND;TZID=America/New_York:20261113T210000
DTSTAMP:20260423T063041
CREATED:20240607T173809Z
LAST-MODIFIED:20240610T145130Z
UID:10000520-1794592800-1794603600@marketcommonmb.com
SUMMARY:Jazz Band at Travinia
DESCRIPTION:Live jazz every Friday night at Travinia Italian Wine Bar & Kitchen\, starting at 6:00 pm. Enjoy great music\, delicious Italian food\, and fine wines for a memorable evening!
URL:https://marketcommonmb.com/event/jazz-band-at-travinia/2026-11-13/
LOCATION:Travinia\, 4011 Deville St\, Myrtle Beach\, SC\, 29577\, United States
CATEGORIES:Music Events
ATTACH;FMTTYPE=image/png:https://marketcommonmb.com/wp-content/uploads/2024/06/Jazz-Band-1.png
END:VEVENT
BEGIN:VEVENT
DTSTART;TZID=America/New_York:20261113T201000
DTEND;TZID=America/New_York:20261113T231000
DTSTAMP:20260423T063041
CREATED:20260213T193028Z
LAST-MODIFIED:20260213T193156Z
UID:10026245-1794600600-1794611400@marketcommonmb.com
SUMMARY:Live Music @ 810 Entertainment
DESCRIPTION:Enjoy live music at 810 Entertainment every Friday starting at 8:10PM \n810’s Schedule of Events and Performers
URL:https://marketcommonmb.com/event/live-music-810-entertainment/2026-11-13/
LOCATION:810 Billiards & Bowling\, 1220 Moser Drive\, Myrtle Beach\, SC\, 29577\, United States
CATEGORIES:Dance,Music Events,Social Events
ATTACH;FMTTYPE=image/png:https://marketcommonmb.com/wp-content/uploads/2024/05/810.png
END:VEVENT
BEGIN:VEVENT
DTSTART;TZID=America/New_York:20261114T200000
DTEND;TZID=America/New_York:20261114T200000
DTSTAMP:20260423T063041
CREATED:20240613T201217Z
LAST-MODIFIED:20250306T140405Z
UID:10004522-1794686400-1794686400@marketcommonmb.com
SUMMARY:Live DJ
DESCRIPTION:Enjoy great music\, delicious food\, and endless fun at 810 Billiards & Bowling with Live DJ select Saturdays from 9 PM to 12 AM.
URL:https://marketcommonmb.com/event/live-dj/2026-11-14/
LOCATION:810 Billiards & Bowling\, 1220 Moser Drive\, Myrtle Beach\, SC\, 29577\, United States
CATEGORIES:Music Events
ATTACH;FMTTYPE=image/png:https://marketcommonmb.com/wp-content/uploads/2024/06/DJ.png
END:VEVENT
BEGIN:VEVENT
DTSTART;TZID=America/New_York:20261116T190000
DTEND;TZID=America/New_York:20261116T210000
DTSTAMP:20260423T063041
CREATED:20240610T125546Z
LAST-MODIFIED:20240610T133250Z
UID:10002935-1794855600-1794862800@marketcommonmb.com
SUMMARY:Jukebox Bingo
DESCRIPTION:Jukebox Bingo uses songs from specific genres/eras. Fill your card up or complete the various Bingo games and win 810 gift cards! Mondays from 7-9 pm at 810 Billiards & Bowling in The Market Common.
URL:https://marketcommonmb.com/event/jukebox-bingo/2026-11-16/
LOCATION:810 Billiards & Bowling\, 1220 Moser Drive\, Myrtle Beach\, SC\, 29577\, United States
CATEGORIES:Music Events,Social Events
ATTACH;FMTTYPE=image/png:https://marketcommonmb.com/wp-content/uploads/2024/06/Jukebox-Bingo-1.png
END:VEVENT
BEGIN:VEVENT
DTSTART;TZID=America/New_York:20261120T180000
DTEND;TZID=America/New_York:20261120T210000
DTSTAMP:20260423T063041
CREATED:20240607T173809Z
LAST-MODIFIED:20240610T145130Z
UID:10000521-1795197600-1795208400@marketcommonmb.com
SUMMARY:Jazz Band at Travinia
DESCRIPTION:Live jazz every Friday night at Travinia Italian Wine Bar & Kitchen\, starting at 6:00 pm. Enjoy great music\, delicious Italian food\, and fine wines for a memorable evening!
URL:https://marketcommonmb.com/event/jazz-band-at-travinia/2026-11-20/
LOCATION:Travinia\, 4011 Deville St\, Myrtle Beach\, SC\, 29577\, United States
CATEGORIES:Music Events
ATTACH;FMTTYPE=image/png:https://marketcommonmb.com/wp-content/uploads/2024/06/Jazz-Band-1.png
END:VEVENT
BEGIN:VEVENT
DTSTART;TZID=America/New_York:20261120T201000
DTEND;TZID=America/New_York:20261120T231000
DTSTAMP:20260423T063041
CREATED:20260213T193028Z
LAST-MODIFIED:20260213T193156Z
UID:10026246-1795205400-1795216200@marketcommonmb.com
SUMMARY:Live Music @ 810 Entertainment
DESCRIPTION:Enjoy live music at 810 Entertainment every Friday starting at 8:10PM \n810’s Schedule of Events and Performers
URL:https://marketcommonmb.com/event/live-music-810-entertainment/2026-11-20/
LOCATION:810 Billiards & Bowling\, 1220 Moser Drive\, Myrtle Beach\, SC\, 29577\, United States
CATEGORIES:Dance,Music Events,Social Events
ATTACH;FMTTYPE=image/png:https://marketcommonmb.com/wp-content/uploads/2024/05/810.png
END:VEVENT
BEGIN:VEVENT
DTSTART;TZID=America/New_York:20261121T200000
DTEND;TZID=America/New_York:20261121T200000
DTSTAMP:20260423T063041
CREATED:20240613T201217Z
LAST-MODIFIED:20250306T140405Z
UID:10004523-1795291200-1795291200@marketcommonmb.com
SUMMARY:Live DJ
DESCRIPTION:Enjoy great music\, delicious food\, and endless fun at 810 Billiards & Bowling with Live DJ select Saturdays from 9 PM to 12 AM.
URL:https://marketcommonmb.com/event/live-dj/2026-11-21/
LOCATION:810 Billiards & Bowling\, 1220 Moser Drive\, Myrtle Beach\, SC\, 29577\, United States
CATEGORIES:Music Events
ATTACH;FMTTYPE=image/png:https://marketcommonmb.com/wp-content/uploads/2024/06/DJ.png
END:VEVENT
BEGIN:VEVENT
DTSTART;TZID=America/New_York:20261123T190000
DTEND;TZID=America/New_York:20261123T210000
DTSTAMP:20260423T063041
CREATED:20240610T125546Z
LAST-MODIFIED:20240610T133250Z
UID:10002936-1795460400-1795467600@marketcommonmb.com
SUMMARY:Jukebox Bingo
DESCRIPTION:Jukebox Bingo uses songs from specific genres/eras. Fill your card up or complete the various Bingo games and win 810 gift cards! Mondays from 7-9 pm at 810 Billiards & Bowling in The Market Common.
URL:https://marketcommonmb.com/event/jukebox-bingo/2026-11-23/
LOCATION:810 Billiards & Bowling\, 1220 Moser Drive\, Myrtle Beach\, SC\, 29577\, United States
CATEGORIES:Music Events,Social Events
ATTACH;FMTTYPE=image/png:https://marketcommonmb.com/wp-content/uploads/2024/06/Jukebox-Bingo-1.png
END:VEVENT
BEGIN:VEVENT
DTSTART;TZID=America/New_York:20261127T160000
DTEND;TZID=America/New_York:20261127T190000
DTSTAMP:20260423T063041
CREATED:20260203T140352Z
LAST-MODIFIED:20260203T140352Z
UID:10025884-1795795200-1795806000@marketcommonmb.com
SUMMARY:Live Music with Jason Owens - Gordon Biersch
DESCRIPTION:Enjoy live music with Jason Owens on the last Friday of every month at Gordon Biersch Brewery.
URL:https://marketcommonmb.com/event/live-music-with-jason-owens-gordon-biersch/2026-11-27/
LOCATION:Gordon Biersch Brewery\, 3060 Howard Avenue\, Myrtle Beach\, 29577\, United States
CATEGORIES:Dance,Music Events,Social Events
ATTACH;FMTTYPE=image/png:https://marketcommonmb.com/wp-content/uploads/2026/02/Screenshot-2026-02-03-090219.png
END:VEVENT
BEGIN:VEVENT
DTSTART;TZID=America/New_York:20261127T180000
DTEND;TZID=America/New_York:20261127T210000
DTSTAMP:20260423T063041
CREATED:20240607T173809Z
LAST-MODIFIED:20240610T145130Z
UID:10000522-1795802400-1795813200@marketcommonmb.com
SUMMARY:Jazz Band at Travinia
DESCRIPTION:Live jazz every Friday night at Travinia Italian Wine Bar & Kitchen\, starting at 6:00 pm. Enjoy great music\, delicious Italian food\, and fine wines for a memorable evening!
URL:https://marketcommonmb.com/event/jazz-band-at-travinia/2026-11-27/
LOCATION:Travinia\, 4011 Deville St\, Myrtle Beach\, SC\, 29577\, United States
CATEGORIES:Music Events
ATTACH;FMTTYPE=image/png:https://marketcommonmb.com/wp-content/uploads/2024/06/Jazz-Band-1.png
END:VEVENT
BEGIN:VEVENT
DTSTART;TZID=America/New_York:20261127T201000
DTEND;TZID=America/New_York:20261127T231000
DTSTAMP:20260423T063041
CREATED:20260213T193028Z
LAST-MODIFIED:20260213T193156Z
UID:10026247-1795810200-1795821000@marketcommonmb.com
SUMMARY:Live Music @ 810 Entertainment
DESCRIPTION:Enjoy live music at 810 Entertainment every Friday starting at 8:10PM \n810’s Schedule of Events and Performers
URL:https://marketcommonmb.com/event/live-music-810-entertainment/2026-11-27/
LOCATION:810 Billiards & Bowling\, 1220 Moser Drive\, Myrtle Beach\, SC\, 29577\, United States
CATEGORIES:Dance,Music Events,Social Events
ATTACH;FMTTYPE=image/png:https://marketcommonmb.com/wp-content/uploads/2024/05/810.png
END:VEVENT
END:VCALENDAR