BEGIN:VCALENDAR
VERSION:2.0
PRODID:-//The Market Common Myrtle Beach - ECPv6.15.12.2//NONSGML v1.0//EN
CALSCALE:GREGORIAN
METHOD:PUBLISH
X-ORIGINAL-URL:https://marketcommonmb.com
X-WR-CALDESC:Events for The Market Common Myrtle Beach
REFRESH-INTERVAL;VALUE=DURATION:PT1H
X-Robots-Tag:noindex
X-PUBLISHED-TTL:PT1H
BEGIN:VTIMEZONE
TZID:America/New_York
BEGIN:DAYLIGHT
TZOFFSETFROM:-0500
TZOFFSETTO:-0400
TZNAME:EDT
DTSTART:20250309T070000
END:DAYLIGHT
BEGIN:STANDARD
TZOFFSETFROM:-0400
TZOFFSETTO:-0500
TZNAME:EST
DTSTART:20251102T060000
END:STANDARD
BEGIN:DAYLIGHT
TZOFFSETFROM:-0500
TZOFFSETTO:-0400
TZNAME:EDT
DTSTART:20260308T070000
END:DAYLIGHT
BEGIN:STANDARD
TZOFFSETFROM:-0400
TZOFFSETTO:-0500
TZNAME:EST
DTSTART:20261101T060000
END:STANDARD
BEGIN:DAYLIGHT
TZOFFSETFROM:-0500
TZOFFSETTO:-0400
TZNAME:EDT
DTSTART:20270314T070000
END:DAYLIGHT
BEGIN:STANDARD
TZOFFSETFROM:-0400
TZOFFSETTO:-0500
TZNAME:EST
DTSTART:20271107T060000
END:STANDARD
END:VTIMEZONE
BEGIN:VEVENT
DTSTART;TZID=America/New_York:20260418T100000
DTEND;TZID=America/New_York:20260418T150000
DTSTAMP:20260425T071925
CREATED:20260414T121753Z
LAST-MODIFIED:20260414T121756Z
UID:10027472-1776506400-1776524400@marketcommonmb.com
SUMMARY:Farmer's Market
DESCRIPTION:Every Saturday from April 4th- December 19th\, 10 am to 3 pm\, in Valor Park. Featuring fresh produce\, artisanal goods\, and more from local vendors. \nPlease note that the Farmer’s Markets are not managed or organized by The Market Common. For any inquiries regarding this event\, please contact Waccamaw Market Cooperative directly.  \n 
URL:https://marketcommonmb.com/event/farmers-market-3/2026-04-18/
LOCATION:Valor Park\, 1120 Farrow Parkway\, Myrtle Beach\, SC\, 29577\, United States
CATEGORIES:Family Events,Outdoor Market,Seasonal Events
ATTACH;FMTTYPE=image/png:https://marketcommonmb.com/wp-content/uploads/2024/06/Farmers-market-1.png
END:VEVENT
BEGIN:VEVENT
DTSTART;TZID=America/New_York:20260418T100000
DTEND;TZID=America/New_York:20260418T160000
DTSTAMP:20260425T071925
CREATED:20260327T154848Z
LAST-MODIFIED:20260410T130215Z
UID:10027398-1776506400-1776528000@marketcommonmb.com
SUMMARY:Art in the Park
DESCRIPTION:Experience Art in the Park at Valor Park on Saturday\, April 18th & November 9th and Sunday\, April 19th & November 10th\, from 10 am to 4 pm! Discover a vibrant showcase of talented local artists and vendors offering one-of-a-kind pieces. This event is perfect for finding unique holiday gifts for family and friends\, with handcrafted items\, original artwork\, and creative treasures. Hosted by the Waccamaw Arts & Crafts Guild. \n 
URL:https://marketcommonmb.com/event/art-in-the-park-3/2026-04-18/
LOCATION:Valor Park\, 1120 Farrow Parkway\, Myrtle Beach\, SC\, 29577\, United States
CATEGORIES:Art,Family Events,Outdoor Market,Shopping
ATTACH;FMTTYPE=image/png:https://marketcommonmb.com/wp-content/uploads/2024/09/artinthepark.png
END:VEVENT
END:VCALENDAR