BEGIN:VCALENDAR
VERSION:2.0
PRODID:-//The Market Common Myrtle Beach - ECPv6.15.12.2//NONSGML v1.0//EN
CALSCALE:GREGORIAN
METHOD:PUBLISH
X-ORIGINAL-URL:https://marketcommonmb.com
X-WR-CALDESC:Events for The Market Common Myrtle Beach
REFRESH-INTERVAL;VALUE=DURATION:PT1H
X-Robots-Tag:noindex
X-PUBLISHED-TTL:PT1H
BEGIN:VTIMEZONE
TZID:America/New_York
BEGIN:DAYLIGHT
TZOFFSETFROM:-0500
TZOFFSETTO:-0400
TZNAME:EDT
DTSTART:20250309T070000
END:DAYLIGHT
BEGIN:STANDARD
TZOFFSETFROM:-0400
TZOFFSETTO:-0500
TZNAME:EST
DTSTART:20251102T060000
END:STANDARD
BEGIN:DAYLIGHT
TZOFFSETFROM:-0500
TZOFFSETTO:-0400
TZNAME:EDT
DTSTART:20260308T070000
END:DAYLIGHT
BEGIN:STANDARD
TZOFFSETFROM:-0400
TZOFFSETTO:-0500
TZNAME:EST
DTSTART:20261101T060000
END:STANDARD
BEGIN:DAYLIGHT
TZOFFSETFROM:-0500
TZOFFSETTO:-0400
TZNAME:EDT
DTSTART:20270314T070000
END:DAYLIGHT
BEGIN:STANDARD
TZOFFSETFROM:-0400
TZOFFSETTO:-0500
TZNAME:EST
DTSTART:20271107T060000
END:STANDARD
END:VTIMEZONE
BEGIN:VEVENT
DTSTART;TZID=America/New_York:20261010T100000
DTEND;TZID=America/New_York:20261010T150000
DTSTAMP:20260425T084833
CREATED:20260414T121753Z
LAST-MODIFIED:20260414T121756Z
UID:10027497-1791626400-1791644400@marketcommonmb.com
SUMMARY:Farmer's Market
DESCRIPTION:Every Saturday from April 4th- December 19th\, 10 am to 3 pm\, in Valor Park. Featuring fresh produce\, artisanal goods\, and more from local vendors. \nPlease note that the Farmer’s Markets are not managed or organized by The Market Common. For any inquiries regarding this event\, please contact Waccamaw Market Cooperative directly.  \n 
URL:https://marketcommonmb.com/event/farmers-market-3/2026-10-10/
LOCATION:Valor Park\, 1120 Farrow Parkway\, Myrtle Beach\, SC\, 29577\, United States
CATEGORIES:Family Events,Outdoor Market,Seasonal Events
ATTACH;FMTTYPE=image/png:https://marketcommonmb.com/wp-content/uploads/2024/06/Farmers-market-1.png
END:VEVENT
BEGIN:VEVENT
DTSTART;TZID=America/New_York:20261010T100000
DTEND;TZID=America/New_York:20261010T160000
DTSTAMP:20260425T084833
CREATED:20260327T154848Z
LAST-MODIFIED:20260410T130215Z
UID:10027400-1791626400-1791648000@marketcommonmb.com
SUMMARY:Art in the Park
DESCRIPTION:Experience Art in the Park at Valor Park on Saturday\, April 18th & November 9th and Sunday\, April 19th & November 10th\, from 10 am to 4 pm! Discover a vibrant showcase of talented local artists and vendors offering one-of-a-kind pieces. This event is perfect for finding unique holiday gifts for family and friends\, with handcrafted items\, original artwork\, and creative treasures. Hosted by the Waccamaw Arts & Crafts Guild. \n 
URL:https://marketcommonmb.com/event/art-in-the-park-3/2026-10-10/
LOCATION:Valor Park\, 1120 Farrow Parkway\, Myrtle Beach\, SC\, 29577\, United States
CATEGORIES:Art,Family Events,Outdoor Market,Shopping
ATTACH;FMTTYPE=image/png:https://marketcommonmb.com/wp-content/uploads/2024/09/artinthepark.png
END:VEVENT
BEGIN:VEVENT
DTSTART;TZID=America/New_York:20261011T100000
DTEND;TZID=America/New_York:20261011T160000
DTSTAMP:20260425T084833
CREATED:20260327T154848Z
LAST-MODIFIED:20260410T130215Z
UID:10027401-1791712800-1791734400@marketcommonmb.com
SUMMARY:Art in the Park
DESCRIPTION:Experience Art in the Park at Valor Park on Saturday\, April 18th & November 9th and Sunday\, April 19th & November 10th\, from 10 am to 4 pm! Discover a vibrant showcase of talented local artists and vendors offering one-of-a-kind pieces. This event is perfect for finding unique holiday gifts for family and friends\, with handcrafted items\, original artwork\, and creative treasures. Hosted by the Waccamaw Arts & Crafts Guild. \n 
URL:https://marketcommonmb.com/event/art-in-the-park-3/2026-10-11/
LOCATION:Valor Park\, 1120 Farrow Parkway\, Myrtle Beach\, SC\, 29577\, United States
CATEGORIES:Art,Family Events,Outdoor Market,Shopping
ATTACH;FMTTYPE=image/png:https://marketcommonmb.com/wp-content/uploads/2024/09/artinthepark.png
END:VEVENT
BEGIN:VEVENT
DTSTART;TZID=America/New_York:20261017T100000
DTEND;TZID=America/New_York:20261017T150000
DTSTAMP:20260425T084833
CREATED:20260414T121753Z
LAST-MODIFIED:20260414T121756Z
UID:10027498-1792231200-1792249200@marketcommonmb.com
SUMMARY:Farmer's Market
DESCRIPTION:Every Saturday from April 4th- December 19th\, 10 am to 3 pm\, in Valor Park. Featuring fresh produce\, artisanal goods\, and more from local vendors. \nPlease note that the Farmer’s Markets are not managed or organized by The Market Common. For any inquiries regarding this event\, please contact Waccamaw Market Cooperative directly.  \n 
URL:https://marketcommonmb.com/event/farmers-market-3/2026-10-17/
LOCATION:Valor Park\, 1120 Farrow Parkway\, Myrtle Beach\, SC\, 29577\, United States
CATEGORIES:Family Events,Outdoor Market,Seasonal Events
ATTACH;FMTTYPE=image/png:https://marketcommonmb.com/wp-content/uploads/2024/06/Farmers-market-1.png
END:VEVENT
BEGIN:VEVENT
DTSTART;TZID=America/New_York:20261024T100000
DTEND;TZID=America/New_York:20261024T150000
DTSTAMP:20260425T084833
CREATED:20260414T121753Z
LAST-MODIFIED:20260414T121756Z
UID:10027499-1792836000-1792854000@marketcommonmb.com
SUMMARY:Farmer's Market
DESCRIPTION:Every Saturday from April 4th- December 19th\, 10 am to 3 pm\, in Valor Park. Featuring fresh produce\, artisanal goods\, and more from local vendors. \nPlease note that the Farmer’s Markets are not managed or organized by The Market Common. For any inquiries regarding this event\, please contact Waccamaw Market Cooperative directly.  \n 
URL:https://marketcommonmb.com/event/farmers-market-3/2026-10-24/
LOCATION:Valor Park\, 1120 Farrow Parkway\, Myrtle Beach\, SC\, 29577\, United States
CATEGORIES:Family Events,Outdoor Market,Seasonal Events
ATTACH;FMTTYPE=image/png:https://marketcommonmb.com/wp-content/uploads/2024/06/Farmers-market-1.png
END:VEVENT
BEGIN:VEVENT
DTSTART;TZID=America/New_York:20261031T100000
DTEND;TZID=America/New_York:20261031T150000
DTSTAMP:20260425T084833
CREATED:20260414T121753Z
LAST-MODIFIED:20260414T121756Z
UID:10027500-1793440800-1793458800@marketcommonmb.com
SUMMARY:Farmer's Market
DESCRIPTION:Every Saturday from April 4th- December 19th\, 10 am to 3 pm\, in Valor Park. Featuring fresh produce\, artisanal goods\, and more from local vendors. \nPlease note that the Farmer’s Markets are not managed or organized by The Market Common. For any inquiries regarding this event\, please contact Waccamaw Market Cooperative directly.  \n 
URL:https://marketcommonmb.com/event/farmers-market-3/2026-10-31/
LOCATION:Valor Park\, 1120 Farrow Parkway\, Myrtle Beach\, SC\, 29577\, United States
CATEGORIES:Family Events,Outdoor Market,Seasonal Events
ATTACH;FMTTYPE=image/png:https://marketcommonmb.com/wp-content/uploads/2024/06/Farmers-market-1.png
END:VEVENT
BEGIN:VEVENT
DTSTART;TZID=America/New_York:20261107T100000
DTEND;TZID=America/New_York:20261107T150000
DTSTAMP:20260425T084833
CREATED:20260414T121753Z
LAST-MODIFIED:20260414T121756Z
UID:10027501-1794045600-1794063600@marketcommonmb.com
SUMMARY:Farmer's Market
DESCRIPTION:Every Saturday from April 4th- December 19th\, 10 am to 3 pm\, in Valor Park. Featuring fresh produce\, artisanal goods\, and more from local vendors. \nPlease note that the Farmer’s Markets are not managed or organized by The Market Common. For any inquiries regarding this event\, please contact Waccamaw Market Cooperative directly.  \n 
URL:https://marketcommonmb.com/event/farmers-market-3/2026-11-07/
LOCATION:Valor Park\, 1120 Farrow Parkway\, Myrtle Beach\, SC\, 29577\, United States
CATEGORIES:Family Events,Outdoor Market,Seasonal Events
ATTACH;FMTTYPE=image/png:https://marketcommonmb.com/wp-content/uploads/2024/06/Farmers-market-1.png
END:VEVENT
BEGIN:VEVENT
DTSTART;TZID=America/New_York:20261114T100000
DTEND;TZID=America/New_York:20261114T150000
DTSTAMP:20260425T084833
CREATED:20260414T121753Z
LAST-MODIFIED:20260414T121756Z
UID:10027502-1794650400-1794668400@marketcommonmb.com
SUMMARY:Farmer's Market
DESCRIPTION:Every Saturday from April 4th- December 19th\, 10 am to 3 pm\, in Valor Park. Featuring fresh produce\, artisanal goods\, and more from local vendors. \nPlease note that the Farmer’s Markets are not managed or organized by The Market Common. For any inquiries regarding this event\, please contact Waccamaw Market Cooperative directly.  \n 
URL:https://marketcommonmb.com/event/farmers-market-3/2026-11-14/
LOCATION:Valor Park\, 1120 Farrow Parkway\, Myrtle Beach\, SC\, 29577\, United States
CATEGORIES:Family Events,Outdoor Market,Seasonal Events
ATTACH;FMTTYPE=image/png:https://marketcommonmb.com/wp-content/uploads/2024/06/Farmers-market-1.png
END:VEVENT
BEGIN:VEVENT
DTSTART;TZID=America/New_York:20261114T100000
DTEND;TZID=America/New_York:20261114T160000
DTSTAMP:20260425T084833
CREATED:20260327T154848Z
LAST-MODIFIED:20260410T130215Z
UID:10027402-1794650400-1794672000@marketcommonmb.com
SUMMARY:Art in the Park
DESCRIPTION:Experience Art in the Park at Valor Park on Saturday\, April 18th & November 9th and Sunday\, April 19th & November 10th\, from 10 am to 4 pm! Discover a vibrant showcase of talented local artists and vendors offering one-of-a-kind pieces. This event is perfect for finding unique holiday gifts for family and friends\, with handcrafted items\, original artwork\, and creative treasures. Hosted by the Waccamaw Arts & Crafts Guild. \n 
URL:https://marketcommonmb.com/event/art-in-the-park-3/2026-11-14/
LOCATION:Valor Park\, 1120 Farrow Parkway\, Myrtle Beach\, SC\, 29577\, United States
CATEGORIES:Art,Family Events,Outdoor Market,Shopping
ATTACH;FMTTYPE=image/png:https://marketcommonmb.com/wp-content/uploads/2024/09/artinthepark.png
END:VEVENT
BEGIN:VEVENT
DTSTART;TZID=America/New_York:20261115T100000
DTEND;TZID=America/New_York:20261115T160000
DTSTAMP:20260425T084833
CREATED:20260327T154848Z
LAST-MODIFIED:20260410T130215Z
UID:10027403-1794736800-1794758400@marketcommonmb.com
SUMMARY:Art in the Park
DESCRIPTION:Experience Art in the Park at Valor Park on Saturday\, April 18th & November 9th and Sunday\, April 19th & November 10th\, from 10 am to 4 pm! Discover a vibrant showcase of talented local artists and vendors offering one-of-a-kind pieces. This event is perfect for finding unique holiday gifts for family and friends\, with handcrafted items\, original artwork\, and creative treasures. Hosted by the Waccamaw Arts & Crafts Guild. \n 
URL:https://marketcommonmb.com/event/art-in-the-park-3/2026-11-15/
LOCATION:Valor Park\, 1120 Farrow Parkway\, Myrtle Beach\, SC\, 29577\, United States
CATEGORIES:Art,Family Events,Outdoor Market,Shopping
ATTACH;FMTTYPE=image/png:https://marketcommonmb.com/wp-content/uploads/2024/09/artinthepark.png
END:VEVENT
BEGIN:VEVENT
DTSTART;TZID=America/New_York:20261121T100000
DTEND;TZID=America/New_York:20261121T150000
DTSTAMP:20260425T084833
CREATED:20260414T121753Z
LAST-MODIFIED:20260414T121756Z
UID:10027503-1795255200-1795273200@marketcommonmb.com
SUMMARY:Farmer's Market
DESCRIPTION:Every Saturday from April 4th- December 19th\, 10 am to 3 pm\, in Valor Park. Featuring fresh produce\, artisanal goods\, and more from local vendors. \nPlease note that the Farmer’s Markets are not managed or organized by The Market Common. For any inquiries regarding this event\, please contact Waccamaw Market Cooperative directly.  \n 
URL:https://marketcommonmb.com/event/farmers-market-3/2026-11-21/
LOCATION:Valor Park\, 1120 Farrow Parkway\, Myrtle Beach\, SC\, 29577\, United States
CATEGORIES:Family Events,Outdoor Market,Seasonal Events
ATTACH;FMTTYPE=image/png:https://marketcommonmb.com/wp-content/uploads/2024/06/Farmers-market-1.png
END:VEVENT
BEGIN:VEVENT
DTSTART;TZID=America/New_York:20261128T100000
DTEND;TZID=America/New_York:20261128T150000
DTSTAMP:20260425T084833
CREATED:20260414T121753Z
LAST-MODIFIED:20260414T121756Z
UID:10027504-1795860000-1795878000@marketcommonmb.com
SUMMARY:Farmer's Market
DESCRIPTION:Every Saturday from April 4th- December 19th\, 10 am to 3 pm\, in Valor Park. Featuring fresh produce\, artisanal goods\, and more from local vendors. \nPlease note that the Farmer’s Markets are not managed or organized by The Market Common. For any inquiries regarding this event\, please contact Waccamaw Market Cooperative directly.  \n 
URL:https://marketcommonmb.com/event/farmers-market-3/2026-11-28/
LOCATION:Valor Park\, 1120 Farrow Parkway\, Myrtle Beach\, SC\, 29577\, United States
CATEGORIES:Family Events,Outdoor Market,Seasonal Events
ATTACH;FMTTYPE=image/png:https://marketcommonmb.com/wp-content/uploads/2024/06/Farmers-market-1.png
END:VEVENT
BEGIN:VEVENT
DTSTART;TZID=America/New_York:20261205T100000
DTEND;TZID=America/New_York:20261205T150000
DTSTAMP:20260425T084833
CREATED:20260414T121753Z
LAST-MODIFIED:20260414T121756Z
UID:10027505-1796464800-1796482800@marketcommonmb.com
SUMMARY:Farmer's Market
DESCRIPTION:Every Saturday from April 4th- December 19th\, 10 am to 3 pm\, in Valor Park. Featuring fresh produce\, artisanal goods\, and more from local vendors. \nPlease note that the Farmer’s Markets are not managed or organized by The Market Common. For any inquiries regarding this event\, please contact Waccamaw Market Cooperative directly.  \n 
URL:https://marketcommonmb.com/event/farmers-market-3/2026-12-05/
LOCATION:Valor Park\, 1120 Farrow Parkway\, Myrtle Beach\, SC\, 29577\, United States
CATEGORIES:Family Events,Outdoor Market,Seasonal Events
ATTACH;FMTTYPE=image/png:https://marketcommonmb.com/wp-content/uploads/2024/06/Farmers-market-1.png
END:VEVENT
BEGIN:VEVENT
DTSTART;TZID=America/New_York:20261212T100000
DTEND;TZID=America/New_York:20261212T150000
DTSTAMP:20260425T084833
CREATED:20260414T121753Z
LAST-MODIFIED:20260414T121756Z
UID:10027506-1797069600-1797087600@marketcommonmb.com
SUMMARY:Farmer's Market
DESCRIPTION:Every Saturday from April 4th- December 19th\, 10 am to 3 pm\, in Valor Park. Featuring fresh produce\, artisanal goods\, and more from local vendors. \nPlease note that the Farmer’s Markets are not managed or organized by The Market Common. For any inquiries regarding this event\, please contact Waccamaw Market Cooperative directly.  \n 
URL:https://marketcommonmb.com/event/farmers-market-3/2026-12-12/
LOCATION:Valor Park\, 1120 Farrow Parkway\, Myrtle Beach\, SC\, 29577\, United States
CATEGORIES:Family Events,Outdoor Market,Seasonal Events
ATTACH;FMTTYPE=image/png:https://marketcommonmb.com/wp-content/uploads/2024/06/Farmers-market-1.png
END:VEVENT
BEGIN:VEVENT
DTSTART;TZID=America/New_York:20261219T100000
DTEND;TZID=America/New_York:20261219T150000
DTSTAMP:20260425T084833
CREATED:20260414T121753Z
LAST-MODIFIED:20260414T121756Z
UID:10027507-1797674400-1797692400@marketcommonmb.com
SUMMARY:Farmer's Market
DESCRIPTION:Every Saturday from April 4th- December 19th\, 10 am to 3 pm\, in Valor Park. Featuring fresh produce\, artisanal goods\, and more from local vendors. \nPlease note that the Farmer’s Markets are not managed or organized by The Market Common. For any inquiries regarding this event\, please contact Waccamaw Market Cooperative directly.  \n 
URL:https://marketcommonmb.com/event/farmers-market-3/2026-12-19/
LOCATION:Valor Park\, 1120 Farrow Parkway\, Myrtle Beach\, SC\, 29577\, United States
CATEGORIES:Family Events,Outdoor Market,Seasonal Events
ATTACH;FMTTYPE=image/png:https://marketcommonmb.com/wp-content/uploads/2024/06/Farmers-market-1.png
END:VEVENT
END:VCALENDAR