BEGIN:VCALENDAR
VERSION:2.0
PRODID:-//The Market Common Myrtle Beach - ECPv6.15.12.2//NONSGML v1.0//EN
CALSCALE:GREGORIAN
METHOD:PUBLISH
X-ORIGINAL-URL:https://marketcommonmb.com
X-WR-CALDESC:Events for The Market Common Myrtle Beach
REFRESH-INTERVAL;VALUE=DURATION:PT1H
X-Robots-Tag:noindex
X-PUBLISHED-TTL:PT1H
BEGIN:VTIMEZONE
TZID:America/New_York
BEGIN:DAYLIGHT
TZOFFSETFROM:-0500
TZOFFSETTO:-0400
TZNAME:EDT
DTSTART:20250309T070000
END:DAYLIGHT
BEGIN:STANDARD
TZOFFSETFROM:-0400
TZOFFSETTO:-0500
TZNAME:EST
DTSTART:20251102T060000
END:STANDARD
BEGIN:DAYLIGHT
TZOFFSETFROM:-0500
TZOFFSETTO:-0400
TZNAME:EDT
DTSTART:20260308T070000
END:DAYLIGHT
BEGIN:STANDARD
TZOFFSETFROM:-0400
TZOFFSETTO:-0500
TZNAME:EST
DTSTART:20261101T060000
END:STANDARD
BEGIN:DAYLIGHT
TZOFFSETFROM:-0500
TZOFFSETTO:-0400
TZNAME:EDT
DTSTART:20270314T070000
END:DAYLIGHT
BEGIN:STANDARD
TZOFFSETFROM:-0400
TZOFFSETTO:-0500
TZNAME:EST
DTSTART:20271107T060000
END:STANDARD
END:VTIMEZONE
BEGIN:VEVENT
DTSTART;VALUE=DATE:20260929
DTEND;VALUE=DATE:20260930
DTSTAMP:20260425T000555
CREATED:20241004T135916Z
LAST-MODIFIED:20260220T133032Z
UID:10017866-1790640000-1790726399@marketcommonmb.com
SUMMARY:Weekday Happy Hour
DESCRIPTION:Enjoy a variety of weekday Happy Hour specials at The Market Common\, featuring delicious bites and drinks from the best restaurants! \nMonday-Friday 4-6 PM \nGordon Biersch Brewery Restaurant  \nDirty Don’s Oyster Bar & Grill \nGios Pizzeria Napoletana \nTupelo Honey Southern Kitchen & Bar \n810 Bowling & Billiards \nMonday- Friday 4-7 PM \nCK’s Bistro \nCO Sushi \nP.F Chang’s \nNacho Hippo \n  \n 
URL:https://marketcommonmb.com/event/weekday-happy-hour/2026-09-29/
LOCATION:The Market Common\, 4017 Deville St\, Myrtle Beach\, 29577\, United States
CATEGORIES:Drink Specials,Food Specials,Specials
ATTACH;FMTTYPE=image/png:https://marketcommonmb.com/wp-content/uploads/2024/10/happy-hour.png
END:VEVENT
BEGIN:VEVENT
DTSTART;VALUE=DATE:20260929
DTEND;VALUE=DATE:20260930
DTSTAMP:20260425T000555
CREATED:20250603T183937Z
LAST-MODIFIED:20250603T183937Z
UID:10022355-1790640000-1790726399@marketcommonmb.com
SUMMARY:Taco Tuesdays at Nacho Hippo
DESCRIPTION:Taco Tuesdays at Nacho Hippo feature $2 off ALL tacos ALL DAY every Tuesday. \nEnjoy bold flavors and fresh ingredients in every bite.
URL:https://marketcommonmb.com/event/taco-tuesdays-at-nacho-hippo/2026-09-29/
LOCATION:Nacho Hippo\, 1160 Farrow Parkway\, Myrtle Beach\, SC\, 29577\, United States
CATEGORIES:Food Specials,Specials
ATTACH;FMTTYPE=image/png:https://marketcommonmb.com/wp-content/uploads/2025/06/tacos.png
END:VEVENT
BEGIN:VEVENT
DTSTART;TZID=America/New_York:20260929T160000
DTEND;TZID=America/New_York:20260929T190000
DTSTAMP:20260425T000555
CREATED:20240802T151420Z
LAST-MODIFIED:20240802T151547Z
UID:10011679-1790697600-1790708400@marketcommonmb.com
SUMMARY:1/2 Off Select Makimono Rolls
DESCRIPTION:Enjoy 1/2 off select Makimono Rolls Tuesdays and Thursdays at CO Sushi.
URL:https://marketcommonmb.com/event/1-2-off-select-makimono-rolls/2026-09-29/
LOCATION:CO Sushi\, 3098 Deville Street\, Myrtle Beach\, SC\, 29577\, United States
CATEGORIES:Food Specials,Specials
ATTACH;FMTTYPE=image/png:https://marketcommonmb.com/wp-content/uploads/2024/08/CO-HH.png
END:VEVENT
BEGIN:VEVENT
DTSTART;VALUE=DATE:20260930
DTEND;VALUE=DATE:20261001
DTSTAMP:20260425T000555
CREATED:20241004T135916Z
LAST-MODIFIED:20260220T133032Z
UID:10017867-1790726400-1790812799@marketcommonmb.com
SUMMARY:Weekday Happy Hour
DESCRIPTION:Enjoy a variety of weekday Happy Hour specials at The Market Common\, featuring delicious bites and drinks from the best restaurants! \nMonday-Friday 4-6 PM \nGordon Biersch Brewery Restaurant  \nDirty Don’s Oyster Bar & Grill \nGios Pizzeria Napoletana \nTupelo Honey Southern Kitchen & Bar \n810 Bowling & Billiards \nMonday- Friday 4-7 PM \nCK’s Bistro \nCO Sushi \nP.F Chang’s \nNacho Hippo \n  \n 
URL:https://marketcommonmb.com/event/weekday-happy-hour/2026-09-30/
LOCATION:The Market Common\, 4017 Deville St\, Myrtle Beach\, 29577\, United States
CATEGORIES:Drink Specials,Food Specials,Specials
ATTACH;FMTTYPE=image/png:https://marketcommonmb.com/wp-content/uploads/2024/10/happy-hour.png
END:VEVENT
BEGIN:VEVENT
DTSTART;VALUE=DATE:20261001
DTEND;VALUE=DATE:20261002
DTSTAMP:20260425T000555
CREATED:20241004T135916Z
LAST-MODIFIED:20260220T133032Z
UID:10017868-1790812800-1790899199@marketcommonmb.com
SUMMARY:Weekday Happy Hour
DESCRIPTION:Enjoy a variety of weekday Happy Hour specials at The Market Common\, featuring delicious bites and drinks from the best restaurants! \nMonday-Friday 4-6 PM \nGordon Biersch Brewery Restaurant  \nDirty Don’s Oyster Bar & Grill \nGios Pizzeria Napoletana \nTupelo Honey Southern Kitchen & Bar \n810 Bowling & Billiards \nMonday- Friday 4-7 PM \nCK’s Bistro \nCO Sushi \nP.F Chang’s \nNacho Hippo \n  \n 
URL:https://marketcommonmb.com/event/weekday-happy-hour/2026-10-01/
LOCATION:The Market Common\, 4017 Deville St\, Myrtle Beach\, 29577\, United States
CATEGORIES:Drink Specials,Food Specials,Specials
ATTACH;FMTTYPE=image/png:https://marketcommonmb.com/wp-content/uploads/2024/10/happy-hour.png
END:VEVENT
BEGIN:VEVENT
DTSTART;VALUE=DATE:20261001
DTEND;VALUE=DATE:20261002
DTSTAMP:20260425T000555
CREATED:20250603T185953Z
LAST-MODIFIED:20250603T185953Z
UID:10022616-1790812800-1790899199@marketcommonmb.com
SUMMARY:Thirsty Thursdays at Nacho Hippo
DESCRIPTION:Thirsty Thursdays at Nacho Hippo bring the flavor and the fun with $3 Beer Blitz and $3 Triple Threat specials. Sip\, savor\, and kick off the weekend early. \n \n 
URL:https://marketcommonmb.com/event/thirsty-thursdays-at-nacho-hippo/2026-10-01/
LOCATION:Nacho Hippo\, 1160 Farrow Parkway\, Myrtle Beach\, SC\, 29577\, United States
CATEGORIES:Drink Specials,Specials
ATTACH;FMTTYPE=image/png:https://marketcommonmb.com/wp-content/uploads/2025/06/NH-drink.png
END:VEVENT
BEGIN:VEVENT
DTSTART;TZID=America/New_York:20261001T160000
DTEND;TZID=America/New_York:20261001T190000
DTSTAMP:20260425T000555
CREATED:20240802T151420Z
LAST-MODIFIED:20240802T151547Z
UID:10011680-1790870400-1790881200@marketcommonmb.com
SUMMARY:1/2 Off Select Makimono Rolls
DESCRIPTION:Enjoy 1/2 off select Makimono Rolls Tuesdays and Thursdays at CO Sushi.
URL:https://marketcommonmb.com/event/1-2-off-select-makimono-rolls/2026-10-01/
LOCATION:CO Sushi\, 3098 Deville Street\, Myrtle Beach\, SC\, 29577\, United States
CATEGORIES:Food Specials,Specials
ATTACH;FMTTYPE=image/png:https://marketcommonmb.com/wp-content/uploads/2024/08/CO-HH.png
END:VEVENT
BEGIN:VEVENT
DTSTART;VALUE=DATE:20261002
DTEND;VALUE=DATE:20261003
DTSTAMP:20260425T000555
CREATED:20241004T135916Z
LAST-MODIFIED:20260220T133032Z
UID:10017869-1790899200-1790985599@marketcommonmb.com
SUMMARY:Weekday Happy Hour
DESCRIPTION:Enjoy a variety of weekday Happy Hour specials at The Market Common\, featuring delicious bites and drinks from the best restaurants! \nMonday-Friday 4-6 PM \nGordon Biersch Brewery Restaurant  \nDirty Don’s Oyster Bar & Grill \nGios Pizzeria Napoletana \nTupelo Honey Southern Kitchen & Bar \n810 Bowling & Billiards \nMonday- Friday 4-7 PM \nCK’s Bistro \nCO Sushi \nP.F Chang’s \nNacho Hippo \n  \n 
URL:https://marketcommonmb.com/event/weekday-happy-hour/2026-10-02/
LOCATION:The Market Common\, 4017 Deville St\, Myrtle Beach\, 29577\, United States
CATEGORIES:Drink Specials,Food Specials,Specials
ATTACH;FMTTYPE=image/png:https://marketcommonmb.com/wp-content/uploads/2024/10/happy-hour.png
END:VEVENT
BEGIN:VEVENT
DTSTART;TZID=America/New_York:20261004T113000
DTEND;TZID=America/New_York:20261004T210000
DTSTAMP:20260425T000555
CREATED:20240802T180928Z
LAST-MODIFIED:20240802T180928Z
UID:10015222-1791113400-1791147600@marketcommonmb.com
SUMMARY:$5 Bloody Mary & Mimosas
DESCRIPTION:Enjoy $5 Bloody Marys and Mimosas all day at Travinia.
URL:https://marketcommonmb.com/event/5-bloody-mary-mimosas/2026-10-04/
LOCATION:Travinia\, 4011 Deville St\, Myrtle Beach\, SC\, 29577\, United States
CATEGORIES:Drink Specials,Specials
ATTACH;FMTTYPE=image/png:https://marketcommonmb.com/wp-content/uploads/2024/08/Bloody-Mary-Mimosas.png
END:VEVENT
BEGIN:VEVENT
DTSTART;VALUE=DATE:20261005
DTEND;VALUE=DATE:20261006
DTSTAMP:20260425T000555
CREATED:20241004T135916Z
LAST-MODIFIED:20260220T133032Z
UID:10017870-1791158400-1791244799@marketcommonmb.com
SUMMARY:Weekday Happy Hour
DESCRIPTION:Enjoy a variety of weekday Happy Hour specials at The Market Common\, featuring delicious bites and drinks from the best restaurants! \nMonday-Friday 4-6 PM \nGordon Biersch Brewery Restaurant  \nDirty Don’s Oyster Bar & Grill \nGios Pizzeria Napoletana \nTupelo Honey Southern Kitchen & Bar \n810 Bowling & Billiards \nMonday- Friday 4-7 PM \nCK’s Bistro \nCO Sushi \nP.F Chang’s \nNacho Hippo \n  \n 
URL:https://marketcommonmb.com/event/weekday-happy-hour/2026-10-05/
LOCATION:The Market Common\, 4017 Deville St\, Myrtle Beach\, 29577\, United States
CATEGORIES:Drink Specials,Food Specials,Specials
ATTACH;FMTTYPE=image/png:https://marketcommonmb.com/wp-content/uploads/2024/10/happy-hour.png
END:VEVENT
BEGIN:VEVENT
DTSTART;VALUE=DATE:20261006
DTEND;VALUE=DATE:20261007
DTSTAMP:20260425T000555
CREATED:20241004T135916Z
LAST-MODIFIED:20260220T133032Z
UID:10017871-1791244800-1791331199@marketcommonmb.com
SUMMARY:Weekday Happy Hour
DESCRIPTION:Enjoy a variety of weekday Happy Hour specials at The Market Common\, featuring delicious bites and drinks from the best restaurants! \nMonday-Friday 4-6 PM \nGordon Biersch Brewery Restaurant  \nDirty Don’s Oyster Bar & Grill \nGios Pizzeria Napoletana \nTupelo Honey Southern Kitchen & Bar \n810 Bowling & Billiards \nMonday- Friday 4-7 PM \nCK’s Bistro \nCO Sushi \nP.F Chang’s \nNacho Hippo \n  \n 
URL:https://marketcommonmb.com/event/weekday-happy-hour/2026-10-06/
LOCATION:The Market Common\, 4017 Deville St\, Myrtle Beach\, 29577\, United States
CATEGORIES:Drink Specials,Food Specials,Specials
ATTACH;FMTTYPE=image/png:https://marketcommonmb.com/wp-content/uploads/2024/10/happy-hour.png
END:VEVENT
BEGIN:VEVENT
DTSTART;VALUE=DATE:20261006
DTEND;VALUE=DATE:20261007
DTSTAMP:20260425T000555
CREATED:20250603T183937Z
LAST-MODIFIED:20250603T183937Z
UID:10022356-1791244800-1791331199@marketcommonmb.com
SUMMARY:Taco Tuesdays at Nacho Hippo
DESCRIPTION:Taco Tuesdays at Nacho Hippo feature $2 off ALL tacos ALL DAY every Tuesday. \nEnjoy bold flavors and fresh ingredients in every bite.
URL:https://marketcommonmb.com/event/taco-tuesdays-at-nacho-hippo/2026-10-06/
LOCATION:Nacho Hippo\, 1160 Farrow Parkway\, Myrtle Beach\, SC\, 29577\, United States
CATEGORIES:Food Specials,Specials
ATTACH;FMTTYPE=image/png:https://marketcommonmb.com/wp-content/uploads/2025/06/tacos.png
END:VEVENT
BEGIN:VEVENT
DTSTART;TZID=America/New_York:20261006T160000
DTEND;TZID=America/New_York:20261006T190000
DTSTAMP:20260425T000555
CREATED:20240802T151420Z
LAST-MODIFIED:20240802T151547Z
UID:10011681-1791302400-1791313200@marketcommonmb.com
SUMMARY:1/2 Off Select Makimono Rolls
DESCRIPTION:Enjoy 1/2 off select Makimono Rolls Tuesdays and Thursdays at CO Sushi.
URL:https://marketcommonmb.com/event/1-2-off-select-makimono-rolls/2026-10-06/
LOCATION:CO Sushi\, 3098 Deville Street\, Myrtle Beach\, SC\, 29577\, United States
CATEGORIES:Food Specials,Specials
ATTACH;FMTTYPE=image/png:https://marketcommonmb.com/wp-content/uploads/2024/08/CO-HH.png
END:VEVENT
BEGIN:VEVENT
DTSTART;VALUE=DATE:20261007
DTEND;VALUE=DATE:20261008
DTSTAMP:20260425T000555
CREATED:20241004T135916Z
LAST-MODIFIED:20260220T133032Z
UID:10017872-1791331200-1791417599@marketcommonmb.com
SUMMARY:Weekday Happy Hour
DESCRIPTION:Enjoy a variety of weekday Happy Hour specials at The Market Common\, featuring delicious bites and drinks from the best restaurants! \nMonday-Friday 4-6 PM \nGordon Biersch Brewery Restaurant  \nDirty Don’s Oyster Bar & Grill \nGios Pizzeria Napoletana \nTupelo Honey Southern Kitchen & Bar \n810 Bowling & Billiards \nMonday- Friday 4-7 PM \nCK’s Bistro \nCO Sushi \nP.F Chang’s \nNacho Hippo \n  \n 
URL:https://marketcommonmb.com/event/weekday-happy-hour/2026-10-07/
LOCATION:The Market Common\, 4017 Deville St\, Myrtle Beach\, 29577\, United States
CATEGORIES:Drink Specials,Food Specials,Specials
ATTACH;FMTTYPE=image/png:https://marketcommonmb.com/wp-content/uploads/2024/10/happy-hour.png
END:VEVENT
BEGIN:VEVENT
DTSTART;VALUE=DATE:20261008
DTEND;VALUE=DATE:20261009
DTSTAMP:20260425T000555
CREATED:20241004T135916Z
LAST-MODIFIED:20260220T133032Z
UID:10017873-1791417600-1791503999@marketcommonmb.com
SUMMARY:Weekday Happy Hour
DESCRIPTION:Enjoy a variety of weekday Happy Hour specials at The Market Common\, featuring delicious bites and drinks from the best restaurants! \nMonday-Friday 4-6 PM \nGordon Biersch Brewery Restaurant  \nDirty Don’s Oyster Bar & Grill \nGios Pizzeria Napoletana \nTupelo Honey Southern Kitchen & Bar \n810 Bowling & Billiards \nMonday- Friday 4-7 PM \nCK’s Bistro \nCO Sushi \nP.F Chang’s \nNacho Hippo \n  \n 
URL:https://marketcommonmb.com/event/weekday-happy-hour/2026-10-08/
LOCATION:The Market Common\, 4017 Deville St\, Myrtle Beach\, 29577\, United States
CATEGORIES:Drink Specials,Food Specials,Specials
ATTACH;FMTTYPE=image/png:https://marketcommonmb.com/wp-content/uploads/2024/10/happy-hour.png
END:VEVENT
BEGIN:VEVENT
DTSTART;VALUE=DATE:20261008
DTEND;VALUE=DATE:20261009
DTSTAMP:20260425T000555
CREATED:20250603T185953Z
LAST-MODIFIED:20250603T185953Z
UID:10022617-1791417600-1791503999@marketcommonmb.com
SUMMARY:Thirsty Thursdays at Nacho Hippo
DESCRIPTION:Thirsty Thursdays at Nacho Hippo bring the flavor and the fun with $3 Beer Blitz and $3 Triple Threat specials. Sip\, savor\, and kick off the weekend early. \n \n 
URL:https://marketcommonmb.com/event/thirsty-thursdays-at-nacho-hippo/2026-10-08/
LOCATION:Nacho Hippo\, 1160 Farrow Parkway\, Myrtle Beach\, SC\, 29577\, United States
CATEGORIES:Drink Specials,Specials
ATTACH;FMTTYPE=image/png:https://marketcommonmb.com/wp-content/uploads/2025/06/NH-drink.png
END:VEVENT
BEGIN:VEVENT
DTSTART;TZID=America/New_York:20261008T160000
DTEND;TZID=America/New_York:20261008T190000
DTSTAMP:20260425T000555
CREATED:20240802T151420Z
LAST-MODIFIED:20240802T151547Z
UID:10011682-1791475200-1791486000@marketcommonmb.com
SUMMARY:1/2 Off Select Makimono Rolls
DESCRIPTION:Enjoy 1/2 off select Makimono Rolls Tuesdays and Thursdays at CO Sushi.
URL:https://marketcommonmb.com/event/1-2-off-select-makimono-rolls/2026-10-08/
LOCATION:CO Sushi\, 3098 Deville Street\, Myrtle Beach\, SC\, 29577\, United States
CATEGORIES:Food Specials,Specials
ATTACH;FMTTYPE=image/png:https://marketcommonmb.com/wp-content/uploads/2024/08/CO-HH.png
END:VEVENT
BEGIN:VEVENT
DTSTART;VALUE=DATE:20261009
DTEND;VALUE=DATE:20261010
DTSTAMP:20260425T000555
CREATED:20241004T135916Z
LAST-MODIFIED:20260220T133032Z
UID:10017874-1791504000-1791590399@marketcommonmb.com
SUMMARY:Weekday Happy Hour
DESCRIPTION:Enjoy a variety of weekday Happy Hour specials at The Market Common\, featuring delicious bites and drinks from the best restaurants! \nMonday-Friday 4-6 PM \nGordon Biersch Brewery Restaurant  \nDirty Don’s Oyster Bar & Grill \nGios Pizzeria Napoletana \nTupelo Honey Southern Kitchen & Bar \n810 Bowling & Billiards \nMonday- Friday 4-7 PM \nCK’s Bistro \nCO Sushi \nP.F Chang’s \nNacho Hippo \n  \n 
URL:https://marketcommonmb.com/event/weekday-happy-hour/2026-10-09/
LOCATION:The Market Common\, 4017 Deville St\, Myrtle Beach\, 29577\, United States
CATEGORIES:Drink Specials,Food Specials,Specials
ATTACH;FMTTYPE=image/png:https://marketcommonmb.com/wp-content/uploads/2024/10/happy-hour.png
END:VEVENT
BEGIN:VEVENT
DTSTART;TZID=America/New_York:20261011T113000
DTEND;TZID=America/New_York:20261011T210000
DTSTAMP:20260425T000555
CREATED:20240802T180928Z
LAST-MODIFIED:20240802T180928Z
UID:10015223-1791718200-1791752400@marketcommonmb.com
SUMMARY:$5 Bloody Mary & Mimosas
DESCRIPTION:Enjoy $5 Bloody Marys and Mimosas all day at Travinia.
URL:https://marketcommonmb.com/event/5-bloody-mary-mimosas/2026-10-11/
LOCATION:Travinia\, 4011 Deville St\, Myrtle Beach\, SC\, 29577\, United States
CATEGORIES:Drink Specials,Specials
ATTACH;FMTTYPE=image/png:https://marketcommonmb.com/wp-content/uploads/2024/08/Bloody-Mary-Mimosas.png
END:VEVENT
BEGIN:VEVENT
DTSTART;VALUE=DATE:20261012
DTEND;VALUE=DATE:20261013
DTSTAMP:20260425T000555
CREATED:20241004T135916Z
LAST-MODIFIED:20260220T133032Z
UID:10017875-1791763200-1791849599@marketcommonmb.com
SUMMARY:Weekday Happy Hour
DESCRIPTION:Enjoy a variety of weekday Happy Hour specials at The Market Common\, featuring delicious bites and drinks from the best restaurants! \nMonday-Friday 4-6 PM \nGordon Biersch Brewery Restaurant  \nDirty Don’s Oyster Bar & Grill \nGios Pizzeria Napoletana \nTupelo Honey Southern Kitchen & Bar \n810 Bowling & Billiards \nMonday- Friday 4-7 PM \nCK’s Bistro \nCO Sushi \nP.F Chang’s \nNacho Hippo \n  \n 
URL:https://marketcommonmb.com/event/weekday-happy-hour/2026-10-12/
LOCATION:The Market Common\, 4017 Deville St\, Myrtle Beach\, 29577\, United States
CATEGORIES:Drink Specials,Food Specials,Specials
ATTACH;FMTTYPE=image/png:https://marketcommonmb.com/wp-content/uploads/2024/10/happy-hour.png
END:VEVENT
BEGIN:VEVENT
DTSTART;VALUE=DATE:20261013
DTEND;VALUE=DATE:20261014
DTSTAMP:20260425T000555
CREATED:20241004T135916Z
LAST-MODIFIED:20260220T133032Z
UID:10017876-1791849600-1791935999@marketcommonmb.com
SUMMARY:Weekday Happy Hour
DESCRIPTION:Enjoy a variety of weekday Happy Hour specials at The Market Common\, featuring delicious bites and drinks from the best restaurants! \nMonday-Friday 4-6 PM \nGordon Biersch Brewery Restaurant  \nDirty Don’s Oyster Bar & Grill \nGios Pizzeria Napoletana \nTupelo Honey Southern Kitchen & Bar \n810 Bowling & Billiards \nMonday- Friday 4-7 PM \nCK’s Bistro \nCO Sushi \nP.F Chang’s \nNacho Hippo \n  \n 
URL:https://marketcommonmb.com/event/weekday-happy-hour/2026-10-13/
LOCATION:The Market Common\, 4017 Deville St\, Myrtle Beach\, 29577\, United States
CATEGORIES:Drink Specials,Food Specials,Specials
ATTACH;FMTTYPE=image/png:https://marketcommonmb.com/wp-content/uploads/2024/10/happy-hour.png
END:VEVENT
BEGIN:VEVENT
DTSTART;VALUE=DATE:20261013
DTEND;VALUE=DATE:20261014
DTSTAMP:20260425T000555
CREATED:20250603T183937Z
LAST-MODIFIED:20250603T183937Z
UID:10022357-1791849600-1791935999@marketcommonmb.com
SUMMARY:Taco Tuesdays at Nacho Hippo
DESCRIPTION:Taco Tuesdays at Nacho Hippo feature $2 off ALL tacos ALL DAY every Tuesday. \nEnjoy bold flavors and fresh ingredients in every bite.
URL:https://marketcommonmb.com/event/taco-tuesdays-at-nacho-hippo/2026-10-13/
LOCATION:Nacho Hippo\, 1160 Farrow Parkway\, Myrtle Beach\, SC\, 29577\, United States
CATEGORIES:Food Specials,Specials
ATTACH;FMTTYPE=image/png:https://marketcommonmb.com/wp-content/uploads/2025/06/tacos.png
END:VEVENT
BEGIN:VEVENT
DTSTART;TZID=America/New_York:20261013T160000
DTEND;TZID=America/New_York:20261013T190000
DTSTAMP:20260425T000555
CREATED:20240802T151420Z
LAST-MODIFIED:20240802T151547Z
UID:10011683-1791907200-1791918000@marketcommonmb.com
SUMMARY:1/2 Off Select Makimono Rolls
DESCRIPTION:Enjoy 1/2 off select Makimono Rolls Tuesdays and Thursdays at CO Sushi.
URL:https://marketcommonmb.com/event/1-2-off-select-makimono-rolls/2026-10-13/
LOCATION:CO Sushi\, 3098 Deville Street\, Myrtle Beach\, SC\, 29577\, United States
CATEGORIES:Food Specials,Specials
ATTACH;FMTTYPE=image/png:https://marketcommonmb.com/wp-content/uploads/2024/08/CO-HH.png
END:VEVENT
BEGIN:VEVENT
DTSTART;VALUE=DATE:20261014
DTEND;VALUE=DATE:20261015
DTSTAMP:20260425T000555
CREATED:20241004T135916Z
LAST-MODIFIED:20260220T133032Z
UID:10017877-1791936000-1792022399@marketcommonmb.com
SUMMARY:Weekday Happy Hour
DESCRIPTION:Enjoy a variety of weekday Happy Hour specials at The Market Common\, featuring delicious bites and drinks from the best restaurants! \nMonday-Friday 4-6 PM \nGordon Biersch Brewery Restaurant  \nDirty Don’s Oyster Bar & Grill \nGios Pizzeria Napoletana \nTupelo Honey Southern Kitchen & Bar \n810 Bowling & Billiards \nMonday- Friday 4-7 PM \nCK’s Bistro \nCO Sushi \nP.F Chang’s \nNacho Hippo \n  \n 
URL:https://marketcommonmb.com/event/weekday-happy-hour/2026-10-14/
LOCATION:The Market Common\, 4017 Deville St\, Myrtle Beach\, 29577\, United States
CATEGORIES:Drink Specials,Food Specials,Specials
ATTACH;FMTTYPE=image/png:https://marketcommonmb.com/wp-content/uploads/2024/10/happy-hour.png
END:VEVENT
BEGIN:VEVENT
DTSTART;VALUE=DATE:20261015
DTEND;VALUE=DATE:20261016
DTSTAMP:20260425T000555
CREATED:20241004T135916Z
LAST-MODIFIED:20260220T133032Z
UID:10017878-1792022400-1792108799@marketcommonmb.com
SUMMARY:Weekday Happy Hour
DESCRIPTION:Enjoy a variety of weekday Happy Hour specials at The Market Common\, featuring delicious bites and drinks from the best restaurants! \nMonday-Friday 4-6 PM \nGordon Biersch Brewery Restaurant  \nDirty Don’s Oyster Bar & Grill \nGios Pizzeria Napoletana \nTupelo Honey Southern Kitchen & Bar \n810 Bowling & Billiards \nMonday- Friday 4-7 PM \nCK’s Bistro \nCO Sushi \nP.F Chang’s \nNacho Hippo \n  \n 
URL:https://marketcommonmb.com/event/weekday-happy-hour/2026-10-15/
LOCATION:The Market Common\, 4017 Deville St\, Myrtle Beach\, 29577\, United States
CATEGORIES:Drink Specials,Food Specials,Specials
ATTACH;FMTTYPE=image/png:https://marketcommonmb.com/wp-content/uploads/2024/10/happy-hour.png
END:VEVENT
BEGIN:VEVENT
DTSTART;VALUE=DATE:20261015
DTEND;VALUE=DATE:20261016
DTSTAMP:20260425T000555
CREATED:20250603T185953Z
LAST-MODIFIED:20250603T185953Z
UID:10022618-1792022400-1792108799@marketcommonmb.com
SUMMARY:Thirsty Thursdays at Nacho Hippo
DESCRIPTION:Thirsty Thursdays at Nacho Hippo bring the flavor and the fun with $3 Beer Blitz and $3 Triple Threat specials. Sip\, savor\, and kick off the weekend early. \n \n 
URL:https://marketcommonmb.com/event/thirsty-thursdays-at-nacho-hippo/2026-10-15/
LOCATION:Nacho Hippo\, 1160 Farrow Parkway\, Myrtle Beach\, SC\, 29577\, United States
CATEGORIES:Drink Specials,Specials
ATTACH;FMTTYPE=image/png:https://marketcommonmb.com/wp-content/uploads/2025/06/NH-drink.png
END:VEVENT
BEGIN:VEVENT
DTSTART;TZID=America/New_York:20261015T160000
DTEND;TZID=America/New_York:20261015T190000
DTSTAMP:20260425T000555
CREATED:20240802T151420Z
LAST-MODIFIED:20240802T151547Z
UID:10011684-1792080000-1792090800@marketcommonmb.com
SUMMARY:1/2 Off Select Makimono Rolls
DESCRIPTION:Enjoy 1/2 off select Makimono Rolls Tuesdays and Thursdays at CO Sushi.
URL:https://marketcommonmb.com/event/1-2-off-select-makimono-rolls/2026-10-15/
LOCATION:CO Sushi\, 3098 Deville Street\, Myrtle Beach\, SC\, 29577\, United States
CATEGORIES:Food Specials,Specials
ATTACH;FMTTYPE=image/png:https://marketcommonmb.com/wp-content/uploads/2024/08/CO-HH.png
END:VEVENT
BEGIN:VEVENT
DTSTART;VALUE=DATE:20261016
DTEND;VALUE=DATE:20261017
DTSTAMP:20260425T000555
CREATED:20241004T135916Z
LAST-MODIFIED:20260220T133032Z
UID:10017879-1792108800-1792195199@marketcommonmb.com
SUMMARY:Weekday Happy Hour
DESCRIPTION:Enjoy a variety of weekday Happy Hour specials at The Market Common\, featuring delicious bites and drinks from the best restaurants! \nMonday-Friday 4-6 PM \nGordon Biersch Brewery Restaurant  \nDirty Don’s Oyster Bar & Grill \nGios Pizzeria Napoletana \nTupelo Honey Southern Kitchen & Bar \n810 Bowling & Billiards \nMonday- Friday 4-7 PM \nCK’s Bistro \nCO Sushi \nP.F Chang’s \nNacho Hippo \n  \n 
URL:https://marketcommonmb.com/event/weekday-happy-hour/2026-10-16/
LOCATION:The Market Common\, 4017 Deville St\, Myrtle Beach\, 29577\, United States
CATEGORIES:Drink Specials,Food Specials,Specials
ATTACH;FMTTYPE=image/png:https://marketcommonmb.com/wp-content/uploads/2024/10/happy-hour.png
END:VEVENT
BEGIN:VEVENT
DTSTART;TZID=America/New_York:20261018T113000
DTEND;TZID=America/New_York:20261018T210000
DTSTAMP:20260425T000555
CREATED:20240802T180928Z
LAST-MODIFIED:20240802T180928Z
UID:10015224-1792323000-1792357200@marketcommonmb.com
SUMMARY:$5 Bloody Mary & Mimosas
DESCRIPTION:Enjoy $5 Bloody Marys and Mimosas all day at Travinia.
URL:https://marketcommonmb.com/event/5-bloody-mary-mimosas/2026-10-18/
LOCATION:Travinia\, 4011 Deville St\, Myrtle Beach\, SC\, 29577\, United States
CATEGORIES:Drink Specials,Specials
ATTACH;FMTTYPE=image/png:https://marketcommonmb.com/wp-content/uploads/2024/08/Bloody-Mary-Mimosas.png
END:VEVENT
BEGIN:VEVENT
DTSTART;VALUE=DATE:20261019
DTEND;VALUE=DATE:20261020
DTSTAMP:20260425T000555
CREATED:20241004T135916Z
LAST-MODIFIED:20260220T133032Z
UID:10017880-1792368000-1792454399@marketcommonmb.com
SUMMARY:Weekday Happy Hour
DESCRIPTION:Enjoy a variety of weekday Happy Hour specials at The Market Common\, featuring delicious bites and drinks from the best restaurants! \nMonday-Friday 4-6 PM \nGordon Biersch Brewery Restaurant  \nDirty Don’s Oyster Bar & Grill \nGios Pizzeria Napoletana \nTupelo Honey Southern Kitchen & Bar \n810 Bowling & Billiards \nMonday- Friday 4-7 PM \nCK’s Bistro \nCO Sushi \nP.F Chang’s \nNacho Hippo \n  \n 
URL:https://marketcommonmb.com/event/weekday-happy-hour/2026-10-19/
LOCATION:The Market Common\, 4017 Deville St\, Myrtle Beach\, 29577\, United States
CATEGORIES:Drink Specials,Food Specials,Specials
ATTACH;FMTTYPE=image/png:https://marketcommonmb.com/wp-content/uploads/2024/10/happy-hour.png
END:VEVENT
END:VCALENDAR