BEGIN:VCALENDAR
VERSION:2.0
PRODID:-//The Market Common Myrtle Beach - ECPv6.15.12.2//NONSGML v1.0//EN
CALSCALE:GREGORIAN
METHOD:PUBLISH
X-ORIGINAL-URL:https://marketcommonmb.com
X-WR-CALDESC:Events for The Market Common Myrtle Beach
REFRESH-INTERVAL;VALUE=DURATION:PT1H
X-Robots-Tag:noindex
X-PUBLISHED-TTL:PT1H
BEGIN:VTIMEZONE
TZID:America/New_York
BEGIN:DAYLIGHT
TZOFFSETFROM:-0500
TZOFFSETTO:-0400
TZNAME:EDT
DTSTART:20250309T070000
END:DAYLIGHT
BEGIN:STANDARD
TZOFFSETFROM:-0400
TZOFFSETTO:-0500
TZNAME:EST
DTSTART:20251102T060000
END:STANDARD
BEGIN:DAYLIGHT
TZOFFSETFROM:-0500
TZOFFSETTO:-0400
TZNAME:EDT
DTSTART:20260308T070000
END:DAYLIGHT
BEGIN:STANDARD
TZOFFSETFROM:-0400
TZOFFSETTO:-0500
TZNAME:EST
DTSTART:20261101T060000
END:STANDARD
BEGIN:DAYLIGHT
TZOFFSETFROM:-0500
TZOFFSETTO:-0400
TZNAME:EDT
DTSTART:20270314T070000
END:DAYLIGHT
BEGIN:STANDARD
TZOFFSETFROM:-0400
TZOFFSETTO:-0500
TZNAME:EST
DTSTART:20271107T060000
END:STANDARD
END:VTIMEZONE
BEGIN:VEVENT
DTSTART;VALUE=DATE:20260429
DTEND;VALUE=DATE:20260430
DTSTAMP:20260423T064751
CREATED:20241004T135916Z
LAST-MODIFIED:20260220T133032Z
UID:10017757-1777420800-1777507199@marketcommonmb.com
SUMMARY:Weekday Happy Hour
DESCRIPTION:Enjoy a variety of weekday Happy Hour specials at The Market Common\, featuring delicious bites and drinks from the best restaurants! \nMonday-Friday 4-6 PM \nGordon Biersch Brewery Restaurant  \nDirty Don’s Oyster Bar & Grill \nGios Pizzeria Napoletana \nTupelo Honey Southern Kitchen & Bar \n810 Bowling & Billiards \nMonday- Friday 4-7 PM \nCK’s Bistro \nCO Sushi \nP.F Chang’s \nNacho Hippo \n  \n 
URL:https://marketcommonmb.com/event/weekday-happy-hour/2026-04-29/
LOCATION:The Market Common\, 4017 Deville St\, Myrtle Beach\, 29577\, United States
CATEGORIES:Drink Specials,Food Specials,Specials
ATTACH;FMTTYPE=image/png:https://marketcommonmb.com/wp-content/uploads/2024/10/happy-hour.png
END:VEVENT
BEGIN:VEVENT
DTSTART;VALUE=DATE:20260430
DTEND;VALUE=DATE:20260501
DTSTAMP:20260423T064751
CREATED:20241004T135916Z
LAST-MODIFIED:20260220T133032Z
UID:10017758-1777507200-1777593599@marketcommonmb.com
SUMMARY:Weekday Happy Hour
DESCRIPTION:Enjoy a variety of weekday Happy Hour specials at The Market Common\, featuring delicious bites and drinks from the best restaurants! \nMonday-Friday 4-6 PM \nGordon Biersch Brewery Restaurant  \nDirty Don’s Oyster Bar & Grill \nGios Pizzeria Napoletana \nTupelo Honey Southern Kitchen & Bar \n810 Bowling & Billiards \nMonday- Friday 4-7 PM \nCK’s Bistro \nCO Sushi \nP.F Chang’s \nNacho Hippo \n  \n 
URL:https://marketcommonmb.com/event/weekday-happy-hour/2026-04-30/
LOCATION:The Market Common\, 4017 Deville St\, Myrtle Beach\, 29577\, United States
CATEGORIES:Drink Specials,Food Specials,Specials
ATTACH;FMTTYPE=image/png:https://marketcommonmb.com/wp-content/uploads/2024/10/happy-hour.png
END:VEVENT
BEGIN:VEVENT
DTSTART;VALUE=DATE:20260430
DTEND;VALUE=DATE:20260501
DTSTAMP:20260423T064751
CREATED:20250603T185953Z
LAST-MODIFIED:20250603T185953Z
UID:10022594-1777507200-1777593599@marketcommonmb.com
SUMMARY:Thirsty Thursdays at Nacho Hippo
DESCRIPTION:Thirsty Thursdays at Nacho Hippo bring the flavor and the fun with $3 Beer Blitz and $3 Triple Threat specials. Sip\, savor\, and kick off the weekend early. \n \n 
URL:https://marketcommonmb.com/event/thirsty-thursdays-at-nacho-hippo/2026-04-30/
LOCATION:Nacho Hippo\, 1160 Farrow Parkway\, Myrtle Beach\, SC\, 29577\, United States
CATEGORIES:Drink Specials,Specials
ATTACH;FMTTYPE=image/png:https://marketcommonmb.com/wp-content/uploads/2025/06/NH-drink.png
END:VEVENT
BEGIN:VEVENT
DTSTART;TZID=America/New_York:20260430T160000
DTEND;TZID=America/New_York:20260430T190000
DTSTAMP:20260423T064751
CREATED:20240802T151420Z
LAST-MODIFIED:20240802T151547Z
UID:10011636-1777564800-1777575600@marketcommonmb.com
SUMMARY:1/2 Off Select Makimono Rolls
DESCRIPTION:Enjoy 1/2 off select Makimono Rolls Tuesdays and Thursdays at CO Sushi.
URL:https://marketcommonmb.com/event/1-2-off-select-makimono-rolls/2026-04-30/
LOCATION:CO Sushi\, 3098 Deville Street\, Myrtle Beach\, SC\, 29577\, United States
CATEGORIES:Food Specials,Specials
ATTACH;FMTTYPE=image/png:https://marketcommonmb.com/wp-content/uploads/2024/08/CO-HH.png
END:VEVENT
BEGIN:VEVENT
DTSTART;VALUE=DATE:20260501
DTEND;VALUE=DATE:20260502
DTSTAMP:20260423T064751
CREATED:20241004T135916Z
LAST-MODIFIED:20260220T133032Z
UID:10017759-1777593600-1777679999@marketcommonmb.com
SUMMARY:Weekday Happy Hour
DESCRIPTION:Enjoy a variety of weekday Happy Hour specials at The Market Common\, featuring delicious bites and drinks from the best restaurants! \nMonday-Friday 4-6 PM \nGordon Biersch Brewery Restaurant  \nDirty Don’s Oyster Bar & Grill \nGios Pizzeria Napoletana \nTupelo Honey Southern Kitchen & Bar \n810 Bowling & Billiards \nMonday- Friday 4-7 PM \nCK’s Bistro \nCO Sushi \nP.F Chang’s \nNacho Hippo \n  \n 
URL:https://marketcommonmb.com/event/weekday-happy-hour/2026-05-01/
LOCATION:The Market Common\, 4017 Deville St\, Myrtle Beach\, 29577\, United States
CATEGORIES:Drink Specials,Food Specials,Specials
ATTACH;FMTTYPE=image/png:https://marketcommonmb.com/wp-content/uploads/2024/10/happy-hour.png
END:VEVENT
BEGIN:VEVENT
DTSTART;TZID=America/New_York:20260503T113000
DTEND;TZID=America/New_York:20260503T210000
DTSTAMP:20260423T064751
CREATED:20240802T180928Z
LAST-MODIFIED:20240802T180928Z
UID:10015200-1777807800-1777842000@marketcommonmb.com
SUMMARY:$5 Bloody Mary & Mimosas
DESCRIPTION:Enjoy $5 Bloody Marys and Mimosas all day at Travinia.
URL:https://marketcommonmb.com/event/5-bloody-mary-mimosas/2026-05-03/
LOCATION:Travinia\, 4011 Deville St\, Myrtle Beach\, SC\, 29577\, United States
CATEGORIES:Drink Specials,Specials
ATTACH;FMTTYPE=image/png:https://marketcommonmb.com/wp-content/uploads/2024/08/Bloody-Mary-Mimosas.png
END:VEVENT
BEGIN:VEVENT
DTSTART;VALUE=DATE:20260504
DTEND;VALUE=DATE:20260505
DTSTAMP:20260423T064751
CREATED:20241004T135916Z
LAST-MODIFIED:20260220T133032Z
UID:10017760-1777852800-1777939199@marketcommonmb.com
SUMMARY:Weekday Happy Hour
DESCRIPTION:Enjoy a variety of weekday Happy Hour specials at The Market Common\, featuring delicious bites and drinks from the best restaurants! \nMonday-Friday 4-6 PM \nGordon Biersch Brewery Restaurant  \nDirty Don’s Oyster Bar & Grill \nGios Pizzeria Napoletana \nTupelo Honey Southern Kitchen & Bar \n810 Bowling & Billiards \nMonday- Friday 4-7 PM \nCK’s Bistro \nCO Sushi \nP.F Chang’s \nNacho Hippo \n  \n 
URL:https://marketcommonmb.com/event/weekday-happy-hour/2026-05-04/
LOCATION:The Market Common\, 4017 Deville St\, Myrtle Beach\, 29577\, United States
CATEGORIES:Drink Specials,Food Specials,Specials
ATTACH;FMTTYPE=image/png:https://marketcommonmb.com/wp-content/uploads/2024/10/happy-hour.png
END:VEVENT
BEGIN:VEVENT
DTSTART;VALUE=DATE:20260505
DTEND;VALUE=DATE:20260506
DTSTAMP:20260423T064751
CREATED:20241004T135916Z
LAST-MODIFIED:20260220T133032Z
UID:10017761-1777939200-1778025599@marketcommonmb.com
SUMMARY:Weekday Happy Hour
DESCRIPTION:Enjoy a variety of weekday Happy Hour specials at The Market Common\, featuring delicious bites and drinks from the best restaurants! \nMonday-Friday 4-6 PM \nGordon Biersch Brewery Restaurant  \nDirty Don’s Oyster Bar & Grill \nGios Pizzeria Napoletana \nTupelo Honey Southern Kitchen & Bar \n810 Bowling & Billiards \nMonday- Friday 4-7 PM \nCK’s Bistro \nCO Sushi \nP.F Chang’s \nNacho Hippo \n  \n 
URL:https://marketcommonmb.com/event/weekday-happy-hour/2026-05-05/
LOCATION:The Market Common\, 4017 Deville St\, Myrtle Beach\, 29577\, United States
CATEGORIES:Drink Specials,Food Specials,Specials
ATTACH;FMTTYPE=image/png:https://marketcommonmb.com/wp-content/uploads/2024/10/happy-hour.png
END:VEVENT
BEGIN:VEVENT
DTSTART;VALUE=DATE:20260505
DTEND;VALUE=DATE:20260506
DTSTAMP:20260423T064751
CREATED:20250603T183937Z
LAST-MODIFIED:20250603T183937Z
UID:10022334-1777939200-1778025599@marketcommonmb.com
SUMMARY:Taco Tuesdays at Nacho Hippo
DESCRIPTION:Taco Tuesdays at Nacho Hippo feature $2 off ALL tacos ALL DAY every Tuesday. \nEnjoy bold flavors and fresh ingredients in every bite.
URL:https://marketcommonmb.com/event/taco-tuesdays-at-nacho-hippo/2026-05-05/
LOCATION:Nacho Hippo\, 1160 Farrow Parkway\, Myrtle Beach\, SC\, 29577\, United States
CATEGORIES:Food Specials,Specials
ATTACH;FMTTYPE=image/png:https://marketcommonmb.com/wp-content/uploads/2025/06/tacos.png
END:VEVENT
BEGIN:VEVENT
DTSTART;TZID=America/New_York:20260505T160000
DTEND;TZID=America/New_York:20260505T190000
DTSTAMP:20260423T064751
CREATED:20240802T151420Z
LAST-MODIFIED:20240802T151547Z
UID:10011637-1777996800-1778007600@marketcommonmb.com
SUMMARY:1/2 Off Select Makimono Rolls
DESCRIPTION:Enjoy 1/2 off select Makimono Rolls Tuesdays and Thursdays at CO Sushi.
URL:https://marketcommonmb.com/event/1-2-off-select-makimono-rolls/2026-05-05/
LOCATION:CO Sushi\, 3098 Deville Street\, Myrtle Beach\, SC\, 29577\, United States
CATEGORIES:Food Specials,Specials
ATTACH;FMTTYPE=image/png:https://marketcommonmb.com/wp-content/uploads/2024/08/CO-HH.png
END:VEVENT
BEGIN:VEVENT
DTSTART;VALUE=DATE:20260506
DTEND;VALUE=DATE:20260507
DTSTAMP:20260423T064751
CREATED:20241004T135916Z
LAST-MODIFIED:20260220T133032Z
UID:10017762-1778025600-1778111999@marketcommonmb.com
SUMMARY:Weekday Happy Hour
DESCRIPTION:Enjoy a variety of weekday Happy Hour specials at The Market Common\, featuring delicious bites and drinks from the best restaurants! \nMonday-Friday 4-6 PM \nGordon Biersch Brewery Restaurant  \nDirty Don’s Oyster Bar & Grill \nGios Pizzeria Napoletana \nTupelo Honey Southern Kitchen & Bar \n810 Bowling & Billiards \nMonday- Friday 4-7 PM \nCK’s Bistro \nCO Sushi \nP.F Chang’s \nNacho Hippo \n  \n 
URL:https://marketcommonmb.com/event/weekday-happy-hour/2026-05-06/
LOCATION:The Market Common\, 4017 Deville St\, Myrtle Beach\, 29577\, United States
CATEGORIES:Drink Specials,Food Specials,Specials
ATTACH;FMTTYPE=image/png:https://marketcommonmb.com/wp-content/uploads/2024/10/happy-hour.png
END:VEVENT
BEGIN:VEVENT
DTSTART;VALUE=DATE:20260507
DTEND;VALUE=DATE:20260508
DTSTAMP:20260423T064751
CREATED:20241004T135916Z
LAST-MODIFIED:20260220T133032Z
UID:10017763-1778112000-1778198399@marketcommonmb.com
SUMMARY:Weekday Happy Hour
DESCRIPTION:Enjoy a variety of weekday Happy Hour specials at The Market Common\, featuring delicious bites and drinks from the best restaurants! \nMonday-Friday 4-6 PM \nGordon Biersch Brewery Restaurant  \nDirty Don’s Oyster Bar & Grill \nGios Pizzeria Napoletana \nTupelo Honey Southern Kitchen & Bar \n810 Bowling & Billiards \nMonday- Friday 4-7 PM \nCK’s Bistro \nCO Sushi \nP.F Chang’s \nNacho Hippo \n  \n 
URL:https://marketcommonmb.com/event/weekday-happy-hour/2026-05-07/
LOCATION:The Market Common\, 4017 Deville St\, Myrtle Beach\, 29577\, United States
CATEGORIES:Drink Specials,Food Specials,Specials
ATTACH;FMTTYPE=image/png:https://marketcommonmb.com/wp-content/uploads/2024/10/happy-hour.png
END:VEVENT
BEGIN:VEVENT
DTSTART;VALUE=DATE:20260507
DTEND;VALUE=DATE:20260508
DTSTAMP:20260423T064751
CREATED:20250603T185953Z
LAST-MODIFIED:20250603T185953Z
UID:10022595-1778112000-1778198399@marketcommonmb.com
SUMMARY:Thirsty Thursdays at Nacho Hippo
DESCRIPTION:Thirsty Thursdays at Nacho Hippo bring the flavor and the fun with $3 Beer Blitz and $3 Triple Threat specials. Sip\, savor\, and kick off the weekend early. \n \n 
URL:https://marketcommonmb.com/event/thirsty-thursdays-at-nacho-hippo/2026-05-07/
LOCATION:Nacho Hippo\, 1160 Farrow Parkway\, Myrtle Beach\, SC\, 29577\, United States
CATEGORIES:Drink Specials,Specials
ATTACH;FMTTYPE=image/png:https://marketcommonmb.com/wp-content/uploads/2025/06/NH-drink.png
END:VEVENT
BEGIN:VEVENT
DTSTART;TZID=America/New_York:20260507T160000
DTEND;TZID=America/New_York:20260507T190000
DTSTAMP:20260423T064751
CREATED:20240802T151420Z
LAST-MODIFIED:20240802T151547Z
UID:10011638-1778169600-1778180400@marketcommonmb.com
SUMMARY:1/2 Off Select Makimono Rolls
DESCRIPTION:Enjoy 1/2 off select Makimono Rolls Tuesdays and Thursdays at CO Sushi.
URL:https://marketcommonmb.com/event/1-2-off-select-makimono-rolls/2026-05-07/
LOCATION:CO Sushi\, 3098 Deville Street\, Myrtle Beach\, SC\, 29577\, United States
CATEGORIES:Food Specials,Specials
ATTACH;FMTTYPE=image/png:https://marketcommonmb.com/wp-content/uploads/2024/08/CO-HH.png
END:VEVENT
BEGIN:VEVENT
DTSTART;VALUE=DATE:20260508
DTEND;VALUE=DATE:20260509
DTSTAMP:20260423T064751
CREATED:20241004T135916Z
LAST-MODIFIED:20260220T133032Z
UID:10017764-1778198400-1778284799@marketcommonmb.com
SUMMARY:Weekday Happy Hour
DESCRIPTION:Enjoy a variety of weekday Happy Hour specials at The Market Common\, featuring delicious bites and drinks from the best restaurants! \nMonday-Friday 4-6 PM \nGordon Biersch Brewery Restaurant  \nDirty Don’s Oyster Bar & Grill \nGios Pizzeria Napoletana \nTupelo Honey Southern Kitchen & Bar \n810 Bowling & Billiards \nMonday- Friday 4-7 PM \nCK’s Bistro \nCO Sushi \nP.F Chang’s \nNacho Hippo \n  \n 
URL:https://marketcommonmb.com/event/weekday-happy-hour/2026-05-08/
LOCATION:The Market Common\, 4017 Deville St\, Myrtle Beach\, 29577\, United States
CATEGORIES:Drink Specials,Food Specials,Specials
ATTACH;FMTTYPE=image/png:https://marketcommonmb.com/wp-content/uploads/2024/10/happy-hour.png
END:VEVENT
BEGIN:VEVENT
DTSTART;VALUE=DATE:20260510
DTEND;VALUE=DATE:20260517
DTSTAMP:20260423T064752
CREATED:20260305T184858Z
LAST-MODIFIED:20260312T124825Z
UID:10027380-1778371200-1778975999@marketcommonmb.com
SUMMARY:Fashion Week - The Market Common
DESCRIPTION:Get ready for the most fashionable week of the year! Learn more about Market Common Fashion Week by clicking here.
URL:https://marketcommonmb.com/event/fashion-week-the-market-common/
CATEGORIES:Drink Specials,Family Events,Fashion,Shopping,Social Events,Specials
ATTACH;FMTTYPE=image/png:https://marketcommonmb.com/wp-content/uploads/2026/03/fashionweekbanner2026.png
END:VEVENT
BEGIN:VEVENT
DTSTART;TZID=America/New_York:20260510T110000
DTEND;TZID=America/New_York:20260510T180000
DTSTAMP:20260423T064752
CREATED:20260414T131758Z
LAST-MODIFIED:20260414T132033Z
UID:10027510-1778410800-1778436000@marketcommonmb.com
SUMMARY:Monkey Lala Minerals Accessory Bar - Fashion Week
DESCRIPTION:Enjoy Fashion Week at The Market Common by getting accessorized! Stop over at Monkey Lala Minerals outdoor accessory bar for all your stylish needs. From bracelets to necklaces\, this locally owned crystal store has got you covered. Accessories don’t stop at jewelry—check out their car charms to give your ride a little extra personality and sparkle\, along with unique\, hand-selected pieces that let you express your style in every detail. \nWhether you’re layering up for a runway-ready look or just adding a subtle touch of shine\, this pop-up experience is all about fun\, creativity\, and self-expression. Explore meaningful crystals\, statement pieces\, and one-of-a-kind finds that elevate your Fashion Week outfit from head to toe. \nIt is also Mother’s Day! Grab a gift for the mom in your life or treat yourself!
URL:https://marketcommonmb.com/event/monkey-lala-minerals-accessory-bar-fashion-week/
LOCATION:Monkey Lala Minerals\, 3064 Deville St\, Myrtle beach\, SC\, 29577\, United States
CATEGORIES:Design,Fashion,Shopping,Specials
ATTACH;FMTTYPE=image/jpeg:https://marketcommonmb.com/wp-content/uploads/2026/01/Monkey-Lala-logo.jpg
END:VEVENT
BEGIN:VEVENT
DTSTART;TZID=America/New_York:20260510T113000
DTEND;TZID=America/New_York:20260510T210000
DTSTAMP:20260423T064752
CREATED:20240802T180928Z
LAST-MODIFIED:20240802T180928Z
UID:10015201-1778412600-1778446800@marketcommonmb.com
SUMMARY:$5 Bloody Mary & Mimosas
DESCRIPTION:Enjoy $5 Bloody Marys and Mimosas all day at Travinia.
URL:https://marketcommonmb.com/event/5-bloody-mary-mimosas/2026-05-10/
LOCATION:Travinia\, 4011 Deville St\, Myrtle Beach\, SC\, 29577\, United States
CATEGORIES:Drink Specials,Specials
ATTACH;FMTTYPE=image/png:https://marketcommonmb.com/wp-content/uploads/2024/08/Bloody-Mary-Mimosas.png
END:VEVENT
BEGIN:VEVENT
DTSTART;VALUE=DATE:20260511
DTEND;VALUE=DATE:20260512
DTSTAMP:20260423T064752
CREATED:20241004T135916Z
LAST-MODIFIED:20260220T133032Z
UID:10017765-1778457600-1778543999@marketcommonmb.com
SUMMARY:Weekday Happy Hour
DESCRIPTION:Enjoy a variety of weekday Happy Hour specials at The Market Common\, featuring delicious bites and drinks from the best restaurants! \nMonday-Friday 4-6 PM \nGordon Biersch Brewery Restaurant  \nDirty Don’s Oyster Bar & Grill \nGios Pizzeria Napoletana \nTupelo Honey Southern Kitchen & Bar \n810 Bowling & Billiards \nMonday- Friday 4-7 PM \nCK’s Bistro \nCO Sushi \nP.F Chang’s \nNacho Hippo \n  \n 
URL:https://marketcommonmb.com/event/weekday-happy-hour/2026-05-11/
LOCATION:The Market Common\, 4017 Deville St\, Myrtle Beach\, 29577\, United States
CATEGORIES:Drink Specials,Food Specials,Specials
ATTACH;FMTTYPE=image/png:https://marketcommonmb.com/wp-content/uploads/2024/10/happy-hour.png
END:VEVENT
BEGIN:VEVENT
DTSTART;VALUE=DATE:20260512
DTEND;VALUE=DATE:20260513
DTSTAMP:20260423T064752
CREATED:20241004T135916Z
LAST-MODIFIED:20260220T133032Z
UID:10017766-1778544000-1778630399@marketcommonmb.com
SUMMARY:Weekday Happy Hour
DESCRIPTION:Enjoy a variety of weekday Happy Hour specials at The Market Common\, featuring delicious bites and drinks from the best restaurants! \nMonday-Friday 4-6 PM \nGordon Biersch Brewery Restaurant  \nDirty Don’s Oyster Bar & Grill \nGios Pizzeria Napoletana \nTupelo Honey Southern Kitchen & Bar \n810 Bowling & Billiards \nMonday- Friday 4-7 PM \nCK’s Bistro \nCO Sushi \nP.F Chang’s \nNacho Hippo \n  \n 
URL:https://marketcommonmb.com/event/weekday-happy-hour/2026-05-12/
LOCATION:The Market Common\, 4017 Deville St\, Myrtle Beach\, 29577\, United States
CATEGORIES:Drink Specials,Food Specials,Specials
ATTACH;FMTTYPE=image/png:https://marketcommonmb.com/wp-content/uploads/2024/10/happy-hour.png
END:VEVENT
BEGIN:VEVENT
DTSTART;VALUE=DATE:20260512
DTEND;VALUE=DATE:20260513
DTSTAMP:20260423T064752
CREATED:20250603T183937Z
LAST-MODIFIED:20250603T183937Z
UID:10022335-1778544000-1778630399@marketcommonmb.com
SUMMARY:Taco Tuesdays at Nacho Hippo
DESCRIPTION:Taco Tuesdays at Nacho Hippo feature $2 off ALL tacos ALL DAY every Tuesday. \nEnjoy bold flavors and fresh ingredients in every bite.
URL:https://marketcommonmb.com/event/taco-tuesdays-at-nacho-hippo/2026-05-12/
LOCATION:Nacho Hippo\, 1160 Farrow Parkway\, Myrtle Beach\, SC\, 29577\, United States
CATEGORIES:Food Specials,Specials
ATTACH;FMTTYPE=image/png:https://marketcommonmb.com/wp-content/uploads/2025/06/tacos.png
END:VEVENT
BEGIN:VEVENT
DTSTART;TZID=America/New_York:20260512T160000
DTEND;TZID=America/New_York:20260512T190000
DTSTAMP:20260423T064752
CREATED:20240802T151420Z
LAST-MODIFIED:20240802T151547Z
UID:10011639-1778601600-1778612400@marketcommonmb.com
SUMMARY:1/2 Off Select Makimono Rolls
DESCRIPTION:Enjoy 1/2 off select Makimono Rolls Tuesdays and Thursdays at CO Sushi.
URL:https://marketcommonmb.com/event/1-2-off-select-makimono-rolls/2026-05-12/
LOCATION:CO Sushi\, 3098 Deville Street\, Myrtle Beach\, SC\, 29577\, United States
CATEGORIES:Food Specials,Specials
ATTACH;FMTTYPE=image/png:https://marketcommonmb.com/wp-content/uploads/2024/08/CO-HH.png
END:VEVENT
BEGIN:VEVENT
DTSTART;VALUE=DATE:20260513
DTEND;VALUE=DATE:20260514
DTSTAMP:20260423T064752
CREATED:20241004T135916Z
LAST-MODIFIED:20260220T133032Z
UID:10017767-1778630400-1778716799@marketcommonmb.com
SUMMARY:Weekday Happy Hour
DESCRIPTION:Enjoy a variety of weekday Happy Hour specials at The Market Common\, featuring delicious bites and drinks from the best restaurants! \nMonday-Friday 4-6 PM \nGordon Biersch Brewery Restaurant  \nDirty Don’s Oyster Bar & Grill \nGios Pizzeria Napoletana \nTupelo Honey Southern Kitchen & Bar \n810 Bowling & Billiards \nMonday- Friday 4-7 PM \nCK’s Bistro \nCO Sushi \nP.F Chang’s \nNacho Hippo \n  \n 
URL:https://marketcommonmb.com/event/weekday-happy-hour/2026-05-13/
LOCATION:The Market Common\, 4017 Deville St\, Myrtle Beach\, 29577\, United States
CATEGORIES:Drink Specials,Food Specials,Specials
ATTACH;FMTTYPE=image/png:https://marketcommonmb.com/wp-content/uploads/2024/10/happy-hour.png
END:VEVENT
BEGIN:VEVENT
DTSTART;VALUE=DATE:20260514
DTEND;VALUE=DATE:20260515
DTSTAMP:20260423T064752
CREATED:20241004T135916Z
LAST-MODIFIED:20260220T133032Z
UID:10017768-1778716800-1778803199@marketcommonmb.com
SUMMARY:Weekday Happy Hour
DESCRIPTION:Enjoy a variety of weekday Happy Hour specials at The Market Common\, featuring delicious bites and drinks from the best restaurants! \nMonday-Friday 4-6 PM \nGordon Biersch Brewery Restaurant  \nDirty Don’s Oyster Bar & Grill \nGios Pizzeria Napoletana \nTupelo Honey Southern Kitchen & Bar \n810 Bowling & Billiards \nMonday- Friday 4-7 PM \nCK’s Bistro \nCO Sushi \nP.F Chang’s \nNacho Hippo \n  \n 
URL:https://marketcommonmb.com/event/weekday-happy-hour/2026-05-14/
LOCATION:The Market Common\, 4017 Deville St\, Myrtle Beach\, 29577\, United States
CATEGORIES:Drink Specials,Food Specials,Specials
ATTACH;FMTTYPE=image/png:https://marketcommonmb.com/wp-content/uploads/2024/10/happy-hour.png
END:VEVENT
BEGIN:VEVENT
DTSTART;VALUE=DATE:20260514
DTEND;VALUE=DATE:20260515
DTSTAMP:20260423T064752
CREATED:20250603T185953Z
LAST-MODIFIED:20250603T185953Z
UID:10022596-1778716800-1778803199@marketcommonmb.com
SUMMARY:Thirsty Thursdays at Nacho Hippo
DESCRIPTION:Thirsty Thursdays at Nacho Hippo bring the flavor and the fun with $3 Beer Blitz and $3 Triple Threat specials. Sip\, savor\, and kick off the weekend early. \n \n 
URL:https://marketcommonmb.com/event/thirsty-thursdays-at-nacho-hippo/2026-05-14/
LOCATION:Nacho Hippo\, 1160 Farrow Parkway\, Myrtle Beach\, SC\, 29577\, United States
CATEGORIES:Drink Specials,Specials
ATTACH;FMTTYPE=image/png:https://marketcommonmb.com/wp-content/uploads/2025/06/NH-drink.png
END:VEVENT
BEGIN:VEVENT
DTSTART;TZID=America/New_York:20260514T110000
DTEND;TZID=America/New_York:20260514T220000
DTSTAMP:20260423T064752
CREATED:20260414T132638Z
LAST-MODIFIED:20260414T133214Z
UID:10027511-1778756400-1778796000@marketcommonmb.com
SUMMARY:Thirsty Thursday - Fashion Week
DESCRIPTION:Thirsty Thursday at Fashion Week at The Market Common brings together style and sips in the most refreshing way. Select Market Common restaurants will be featuring exclusive fashion-inspired cocktails and mocktails\, each crafted to match the energy\, color\, and creativity of the runway. From bold\, statement-making pours to light and elegant seasonal blends\, every drink is designed to celebrate the spirit of Fashion Week. \nIt’s the perfect excuse to sip your way through the district—grab a drink\, stroll the center\, and experience how local chefs and bartenders translate fashion into flavor. Whether you’re meeting friends after work or kicking off a night out\, Thirsty Thursday delivers a chic\, can’t-miss taste of Fashion Week at The Market Common.
URL:https://marketcommonmb.com/event/thirsty-thursday-fashion-week/
CATEGORIES:Drink Specials,Fashion,Food Specials,Social Events,Specials
ATTACH;FMTTYPE=image/jpeg:https://marketcommonmb.com/wp-content/uploads/2024/07/drinkspecials_hero.jpg
END:VEVENT
BEGIN:VEVENT
DTSTART;TZID=America/New_York:20260514T160000
DTEND;TZID=America/New_York:20260514T190000
DTSTAMP:20260423T064752
CREATED:20240802T151420Z
LAST-MODIFIED:20240802T151547Z
UID:10011640-1778774400-1778785200@marketcommonmb.com
SUMMARY:1/2 Off Select Makimono Rolls
DESCRIPTION:Enjoy 1/2 off select Makimono Rolls Tuesdays and Thursdays at CO Sushi.
URL:https://marketcommonmb.com/event/1-2-off-select-makimono-rolls/2026-05-14/
LOCATION:CO Sushi\, 3098 Deville Street\, Myrtle Beach\, SC\, 29577\, United States
CATEGORIES:Food Specials,Specials
ATTACH;FMTTYPE=image/png:https://marketcommonmb.com/wp-content/uploads/2024/08/CO-HH.png
END:VEVENT
BEGIN:VEVENT
DTSTART;VALUE=DATE:20260515
DTEND;VALUE=DATE:20260516
DTSTAMP:20260423T064752
CREATED:20241004T135916Z
LAST-MODIFIED:20260220T133032Z
UID:10017769-1778803200-1778889599@marketcommonmb.com
SUMMARY:Weekday Happy Hour
DESCRIPTION:Enjoy a variety of weekday Happy Hour specials at The Market Common\, featuring delicious bites and drinks from the best restaurants! \nMonday-Friday 4-6 PM \nGordon Biersch Brewery Restaurant  \nDirty Don’s Oyster Bar & Grill \nGios Pizzeria Napoletana \nTupelo Honey Southern Kitchen & Bar \n810 Bowling & Billiards \nMonday- Friday 4-7 PM \nCK’s Bistro \nCO Sushi \nP.F Chang’s \nNacho Hippo \n  \n 
URL:https://marketcommonmb.com/event/weekday-happy-hour/2026-05-15/
LOCATION:The Market Common\, 4017 Deville St\, Myrtle Beach\, 29577\, United States
CATEGORIES:Drink Specials,Food Specials,Specials
ATTACH;FMTTYPE=image/png:https://marketcommonmb.com/wp-content/uploads/2024/10/happy-hour.png
END:VEVENT
BEGIN:VEVENT
DTSTART;TZID=America/New_York:20260517T113000
DTEND;TZID=America/New_York:20260517T210000
DTSTAMP:20260423T064752
CREATED:20240802T180928Z
LAST-MODIFIED:20240802T180928Z
UID:10015202-1779017400-1779051600@marketcommonmb.com
SUMMARY:$5 Bloody Mary & Mimosas
DESCRIPTION:Enjoy $5 Bloody Marys and Mimosas all day at Travinia.
URL:https://marketcommonmb.com/event/5-bloody-mary-mimosas/2026-05-17/
LOCATION:Travinia\, 4011 Deville St\, Myrtle Beach\, SC\, 29577\, United States
CATEGORIES:Drink Specials,Specials
ATTACH;FMTTYPE=image/png:https://marketcommonmb.com/wp-content/uploads/2024/08/Bloody-Mary-Mimosas.png
END:VEVENT
BEGIN:VEVENT
DTSTART;VALUE=DATE:20260518
DTEND;VALUE=DATE:20260519
DTSTAMP:20260423T064752
CREATED:20241004T135916Z
LAST-MODIFIED:20260220T133032Z
UID:10017770-1779062400-1779148799@marketcommonmb.com
SUMMARY:Weekday Happy Hour
DESCRIPTION:Enjoy a variety of weekday Happy Hour specials at The Market Common\, featuring delicious bites and drinks from the best restaurants! \nMonday-Friday 4-6 PM \nGordon Biersch Brewery Restaurant  \nDirty Don’s Oyster Bar & Grill \nGios Pizzeria Napoletana \nTupelo Honey Southern Kitchen & Bar \n810 Bowling & Billiards \nMonday- Friday 4-7 PM \nCK’s Bistro \nCO Sushi \nP.F Chang’s \nNacho Hippo \n  \n 
URL:https://marketcommonmb.com/event/weekday-happy-hour/2026-05-18/
LOCATION:The Market Common\, 4017 Deville St\, Myrtle Beach\, 29577\, United States
CATEGORIES:Drink Specials,Food Specials,Specials
ATTACH;FMTTYPE=image/png:https://marketcommonmb.com/wp-content/uploads/2024/10/happy-hour.png
END:VEVENT
END:VCALENDAR