BEGIN:VCALENDAR
VERSION:2.0
PRODID:-//The Market Common Myrtle Beach - ECPv6.15.12.2//NONSGML v1.0//EN
CALSCALE:GREGORIAN
METHOD:PUBLISH
X-ORIGINAL-URL:https://marketcommonmb.com
X-WR-CALDESC:Events for The Market Common Myrtle Beach
REFRESH-INTERVAL;VALUE=DURATION:PT1H
X-Robots-Tag:noindex
X-PUBLISHED-TTL:PT1H
BEGIN:VTIMEZONE
TZID:America/New_York
BEGIN:DAYLIGHT
TZOFFSETFROM:-0500
TZOFFSETTO:-0400
TZNAME:EDT
DTSTART:20250309T070000
END:DAYLIGHT
BEGIN:STANDARD
TZOFFSETFROM:-0400
TZOFFSETTO:-0500
TZNAME:EST
DTSTART:20251102T060000
END:STANDARD
BEGIN:DAYLIGHT
TZOFFSETFROM:-0500
TZOFFSETTO:-0400
TZNAME:EDT
DTSTART:20260308T070000
END:DAYLIGHT
BEGIN:STANDARD
TZOFFSETFROM:-0400
TZOFFSETTO:-0500
TZNAME:EST
DTSTART:20261101T060000
END:STANDARD
BEGIN:DAYLIGHT
TZOFFSETFROM:-0500
TZOFFSETTO:-0400
TZNAME:EDT
DTSTART:20270314T070000
END:DAYLIGHT
BEGIN:STANDARD
TZOFFSETFROM:-0400
TZOFFSETTO:-0500
TZNAME:EST
DTSTART:20271107T060000
END:STANDARD
END:VTIMEZONE
BEGIN:VEVENT
DTSTART;VALUE=DATE:20260602
DTEND;VALUE=DATE:20260603
DTSTAMP:20260422T122308
CREATED:20241004T135916Z
LAST-MODIFIED:20260220T133032Z
UID:10017781-1780358400-1780444799@marketcommonmb.com
SUMMARY:Weekday Happy Hour
DESCRIPTION:Enjoy a variety of weekday Happy Hour specials at The Market Common\, featuring delicious bites and drinks from the best restaurants! \nMonday-Friday 4-6 PM \nGordon Biersch Brewery Restaurant  \nDirty Don’s Oyster Bar & Grill \nGios Pizzeria Napoletana \nTupelo Honey Southern Kitchen & Bar \n810 Bowling & Billiards \nMonday- Friday 4-7 PM \nCK’s Bistro \nCO Sushi \nP.F Chang’s \nNacho Hippo \n  \n 
URL:https://marketcommonmb.com/event/weekday-happy-hour/2026-06-02/
LOCATION:The Market Common\, 4017 Deville St\, Myrtle Beach\, 29577\, United States
CATEGORIES:Drink Specials,Food Specials,Specials
ATTACH;FMTTYPE=image/png:https://marketcommonmb.com/wp-content/uploads/2024/10/happy-hour.png
END:VEVENT
BEGIN:VEVENT
DTSTART;VALUE=DATE:20260602
DTEND;VALUE=DATE:20260603
DTSTAMP:20260422T122308
CREATED:20250603T183937Z
LAST-MODIFIED:20250603T183937Z
UID:10022338-1780358400-1780444799@marketcommonmb.com
SUMMARY:Taco Tuesdays at Nacho Hippo
DESCRIPTION:Taco Tuesdays at Nacho Hippo feature $2 off ALL tacos ALL DAY every Tuesday. \nEnjoy bold flavors and fresh ingredients in every bite.
URL:https://marketcommonmb.com/event/taco-tuesdays-at-nacho-hippo/2026-06-02/
LOCATION:Nacho Hippo\, 1160 Farrow Parkway\, Myrtle Beach\, SC\, 29577\, United States
CATEGORIES:Food Specials,Specials
ATTACH;FMTTYPE=image/png:https://marketcommonmb.com/wp-content/uploads/2025/06/tacos.png
END:VEVENT
BEGIN:VEVENT
DTSTART;TZID=America/New_York:20260602T160000
DTEND;TZID=America/New_York:20260602T190000
DTSTAMP:20260422T122308
CREATED:20240802T151420Z
LAST-MODIFIED:20240802T151547Z
UID:10011645-1780416000-1780426800@marketcommonmb.com
SUMMARY:1/2 Off Select Makimono Rolls
DESCRIPTION:Enjoy 1/2 off select Makimono Rolls Tuesdays and Thursdays at CO Sushi.
URL:https://marketcommonmb.com/event/1-2-off-select-makimono-rolls/2026-06-02/
LOCATION:CO Sushi\, 3098 Deville Street\, Myrtle Beach\, SC\, 29577\, United States
CATEGORIES:Food Specials,Specials
ATTACH;FMTTYPE=image/png:https://marketcommonmb.com/wp-content/uploads/2024/08/CO-HH.png
END:VEVENT
BEGIN:VEVENT
DTSTART;VALUE=DATE:20260603
DTEND;VALUE=DATE:20260604
DTSTAMP:20260422T122308
CREATED:20241004T135916Z
LAST-MODIFIED:20260220T133032Z
UID:10017782-1780444800-1780531199@marketcommonmb.com
SUMMARY:Weekday Happy Hour
DESCRIPTION:Enjoy a variety of weekday Happy Hour specials at The Market Common\, featuring delicious bites and drinks from the best restaurants! \nMonday-Friday 4-6 PM \nGordon Biersch Brewery Restaurant  \nDirty Don’s Oyster Bar & Grill \nGios Pizzeria Napoletana \nTupelo Honey Southern Kitchen & Bar \n810 Bowling & Billiards \nMonday- Friday 4-7 PM \nCK’s Bistro \nCO Sushi \nP.F Chang’s \nNacho Hippo \n  \n 
URL:https://marketcommonmb.com/event/weekday-happy-hour/2026-06-03/
LOCATION:The Market Common\, 4017 Deville St\, Myrtle Beach\, 29577\, United States
CATEGORIES:Drink Specials,Food Specials,Specials
ATTACH;FMTTYPE=image/png:https://marketcommonmb.com/wp-content/uploads/2024/10/happy-hour.png
END:VEVENT
BEGIN:VEVENT
DTSTART;VALUE=DATE:20260604
DTEND;VALUE=DATE:20260605
DTSTAMP:20260422T122308
CREATED:20241004T135916Z
LAST-MODIFIED:20260220T133032Z
UID:10017783-1780531200-1780617599@marketcommonmb.com
SUMMARY:Weekday Happy Hour
DESCRIPTION:Enjoy a variety of weekday Happy Hour specials at The Market Common\, featuring delicious bites and drinks from the best restaurants! \nMonday-Friday 4-6 PM \nGordon Biersch Brewery Restaurant  \nDirty Don’s Oyster Bar & Grill \nGios Pizzeria Napoletana \nTupelo Honey Southern Kitchen & Bar \n810 Bowling & Billiards \nMonday- Friday 4-7 PM \nCK’s Bistro \nCO Sushi \nP.F Chang’s \nNacho Hippo \n  \n 
URL:https://marketcommonmb.com/event/weekday-happy-hour/2026-06-04/
LOCATION:The Market Common\, 4017 Deville St\, Myrtle Beach\, 29577\, United States
CATEGORIES:Drink Specials,Food Specials,Specials
ATTACH;FMTTYPE=image/png:https://marketcommonmb.com/wp-content/uploads/2024/10/happy-hour.png
END:VEVENT
BEGIN:VEVENT
DTSTART;VALUE=DATE:20260604
DTEND;VALUE=DATE:20260605
DTSTAMP:20260422T122308
CREATED:20250603T185953Z
LAST-MODIFIED:20250603T185953Z
UID:10022599-1780531200-1780617599@marketcommonmb.com
SUMMARY:Thirsty Thursdays at Nacho Hippo
DESCRIPTION:Thirsty Thursdays at Nacho Hippo bring the flavor and the fun with $3 Beer Blitz and $3 Triple Threat specials. Sip\, savor\, and kick off the weekend early. \n \n 
URL:https://marketcommonmb.com/event/thirsty-thursdays-at-nacho-hippo/2026-06-04/
LOCATION:Nacho Hippo\, 1160 Farrow Parkway\, Myrtle Beach\, SC\, 29577\, United States
CATEGORIES:Drink Specials,Specials
ATTACH;FMTTYPE=image/png:https://marketcommonmb.com/wp-content/uploads/2025/06/NH-drink.png
END:VEVENT
BEGIN:VEVENT
DTSTART;TZID=America/New_York:20260604T160000
DTEND;TZID=America/New_York:20260604T190000
DTSTAMP:20260422T122308
CREATED:20240802T151420Z
LAST-MODIFIED:20240802T151547Z
UID:10011646-1780588800-1780599600@marketcommonmb.com
SUMMARY:1/2 Off Select Makimono Rolls
DESCRIPTION:Enjoy 1/2 off select Makimono Rolls Tuesdays and Thursdays at CO Sushi.
URL:https://marketcommonmb.com/event/1-2-off-select-makimono-rolls/2026-06-04/
LOCATION:CO Sushi\, 3098 Deville Street\, Myrtle Beach\, SC\, 29577\, United States
CATEGORIES:Food Specials,Specials
ATTACH;FMTTYPE=image/png:https://marketcommonmb.com/wp-content/uploads/2024/08/CO-HH.png
END:VEVENT
BEGIN:VEVENT
DTSTART;VALUE=DATE:20260605
DTEND;VALUE=DATE:20260606
DTSTAMP:20260422T122308
CREATED:20241004T135916Z
LAST-MODIFIED:20260220T133032Z
UID:10017784-1780617600-1780703999@marketcommonmb.com
SUMMARY:Weekday Happy Hour
DESCRIPTION:Enjoy a variety of weekday Happy Hour specials at The Market Common\, featuring delicious bites and drinks from the best restaurants! \nMonday-Friday 4-6 PM \nGordon Biersch Brewery Restaurant  \nDirty Don’s Oyster Bar & Grill \nGios Pizzeria Napoletana \nTupelo Honey Southern Kitchen & Bar \n810 Bowling & Billiards \nMonday- Friday 4-7 PM \nCK’s Bistro \nCO Sushi \nP.F Chang’s \nNacho Hippo \n  \n 
URL:https://marketcommonmb.com/event/weekday-happy-hour/2026-06-05/
LOCATION:The Market Common\, 4017 Deville St\, Myrtle Beach\, 29577\, United States
CATEGORIES:Drink Specials,Food Specials,Specials
ATTACH;FMTTYPE=image/png:https://marketcommonmb.com/wp-content/uploads/2024/10/happy-hour.png
END:VEVENT
BEGIN:VEVENT
DTSTART;TZID=America/New_York:20260607T113000
DTEND;TZID=America/New_York:20260607T210000
DTSTAMP:20260422T122308
CREATED:20240802T180928Z
LAST-MODIFIED:20240802T180928Z
UID:10015205-1780831800-1780866000@marketcommonmb.com
SUMMARY:$5 Bloody Mary & Mimosas
DESCRIPTION:Enjoy $5 Bloody Marys and Mimosas all day at Travinia.
URL:https://marketcommonmb.com/event/5-bloody-mary-mimosas/2026-06-07/
LOCATION:Travinia\, 4011 Deville St\, Myrtle Beach\, SC\, 29577\, United States
CATEGORIES:Drink Specials,Specials
ATTACH;FMTTYPE=image/png:https://marketcommonmb.com/wp-content/uploads/2024/08/Bloody-Mary-Mimosas.png
END:VEVENT
BEGIN:VEVENT
DTSTART;VALUE=DATE:20260608
DTEND;VALUE=DATE:20260609
DTSTAMP:20260422T122308
CREATED:20241004T135916Z
LAST-MODIFIED:20260220T133032Z
UID:10017785-1780876800-1780963199@marketcommonmb.com
SUMMARY:Weekday Happy Hour
DESCRIPTION:Enjoy a variety of weekday Happy Hour specials at The Market Common\, featuring delicious bites and drinks from the best restaurants! \nMonday-Friday 4-6 PM \nGordon Biersch Brewery Restaurant  \nDirty Don’s Oyster Bar & Grill \nGios Pizzeria Napoletana \nTupelo Honey Southern Kitchen & Bar \n810 Bowling & Billiards \nMonday- Friday 4-7 PM \nCK’s Bistro \nCO Sushi \nP.F Chang’s \nNacho Hippo \n  \n 
URL:https://marketcommonmb.com/event/weekday-happy-hour/2026-06-08/
LOCATION:The Market Common\, 4017 Deville St\, Myrtle Beach\, 29577\, United States
CATEGORIES:Drink Specials,Food Specials,Specials
ATTACH;FMTTYPE=image/png:https://marketcommonmb.com/wp-content/uploads/2024/10/happy-hour.png
END:VEVENT
BEGIN:VEVENT
DTSTART;VALUE=DATE:20260609
DTEND;VALUE=DATE:20260610
DTSTAMP:20260422T122308
CREATED:20241004T135916Z
LAST-MODIFIED:20260220T133032Z
UID:10017786-1780963200-1781049599@marketcommonmb.com
SUMMARY:Weekday Happy Hour
DESCRIPTION:Enjoy a variety of weekday Happy Hour specials at The Market Common\, featuring delicious bites and drinks from the best restaurants! \nMonday-Friday 4-6 PM \nGordon Biersch Brewery Restaurant  \nDirty Don’s Oyster Bar & Grill \nGios Pizzeria Napoletana \nTupelo Honey Southern Kitchen & Bar \n810 Bowling & Billiards \nMonday- Friday 4-7 PM \nCK’s Bistro \nCO Sushi \nP.F Chang’s \nNacho Hippo \n  \n 
URL:https://marketcommonmb.com/event/weekday-happy-hour/2026-06-09/
LOCATION:The Market Common\, 4017 Deville St\, Myrtle Beach\, 29577\, United States
CATEGORIES:Drink Specials,Food Specials,Specials
ATTACH;FMTTYPE=image/png:https://marketcommonmb.com/wp-content/uploads/2024/10/happy-hour.png
END:VEVENT
BEGIN:VEVENT
DTSTART;VALUE=DATE:20260609
DTEND;VALUE=DATE:20260610
DTSTAMP:20260422T122308
CREATED:20250603T183937Z
LAST-MODIFIED:20250603T183937Z
UID:10022339-1780963200-1781049599@marketcommonmb.com
SUMMARY:Taco Tuesdays at Nacho Hippo
DESCRIPTION:Taco Tuesdays at Nacho Hippo feature $2 off ALL tacos ALL DAY every Tuesday. \nEnjoy bold flavors and fresh ingredients in every bite.
URL:https://marketcommonmb.com/event/taco-tuesdays-at-nacho-hippo/2026-06-09/
LOCATION:Nacho Hippo\, 1160 Farrow Parkway\, Myrtle Beach\, SC\, 29577\, United States
CATEGORIES:Food Specials,Specials
ATTACH;FMTTYPE=image/png:https://marketcommonmb.com/wp-content/uploads/2025/06/tacos.png
END:VEVENT
BEGIN:VEVENT
DTSTART;TZID=America/New_York:20260609T160000
DTEND;TZID=America/New_York:20260609T190000
DTSTAMP:20260422T122308
CREATED:20240802T151420Z
LAST-MODIFIED:20240802T151547Z
UID:10011647-1781020800-1781031600@marketcommonmb.com
SUMMARY:1/2 Off Select Makimono Rolls
DESCRIPTION:Enjoy 1/2 off select Makimono Rolls Tuesdays and Thursdays at CO Sushi.
URL:https://marketcommonmb.com/event/1-2-off-select-makimono-rolls/2026-06-09/
LOCATION:CO Sushi\, 3098 Deville Street\, Myrtle Beach\, SC\, 29577\, United States
CATEGORIES:Food Specials,Specials
ATTACH;FMTTYPE=image/png:https://marketcommonmb.com/wp-content/uploads/2024/08/CO-HH.png
END:VEVENT
BEGIN:VEVENT
DTSTART;VALUE=DATE:20260610
DTEND;VALUE=DATE:20260611
DTSTAMP:20260422T122308
CREATED:20241004T135916Z
LAST-MODIFIED:20260220T133032Z
UID:10017787-1781049600-1781135999@marketcommonmb.com
SUMMARY:Weekday Happy Hour
DESCRIPTION:Enjoy a variety of weekday Happy Hour specials at The Market Common\, featuring delicious bites and drinks from the best restaurants! \nMonday-Friday 4-6 PM \nGordon Biersch Brewery Restaurant  \nDirty Don’s Oyster Bar & Grill \nGios Pizzeria Napoletana \nTupelo Honey Southern Kitchen & Bar \n810 Bowling & Billiards \nMonday- Friday 4-7 PM \nCK’s Bistro \nCO Sushi \nP.F Chang’s \nNacho Hippo \n  \n 
URL:https://marketcommonmb.com/event/weekday-happy-hour/2026-06-10/
LOCATION:The Market Common\, 4017 Deville St\, Myrtle Beach\, 29577\, United States
CATEGORIES:Drink Specials,Food Specials,Specials
ATTACH;FMTTYPE=image/png:https://marketcommonmb.com/wp-content/uploads/2024/10/happy-hour.png
END:VEVENT
BEGIN:VEVENT
DTSTART;VALUE=DATE:20260611
DTEND;VALUE=DATE:20260612
DTSTAMP:20260422T122308
CREATED:20241004T135916Z
LAST-MODIFIED:20260220T133032Z
UID:10017788-1781136000-1781222399@marketcommonmb.com
SUMMARY:Weekday Happy Hour
DESCRIPTION:Enjoy a variety of weekday Happy Hour specials at The Market Common\, featuring delicious bites and drinks from the best restaurants! \nMonday-Friday 4-6 PM \nGordon Biersch Brewery Restaurant  \nDirty Don’s Oyster Bar & Grill \nGios Pizzeria Napoletana \nTupelo Honey Southern Kitchen & Bar \n810 Bowling & Billiards \nMonday- Friday 4-7 PM \nCK’s Bistro \nCO Sushi \nP.F Chang’s \nNacho Hippo \n  \n 
URL:https://marketcommonmb.com/event/weekday-happy-hour/2026-06-11/
LOCATION:The Market Common\, 4017 Deville St\, Myrtle Beach\, 29577\, United States
CATEGORIES:Drink Specials,Food Specials,Specials
ATTACH;FMTTYPE=image/png:https://marketcommonmb.com/wp-content/uploads/2024/10/happy-hour.png
END:VEVENT
BEGIN:VEVENT
DTSTART;VALUE=DATE:20260611
DTEND;VALUE=DATE:20260612
DTSTAMP:20260422T122308
CREATED:20250603T185953Z
LAST-MODIFIED:20250603T185953Z
UID:10022600-1781136000-1781222399@marketcommonmb.com
SUMMARY:Thirsty Thursdays at Nacho Hippo
DESCRIPTION:Thirsty Thursdays at Nacho Hippo bring the flavor and the fun with $3 Beer Blitz and $3 Triple Threat specials. Sip\, savor\, and kick off the weekend early. \n \n 
URL:https://marketcommonmb.com/event/thirsty-thursdays-at-nacho-hippo/2026-06-11/
LOCATION:Nacho Hippo\, 1160 Farrow Parkway\, Myrtle Beach\, SC\, 29577\, United States
CATEGORIES:Drink Specials,Specials
ATTACH;FMTTYPE=image/png:https://marketcommonmb.com/wp-content/uploads/2025/06/NH-drink.png
END:VEVENT
BEGIN:VEVENT
DTSTART;TZID=America/New_York:20260611T160000
DTEND;TZID=America/New_York:20260611T190000
DTSTAMP:20260422T122308
CREATED:20240802T151420Z
LAST-MODIFIED:20240802T151547Z
UID:10011648-1781193600-1781204400@marketcommonmb.com
SUMMARY:1/2 Off Select Makimono Rolls
DESCRIPTION:Enjoy 1/2 off select Makimono Rolls Tuesdays and Thursdays at CO Sushi.
URL:https://marketcommonmb.com/event/1-2-off-select-makimono-rolls/2026-06-11/
LOCATION:CO Sushi\, 3098 Deville Street\, Myrtle Beach\, SC\, 29577\, United States
CATEGORIES:Food Specials,Specials
ATTACH;FMTTYPE=image/png:https://marketcommonmb.com/wp-content/uploads/2024/08/CO-HH.png
END:VEVENT
BEGIN:VEVENT
DTSTART;VALUE=DATE:20260612
DTEND;VALUE=DATE:20260613
DTSTAMP:20260422T122308
CREATED:20241004T135916Z
LAST-MODIFIED:20260220T133032Z
UID:10017789-1781222400-1781308799@marketcommonmb.com
SUMMARY:Weekday Happy Hour
DESCRIPTION:Enjoy a variety of weekday Happy Hour specials at The Market Common\, featuring delicious bites and drinks from the best restaurants! \nMonday-Friday 4-6 PM \nGordon Biersch Brewery Restaurant  \nDirty Don’s Oyster Bar & Grill \nGios Pizzeria Napoletana \nTupelo Honey Southern Kitchen & Bar \n810 Bowling & Billiards \nMonday- Friday 4-7 PM \nCK’s Bistro \nCO Sushi \nP.F Chang’s \nNacho Hippo \n  \n 
URL:https://marketcommonmb.com/event/weekday-happy-hour/2026-06-12/
LOCATION:The Market Common\, 4017 Deville St\, Myrtle Beach\, 29577\, United States
CATEGORIES:Drink Specials,Food Specials,Specials
ATTACH;FMTTYPE=image/png:https://marketcommonmb.com/wp-content/uploads/2024/10/happy-hour.png
END:VEVENT
BEGIN:VEVENT
DTSTART;TZID=America/New_York:20260614T113000
DTEND;TZID=America/New_York:20260614T210000
DTSTAMP:20260422T122308
CREATED:20240802T180928Z
LAST-MODIFIED:20240802T180928Z
UID:10015206-1781436600-1781470800@marketcommonmb.com
SUMMARY:$5 Bloody Mary & Mimosas
DESCRIPTION:Enjoy $5 Bloody Marys and Mimosas all day at Travinia.
URL:https://marketcommonmb.com/event/5-bloody-mary-mimosas/2026-06-14/
LOCATION:Travinia\, 4011 Deville St\, Myrtle Beach\, SC\, 29577\, United States
CATEGORIES:Drink Specials,Specials
ATTACH;FMTTYPE=image/png:https://marketcommonmb.com/wp-content/uploads/2024/08/Bloody-Mary-Mimosas.png
END:VEVENT
BEGIN:VEVENT
DTSTART;VALUE=DATE:20260615
DTEND;VALUE=DATE:20260616
DTSTAMP:20260422T122308
CREATED:20241004T135916Z
LAST-MODIFIED:20260220T133032Z
UID:10017790-1781481600-1781567999@marketcommonmb.com
SUMMARY:Weekday Happy Hour
DESCRIPTION:Enjoy a variety of weekday Happy Hour specials at The Market Common\, featuring delicious bites and drinks from the best restaurants! \nMonday-Friday 4-6 PM \nGordon Biersch Brewery Restaurant  \nDirty Don’s Oyster Bar & Grill \nGios Pizzeria Napoletana \nTupelo Honey Southern Kitchen & Bar \n810 Bowling & Billiards \nMonday- Friday 4-7 PM \nCK’s Bistro \nCO Sushi \nP.F Chang’s \nNacho Hippo \n  \n 
URL:https://marketcommonmb.com/event/weekday-happy-hour/2026-06-15/
LOCATION:The Market Common\, 4017 Deville St\, Myrtle Beach\, 29577\, United States
CATEGORIES:Drink Specials,Food Specials,Specials
ATTACH;FMTTYPE=image/png:https://marketcommonmb.com/wp-content/uploads/2024/10/happy-hour.png
END:VEVENT
BEGIN:VEVENT
DTSTART;VALUE=DATE:20260616
DTEND;VALUE=DATE:20260617
DTSTAMP:20260422T122308
CREATED:20241004T135916Z
LAST-MODIFIED:20260220T133032Z
UID:10017791-1781568000-1781654399@marketcommonmb.com
SUMMARY:Weekday Happy Hour
DESCRIPTION:Enjoy a variety of weekday Happy Hour specials at The Market Common\, featuring delicious bites and drinks from the best restaurants! \nMonday-Friday 4-6 PM \nGordon Biersch Brewery Restaurant  \nDirty Don’s Oyster Bar & Grill \nGios Pizzeria Napoletana \nTupelo Honey Southern Kitchen & Bar \n810 Bowling & Billiards \nMonday- Friday 4-7 PM \nCK’s Bistro \nCO Sushi \nP.F Chang’s \nNacho Hippo \n  \n 
URL:https://marketcommonmb.com/event/weekday-happy-hour/2026-06-16/
LOCATION:The Market Common\, 4017 Deville St\, Myrtle Beach\, 29577\, United States
CATEGORIES:Drink Specials,Food Specials,Specials
ATTACH;FMTTYPE=image/png:https://marketcommonmb.com/wp-content/uploads/2024/10/happy-hour.png
END:VEVENT
BEGIN:VEVENT
DTSTART;VALUE=DATE:20260616
DTEND;VALUE=DATE:20260617
DTSTAMP:20260422T122308
CREATED:20250603T183937Z
LAST-MODIFIED:20250603T183937Z
UID:10022340-1781568000-1781654399@marketcommonmb.com
SUMMARY:Taco Tuesdays at Nacho Hippo
DESCRIPTION:Taco Tuesdays at Nacho Hippo feature $2 off ALL tacos ALL DAY every Tuesday. \nEnjoy bold flavors and fresh ingredients in every bite.
URL:https://marketcommonmb.com/event/taco-tuesdays-at-nacho-hippo/2026-06-16/
LOCATION:Nacho Hippo\, 1160 Farrow Parkway\, Myrtle Beach\, SC\, 29577\, United States
CATEGORIES:Food Specials,Specials
ATTACH;FMTTYPE=image/png:https://marketcommonmb.com/wp-content/uploads/2025/06/tacos.png
END:VEVENT
BEGIN:VEVENT
DTSTART;TZID=America/New_York:20260616T160000
DTEND;TZID=America/New_York:20260616T190000
DTSTAMP:20260422T122308
CREATED:20240802T151420Z
LAST-MODIFIED:20240802T151547Z
UID:10011649-1781625600-1781636400@marketcommonmb.com
SUMMARY:1/2 Off Select Makimono Rolls
DESCRIPTION:Enjoy 1/2 off select Makimono Rolls Tuesdays and Thursdays at CO Sushi.
URL:https://marketcommonmb.com/event/1-2-off-select-makimono-rolls/2026-06-16/
LOCATION:CO Sushi\, 3098 Deville Street\, Myrtle Beach\, SC\, 29577\, United States
CATEGORIES:Food Specials,Specials
ATTACH;FMTTYPE=image/png:https://marketcommonmb.com/wp-content/uploads/2024/08/CO-HH.png
END:VEVENT
BEGIN:VEVENT
DTSTART;VALUE=DATE:20260617
DTEND;VALUE=DATE:20260618
DTSTAMP:20260422T122308
CREATED:20241004T135916Z
LAST-MODIFIED:20260220T133032Z
UID:10017792-1781654400-1781740799@marketcommonmb.com
SUMMARY:Weekday Happy Hour
DESCRIPTION:Enjoy a variety of weekday Happy Hour specials at The Market Common\, featuring delicious bites and drinks from the best restaurants! \nMonday-Friday 4-6 PM \nGordon Biersch Brewery Restaurant  \nDirty Don’s Oyster Bar & Grill \nGios Pizzeria Napoletana \nTupelo Honey Southern Kitchen & Bar \n810 Bowling & Billiards \nMonday- Friday 4-7 PM \nCK’s Bistro \nCO Sushi \nP.F Chang’s \nNacho Hippo \n  \n 
URL:https://marketcommonmb.com/event/weekday-happy-hour/2026-06-17/
LOCATION:The Market Common\, 4017 Deville St\, Myrtle Beach\, 29577\, United States
CATEGORIES:Drink Specials,Food Specials,Specials
ATTACH;FMTTYPE=image/png:https://marketcommonmb.com/wp-content/uploads/2024/10/happy-hour.png
END:VEVENT
BEGIN:VEVENT
DTSTART;VALUE=DATE:20260618
DTEND;VALUE=DATE:20260619
DTSTAMP:20260422T122308
CREATED:20241004T135916Z
LAST-MODIFIED:20260220T133032Z
UID:10017793-1781740800-1781827199@marketcommonmb.com
SUMMARY:Weekday Happy Hour
DESCRIPTION:Enjoy a variety of weekday Happy Hour specials at The Market Common\, featuring delicious bites and drinks from the best restaurants! \nMonday-Friday 4-6 PM \nGordon Biersch Brewery Restaurant  \nDirty Don’s Oyster Bar & Grill \nGios Pizzeria Napoletana \nTupelo Honey Southern Kitchen & Bar \n810 Bowling & Billiards \nMonday- Friday 4-7 PM \nCK’s Bistro \nCO Sushi \nP.F Chang’s \nNacho Hippo \n  \n 
URL:https://marketcommonmb.com/event/weekday-happy-hour/2026-06-18/
LOCATION:The Market Common\, 4017 Deville St\, Myrtle Beach\, 29577\, United States
CATEGORIES:Drink Specials,Food Specials,Specials
ATTACH;FMTTYPE=image/png:https://marketcommonmb.com/wp-content/uploads/2024/10/happy-hour.png
END:VEVENT
BEGIN:VEVENT
DTSTART;VALUE=DATE:20260618
DTEND;VALUE=DATE:20260619
DTSTAMP:20260422T122308
CREATED:20250603T185953Z
LAST-MODIFIED:20250603T185953Z
UID:10022601-1781740800-1781827199@marketcommonmb.com
SUMMARY:Thirsty Thursdays at Nacho Hippo
DESCRIPTION:Thirsty Thursdays at Nacho Hippo bring the flavor and the fun with $3 Beer Blitz and $3 Triple Threat specials. Sip\, savor\, and kick off the weekend early. \n \n 
URL:https://marketcommonmb.com/event/thirsty-thursdays-at-nacho-hippo/2026-06-18/
LOCATION:Nacho Hippo\, 1160 Farrow Parkway\, Myrtle Beach\, SC\, 29577\, United States
CATEGORIES:Drink Specials,Specials
ATTACH;FMTTYPE=image/png:https://marketcommonmb.com/wp-content/uploads/2025/06/NH-drink.png
END:VEVENT
BEGIN:VEVENT
DTSTART;TZID=America/New_York:20260618T160000
DTEND;TZID=America/New_York:20260618T190000
DTSTAMP:20260422T122308
CREATED:20240802T151420Z
LAST-MODIFIED:20240802T151547Z
UID:10011650-1781798400-1781809200@marketcommonmb.com
SUMMARY:1/2 Off Select Makimono Rolls
DESCRIPTION:Enjoy 1/2 off select Makimono Rolls Tuesdays and Thursdays at CO Sushi.
URL:https://marketcommonmb.com/event/1-2-off-select-makimono-rolls/2026-06-18/
LOCATION:CO Sushi\, 3098 Deville Street\, Myrtle Beach\, SC\, 29577\, United States
CATEGORIES:Food Specials,Specials
ATTACH;FMTTYPE=image/png:https://marketcommonmb.com/wp-content/uploads/2024/08/CO-HH.png
END:VEVENT
BEGIN:VEVENT
DTSTART;VALUE=DATE:20260619
DTEND;VALUE=DATE:20260620
DTSTAMP:20260422T122308
CREATED:20241004T135916Z
LAST-MODIFIED:20260220T133032Z
UID:10017794-1781827200-1781913599@marketcommonmb.com
SUMMARY:Weekday Happy Hour
DESCRIPTION:Enjoy a variety of weekday Happy Hour specials at The Market Common\, featuring delicious bites and drinks from the best restaurants! \nMonday-Friday 4-6 PM \nGordon Biersch Brewery Restaurant  \nDirty Don’s Oyster Bar & Grill \nGios Pizzeria Napoletana \nTupelo Honey Southern Kitchen & Bar \n810 Bowling & Billiards \nMonday- Friday 4-7 PM \nCK’s Bistro \nCO Sushi \nP.F Chang’s \nNacho Hippo \n  \n 
URL:https://marketcommonmb.com/event/weekday-happy-hour/2026-06-19/
LOCATION:The Market Common\, 4017 Deville St\, Myrtle Beach\, 29577\, United States
CATEGORIES:Drink Specials,Food Specials,Specials
ATTACH;FMTTYPE=image/png:https://marketcommonmb.com/wp-content/uploads/2024/10/happy-hour.png
END:VEVENT
BEGIN:VEVENT
DTSTART;TZID=America/New_York:20260621T113000
DTEND;TZID=America/New_York:20260621T210000
DTSTAMP:20260422T122308
CREATED:20240802T180928Z
LAST-MODIFIED:20240802T180928Z
UID:10015207-1782041400-1782075600@marketcommonmb.com
SUMMARY:$5 Bloody Mary & Mimosas
DESCRIPTION:Enjoy $5 Bloody Marys and Mimosas all day at Travinia.
URL:https://marketcommonmb.com/event/5-bloody-mary-mimosas/2026-06-21/
LOCATION:Travinia\, 4011 Deville St\, Myrtle Beach\, SC\, 29577\, United States
CATEGORIES:Drink Specials,Specials
ATTACH;FMTTYPE=image/png:https://marketcommonmb.com/wp-content/uploads/2024/08/Bloody-Mary-Mimosas.png
END:VEVENT
BEGIN:VEVENT
DTSTART;VALUE=DATE:20260622
DTEND;VALUE=DATE:20260623
DTSTAMP:20260422T122308
CREATED:20241004T135916Z
LAST-MODIFIED:20260220T133032Z
UID:10017795-1782086400-1782172799@marketcommonmb.com
SUMMARY:Weekday Happy Hour
DESCRIPTION:Enjoy a variety of weekday Happy Hour specials at The Market Common\, featuring delicious bites and drinks from the best restaurants! \nMonday-Friday 4-6 PM \nGordon Biersch Brewery Restaurant  \nDirty Don’s Oyster Bar & Grill \nGios Pizzeria Napoletana \nTupelo Honey Southern Kitchen & Bar \n810 Bowling & Billiards \nMonday- Friday 4-7 PM \nCK’s Bistro \nCO Sushi \nP.F Chang’s \nNacho Hippo \n  \n 
URL:https://marketcommonmb.com/event/weekday-happy-hour/2026-06-22/
LOCATION:The Market Common\, 4017 Deville St\, Myrtle Beach\, 29577\, United States
CATEGORIES:Drink Specials,Food Specials,Specials
ATTACH;FMTTYPE=image/png:https://marketcommonmb.com/wp-content/uploads/2024/10/happy-hour.png
END:VEVENT
END:VCALENDAR