BEGIN:VCALENDAR
VERSION:2.0
PRODID:-//The Market Common Myrtle Beach - ECPv6.15.12.2//NONSGML v1.0//EN
CALSCALE:GREGORIAN
METHOD:PUBLISH
X-WR-CALNAME:The Market Common Myrtle Beach
X-ORIGINAL-URL:https://marketcommonmb.com
X-WR-CALDESC:Events for The Market Common Myrtle Beach
REFRESH-INTERVAL;VALUE=DURATION:PT1H
X-Robots-Tag:noindex
X-PUBLISHED-TTL:PT1H
BEGIN:VTIMEZONE
TZID:America/New_York
BEGIN:DAYLIGHT
TZOFFSETFROM:-0500
TZOFFSETTO:-0400
TZNAME:EDT
DTSTART:20250309T070000
END:DAYLIGHT
BEGIN:STANDARD
TZOFFSETFROM:-0400
TZOFFSETTO:-0500
TZNAME:EST
DTSTART:20251102T060000
END:STANDARD
BEGIN:DAYLIGHT
TZOFFSETFROM:-0500
TZOFFSETTO:-0400
TZNAME:EDT
DTSTART:20260308T070000
END:DAYLIGHT
BEGIN:STANDARD
TZOFFSETFROM:-0400
TZOFFSETTO:-0500
TZNAME:EST
DTSTART:20261101T060000
END:STANDARD
BEGIN:DAYLIGHT
TZOFFSETFROM:-0500
TZOFFSETTO:-0400
TZNAME:EDT
DTSTART:20270314T070000
END:DAYLIGHT
BEGIN:STANDARD
TZOFFSETFROM:-0400
TZOFFSETTO:-0500
TZNAME:EST
DTSTART:20271107T060000
END:STANDARD
END:VTIMEZONE
BEGIN:VEVENT
DTSTART;TZID=America/New_York:20260401T170000
DTEND;TZID=America/New_York:20260401T190000
DTSTAMP:20260424T205527
CREATED:20260205T135116Z
LAST-MODIFIED:20260205T135151Z
UID:10026200-1775062800-1775070000@marketcommonmb.com
SUMMARY:VIP Facility Tour -The Yard Gym
DESCRIPTION:Get a first look at The Market Common’s newest gym opening this April! Explore the gym space\, check out the wellness area\, and learn more about everything The Yard Gym has to offer.
URL:https://marketcommonmb.com/event/vip-facility-tour-the-yard-gym/2026-04-01/
LOCATION:The Yard Gym\, 3026 Nevers Street\, MYRTLE BEACH\, SC\, 29577-1640\, United States
CATEGORIES:Specials,Wellness
ATTACH;FMTTYPE=image/webp:https://marketcommonmb.com/wp-content/uploads/2026/02/yard-logo.webp
END:VEVENT
END:VCALENDAR