BEGIN:VCALENDAR
VERSION:2.0
PRODID:-//The Market Common Myrtle Beach - ECPv6.15.12.2//NONSGML v1.0//EN
CALSCALE:GREGORIAN
METHOD:PUBLISH
X-WR-CALNAME:The Market Common Myrtle Beach
X-ORIGINAL-URL:https://marketcommonmb.com
X-WR-CALDESC:Events for The Market Common Myrtle Beach
REFRESH-INTERVAL;VALUE=DURATION:PT1H
X-Robots-Tag:noindex
X-PUBLISHED-TTL:PT1H
BEGIN:VTIMEZONE
TZID:America/New_York
BEGIN:DAYLIGHT
TZOFFSETFROM:-0500
TZOFFSETTO:-0400
TZNAME:EDT
DTSTART:20250309T070000
END:DAYLIGHT
BEGIN:STANDARD
TZOFFSETFROM:-0400
TZOFFSETTO:-0500
TZNAME:EST
DTSTART:20251102T060000
END:STANDARD
BEGIN:DAYLIGHT
TZOFFSETFROM:-0500
TZOFFSETTO:-0400
TZNAME:EDT
DTSTART:20260308T070000
END:DAYLIGHT
BEGIN:STANDARD
TZOFFSETFROM:-0400
TZOFFSETTO:-0500
TZNAME:EST
DTSTART:20261101T060000
END:STANDARD
BEGIN:DAYLIGHT
TZOFFSETFROM:-0500
TZOFFSETTO:-0400
TZNAME:EDT
DTSTART:20270314T070000
END:DAYLIGHT
BEGIN:STANDARD
TZOFFSETFROM:-0400
TZOFFSETTO:-0500
TZNAME:EST
DTSTART:20271107T060000
END:STANDARD
END:VTIMEZONE
BEGIN:VEVENT
DTSTART;TZID=America/New_York:20260404T080000
DTEND;TZID=America/New_York:20260404T100000
DTSTAMP:20260424T224606
CREATED:20260205T134327Z
LAST-MODIFIED:20260205T134327Z
UID:10025947-1775289600-1775296800@marketcommonmb.com
SUMMARY:Run Club with The Yard Gym
DESCRIPTION:Lace up and join us for Run Club every Saturday at 8AM! We’ll meet at the front of The Yard Gym for a fun\, feel-good way to kick off your weekend. All paces and faces welcome!
URL:https://marketcommonmb.com/event/run-club-with-the-yard-gym/2026-04-04/
LOCATION:The Yard Gym\, 3026 Nevers Street\, MYRTLE BEACH\, SC\, 29577-1640\, United States
CATEGORIES:Social Events,Wellness
ATTACH;FMTTYPE=image/png:https://marketcommonmb.com/wp-content/uploads/2025/03/5K-run.png
END:VEVENT
BEGIN:VEVENT
DTSTART;TZID=America/New_York:20260404T100000
DTEND;TZID=America/New_York:20260404T120000
DTSTAMP:20260424T224606
CREATED:20260205T135116Z
LAST-MODIFIED:20260205T135151Z
UID:10026201-1775296800-1775304000@marketcommonmb.com
SUMMARY:VIP Facility Tour -The Yard Gym
DESCRIPTION:Get a first look at The Market Common’s newest gym opening this April! Explore the gym space\, check out the wellness area\, and learn more about everything The Yard Gym has to offer.
URL:https://marketcommonmb.com/event/vip-facility-tour-the-yard-gym/2026-04-04/
LOCATION:The Yard Gym\, 3026 Nevers Street\, MYRTLE BEACH\, SC\, 29577-1640\, United States
CATEGORIES:Specials,Wellness
ATTACH;FMTTYPE=image/webp:https://marketcommonmb.com/wp-content/uploads/2026/02/yard-logo.webp
END:VEVENT
END:VCALENDAR