BEGIN:VCALENDAR
VERSION:2.0
PRODID:-//The Market Common Myrtle Beach - ECPv6.15.12.2//NONSGML v1.0//EN
CALSCALE:GREGORIAN
METHOD:PUBLISH
X-ORIGINAL-URL:https://marketcommonmb.com
X-WR-CALDESC:Events for The Market Common Myrtle Beach
REFRESH-INTERVAL;VALUE=DURATION:PT1H
X-Robots-Tag:noindex
X-PUBLISHED-TTL:PT1H
BEGIN:VTIMEZONE
TZID:America/New_York
BEGIN:DAYLIGHT
TZOFFSETFROM:-0500
TZOFFSETTO:-0400
TZNAME:EDT
DTSTART:20240310T070000
END:DAYLIGHT
BEGIN:STANDARD
TZOFFSETFROM:-0400
TZOFFSETTO:-0500
TZNAME:EST
DTSTART:20241103T060000
END:STANDARD
BEGIN:DAYLIGHT
TZOFFSETFROM:-0500
TZOFFSETTO:-0400
TZNAME:EDT
DTSTART:20250309T070000
END:DAYLIGHT
BEGIN:STANDARD
TZOFFSETFROM:-0400
TZOFFSETTO:-0500
TZNAME:EST
DTSTART:20251102T060000
END:STANDARD
BEGIN:DAYLIGHT
TZOFFSETFROM:-0500
TZOFFSETTO:-0400
TZNAME:EDT
DTSTART:20260308T070000
END:DAYLIGHT
BEGIN:STANDARD
TZOFFSETFROM:-0400
TZOFFSETTO:-0500
TZNAME:EST
DTSTART:20261101T060000
END:STANDARD
END:VTIMEZONE
BEGIN:VEVENT
DTSTART;VALUE=DATE:20250120
DTEND;VALUE=DATE:20250121
DTSTAMP:20260422T054839
CREATED:20241004T135916Z
LAST-MODIFIED:20260220T133032Z
UID:10017425-1737331200-1737417599@marketcommonmb.com
SUMMARY:Weekday Happy Hour
DESCRIPTION:Enjoy a variety of weekday Happy Hour specials at The Market Common\, featuring delicious bites and drinks from the best restaurants! \nMonday-Friday 4-6 PM \nGordon Biersch Brewery Restaurant  \nDirty Don’s Oyster Bar & Grill \nGios Pizzeria Napoletana \nTupelo Honey Southern Kitchen & Bar \n810 Bowling & Billiards \nMonday- Friday 4-7 PM \nCK’s Bistro \nCO Sushi \nP.F Chang’s \nNacho Hippo \n  \n 
URL:https://marketcommonmb.com/event/weekday-happy-hour/2025-01-20/
LOCATION:The Market Common\, 4017 Deville St\, Myrtle Beach\, 29577\, United States
CATEGORIES:Drink Specials,Food Specials,Specials
ATTACH;FMTTYPE=image/png:https://marketcommonmb.com/wp-content/uploads/2024/10/happy-hour.png
END:VEVENT
BEGIN:VEVENT
DTSTART;TZID=America/New_York:20250120T190000
DTEND;TZID=America/New_York:20250120T210000
DTSTAMP:20260422T054839
CREATED:20240610T125546Z
LAST-MODIFIED:20240610T133250Z
UID:10002840-1737399600-1737406800@marketcommonmb.com
SUMMARY:Jukebox Bingo
DESCRIPTION:Jukebox Bingo uses songs from specific genres/eras. Fill your card up or complete the various Bingo games and win 810 gift cards! Mondays from 7-9 pm at 810 Billiards & Bowling in The Market Common.
URL:https://marketcommonmb.com/event/jukebox-bingo/2025-01-20/
LOCATION:810 Billiards & Bowling\, 1220 Moser Drive\, Myrtle Beach\, SC\, 29577\, United States
CATEGORIES:Music Events,Social Events
ATTACH;FMTTYPE=image/png:https://marketcommonmb.com/wp-content/uploads/2024/06/Jukebox-Bingo-1.png
END:VEVENT
BEGIN:VEVENT
DTSTART;VALUE=DATE:20250121
DTEND;VALUE=DATE:20250122
DTSTAMP:20260422T054839
CREATED:20241004T135916Z
LAST-MODIFIED:20260220T133032Z
UID:10017426-1737417600-1737503999@marketcommonmb.com
SUMMARY:Weekday Happy Hour
DESCRIPTION:Enjoy a variety of weekday Happy Hour specials at The Market Common\, featuring delicious bites and drinks from the best restaurants! \nMonday-Friday 4-6 PM \nGordon Biersch Brewery Restaurant  \nDirty Don’s Oyster Bar & Grill \nGios Pizzeria Napoletana \nTupelo Honey Southern Kitchen & Bar \n810 Bowling & Billiards \nMonday- Friday 4-7 PM \nCK’s Bistro \nCO Sushi \nP.F Chang’s \nNacho Hippo \n  \n 
URL:https://marketcommonmb.com/event/weekday-happy-hour/2025-01-21/
LOCATION:The Market Common\, 4017 Deville St\, Myrtle Beach\, 29577\, United States
CATEGORIES:Drink Specials,Food Specials,Specials
ATTACH;FMTTYPE=image/png:https://marketcommonmb.com/wp-content/uploads/2024/10/happy-hour.png
END:VEVENT
BEGIN:VEVENT
DTSTART;TZID=America/New_York:20250121T160000
DTEND;TZID=America/New_York:20250121T190000
DTSTAMP:20260422T054839
CREATED:20240802T151420Z
LAST-MODIFIED:20240802T151547Z
UID:10011503-1737475200-1737486000@marketcommonmb.com
SUMMARY:1/2 Off Select Makimono Rolls
DESCRIPTION:Enjoy 1/2 off select Makimono Rolls Tuesdays and Thursdays at CO Sushi.
URL:https://marketcommonmb.com/event/1-2-off-select-makimono-rolls/2025-01-21/
LOCATION:CO Sushi\, 3098 Deville Street\, Myrtle Beach\, SC\, 29577\, United States
CATEGORIES:Food Specials,Specials
ATTACH;FMTTYPE=image/png:https://marketcommonmb.com/wp-content/uploads/2024/08/CO-HH.png
END:VEVENT
BEGIN:VEVENT
DTSTART;TZID=America/New_York:20250121T190000
DTEND;TZID=America/New_York:20250121T200000
DTSTAMP:20260422T054839
CREATED:20240610T175305Z
LAST-MODIFIED:20240610T175305Z
UID:10004166-1737486000-1737489600@marketcommonmb.com
SUMMARY:Tuesday Trivia Night
DESCRIPTION:Test your knowledge\, enjoy a few drinks and bites\, and win some cash with Trivia night at Dirty Don’s Oyster Bar & Grill in The Market Common. Begins at 7pm.
URL:https://marketcommonmb.com/event/tuesday-trivia-night/2025-01-21/
LOCATION:Dirty Dons\, 3090 Deville St\, Myrtle Beach\, SC\, 29577\, United States
CATEGORIES:Social Events
ATTACH;FMTTYPE=image/png:https://marketcommonmb.com/wp-content/uploads/2024/06/Trivia-Tuesday.png
END:VEVENT
BEGIN:VEVENT
DTSTART;TZID=America/New_York:20250121T190000
DTEND;TZID=America/New_York:20250121T210000
DTSTAMP:20260422T054839
CREATED:20240610T150612Z
LAST-MODIFIED:20240610T160842Z
UID:10003106-1737486000-1737493200@marketcommonmb.com
SUMMARY:Mind Games Trivia
DESCRIPTION:Can your team guess the right answers? Play for a chance to win gift cards to 810 Billiards & Bowling. Tuesday’s & Thursdays 7-9pm.
URL:https://marketcommonmb.com/event/mind-game-trivia/2025-01-21/
LOCATION:810 Billiards & Bowling\, 1220 Moser Drive\, Myrtle Beach\, SC\, 29577\, United States
CATEGORIES:Social Events
ATTACH;FMTTYPE=image/png:https://marketcommonmb.com/wp-content/uploads/2024/06/Trivia.png
END:VEVENT
BEGIN:VEVENT
DTSTART;VALUE=DATE:20250122
DTEND;VALUE=DATE:20250123
DTSTAMP:20260422T054839
CREATED:20241004T135916Z
LAST-MODIFIED:20260220T133032Z
UID:10017427-1737504000-1737590399@marketcommonmb.com
SUMMARY:Weekday Happy Hour
DESCRIPTION:Enjoy a variety of weekday Happy Hour specials at The Market Common\, featuring delicious bites and drinks from the best restaurants! \nMonday-Friday 4-6 PM \nGordon Biersch Brewery Restaurant  \nDirty Don’s Oyster Bar & Grill \nGios Pizzeria Napoletana \nTupelo Honey Southern Kitchen & Bar \n810 Bowling & Billiards \nMonday- Friday 4-7 PM \nCK’s Bistro \nCO Sushi \nP.F Chang’s \nNacho Hippo \n  \n 
URL:https://marketcommonmb.com/event/weekday-happy-hour/2025-01-22/
LOCATION:The Market Common\, 4017 Deville St\, Myrtle Beach\, 29577\, United States
CATEGORIES:Drink Specials,Food Specials,Specials
ATTACH;FMTTYPE=image/png:https://marketcommonmb.com/wp-content/uploads/2024/10/happy-hour.png
END:VEVENT
BEGIN:VEVENT
DTSTART;TZID=America/New_York:20250122T160000
DTEND;TZID=America/New_York:20250122T180000
DTSTAMP:20260422T054839
CREATED:20240802T165601Z
LAST-MODIFIED:20250402T202345Z
UID:10014634-1737561600-1737568800@marketcommonmb.com
SUMMARY:1/2 Price Martinis at Travinia
DESCRIPTION:Wednesday’s & Saturday’s from 4-6 pm enjoy Travinia’s 1/2 price martinis from their menu.
URL:https://marketcommonmb.com/event/1-2-price-martinis-at-travinia/2025-01-22/
LOCATION:Travinia\, 4011 Deville St\, Myrtle Beach\, SC\, 29577\, United States
CATEGORIES:Drink Specials
ATTACH;FMTTYPE=image/png:https://marketcommonmb.com/wp-content/uploads/2024/08/Martinis.png
END:VEVENT
BEGIN:VEVENT
DTSTART;TZID=America/New_York:20250122T173000
DTEND;TZID=America/New_York:20250122T183000
DTSTAMP:20260422T054839
CREATED:20250109T143326Z
LAST-MODIFIED:20250109T143326Z
UID:10019821-1737567000-1737570600@marketcommonmb.com
SUMMARY:Epoxy Class with Two Brothers Woodworks
DESCRIPTION:Learn to “make waves” on your chosen item with a fun\, mesmerizing epoxy technique. Each class includes safety tips\, a live demo\, and hands-on guidance to help you craft beautiful\, one-of-a-kind designs. Sign up on their website
URL:https://marketcommonmb.com/event/epoxy-class-with-two-brothers-woodworks/2025-01-22/
LOCATION:SC
CATEGORIES:Art,Design,Family Events,Social Events
ATTACH;FMTTYPE=image/png:https://marketcommonmb.com/wp-content/uploads/2025/01/epoxy-art.png
END:VEVENT
BEGIN:VEVENT
DTSTART;TZID=America/New_York:20250122T173000
DTEND;TZID=America/New_York:20250122T183000
DTSTAMP:20260422T054839
CREATED:20250507T141952Z
LAST-MODIFIED:20250507T142125Z
UID:10020105-1737567000-1737570600@marketcommonmb.com
SUMMARY:Epoxy Class with Two Brothers Woodworks
DESCRIPTION:Learn to “make waves” on your chosen item with a fun\, mesmerizing epoxy technique. Each class includes safety tips\, a live demo\, and hands-on guidance to help you craft beautiful\, one-of-a-kind designs. Sign up on their website
URL:https://marketcommonmb.com/event/epoxy-class-with-two-brothers-woodworks-2/2025-01-22/
LOCATION:SC
CATEGORIES:Art,Design,Family Events,Social Events
ATTACH;FMTTYPE=image/png:https://marketcommonmb.com/wp-content/uploads/2025/01/epoxy-art.png
END:VEVENT
BEGIN:VEVENT
DTSTART;TZID=America/New_York:20250122T190000
DTEND;TZID=America/New_York:20250122T210000
DTSTAMP:20260422T054839
CREATED:20240610T155924Z
LAST-MODIFIED:20240610T160142Z
UID:10003628-1737572400-1737579600@marketcommonmb.com
SUMMARY:Survey Game Night
DESCRIPTION:Survey – a strategic guessing game is very similar to the popular game show Family Feud! Top teams win 810 gift cards! Wednesdays 7-9pm. 
URL:https://marketcommonmb.com/event/survey-game-night/2025-01-22/
LOCATION:810 Billiards & Bowling\, 1220 Moser Drive\, Myrtle Beach\, SC\, 29577\, United States
CATEGORIES:Social Events
ATTACH;FMTTYPE=image/png:https://marketcommonmb.com/wp-content/uploads/2024/06/Survey-Game.png
END:VEVENT
BEGIN:VEVENT
DTSTART;VALUE=DATE:20250123
DTEND;VALUE=DATE:20250124
DTSTAMP:20260422T054839
CREATED:20241004T135916Z
LAST-MODIFIED:20260220T133032Z
UID:10017428-1737590400-1737676799@marketcommonmb.com
SUMMARY:Weekday Happy Hour
DESCRIPTION:Enjoy a variety of weekday Happy Hour specials at The Market Common\, featuring delicious bites and drinks from the best restaurants! \nMonday-Friday 4-6 PM \nGordon Biersch Brewery Restaurant  \nDirty Don’s Oyster Bar & Grill \nGios Pizzeria Napoletana \nTupelo Honey Southern Kitchen & Bar \n810 Bowling & Billiards \nMonday- Friday 4-7 PM \nCK’s Bistro \nCO Sushi \nP.F Chang’s \nNacho Hippo \n  \n 
URL:https://marketcommonmb.com/event/weekday-happy-hour/2025-01-23/
LOCATION:The Market Common\, 4017 Deville St\, Myrtle Beach\, 29577\, United States
CATEGORIES:Drink Specials,Food Specials,Specials
ATTACH;FMTTYPE=image/png:https://marketcommonmb.com/wp-content/uploads/2024/10/happy-hour.png
END:VEVENT
BEGIN:VEVENT
DTSTART;TZID=America/New_York:20250123T160000
DTEND;TZID=America/New_York:20250123T190000
DTSTAMP:20260422T054839
CREATED:20240802T151420Z
LAST-MODIFIED:20240802T151547Z
UID:10011504-1737648000-1737658800@marketcommonmb.com
SUMMARY:1/2 Off Select Makimono Rolls
DESCRIPTION:Enjoy 1/2 off select Makimono Rolls Tuesdays and Thursdays at CO Sushi.
URL:https://marketcommonmb.com/event/1-2-off-select-makimono-rolls/2025-01-23/
LOCATION:CO Sushi\, 3098 Deville Street\, Myrtle Beach\, SC\, 29577\, United States
CATEGORIES:Food Specials,Specials
ATTACH;FMTTYPE=image/png:https://marketcommonmb.com/wp-content/uploads/2024/08/CO-HH.png
END:VEVENT
BEGIN:VEVENT
DTSTART;TZID=America/New_York:20250123T190000
DTEND;TZID=America/New_York:20250123T210000
DTSTAMP:20260422T054839
CREATED:20240610T150612Z
LAST-MODIFIED:20240610T160842Z
UID:10003889-1737658800-1737666000@marketcommonmb.com
SUMMARY:Mind Games Trivia
DESCRIPTION:Can your team guess the right answers? Play for a chance to win gift cards to 810 Billiards & Bowling. Tuesday’s & Thursdays 7-9pm.
URL:https://marketcommonmb.com/event/mind-game-trivia/2025-01-23/
LOCATION:810 Billiards & Bowling\, 1220 Moser Drive\, Myrtle Beach\, SC\, 29577\, United States
CATEGORIES:Social Events
ATTACH;FMTTYPE=image/png:https://marketcommonmb.com/wp-content/uploads/2024/06/Trivia.png
END:VEVENT
BEGIN:VEVENT
DTSTART;VALUE=DATE:20250124
DTEND;VALUE=DATE:20250125
DTSTAMP:20260422T054839
CREATED:20241004T135916Z
LAST-MODIFIED:20260220T133032Z
UID:10017429-1737676800-1737763199@marketcommonmb.com
SUMMARY:Weekday Happy Hour
DESCRIPTION:Enjoy a variety of weekday Happy Hour specials at The Market Common\, featuring delicious bites and drinks from the best restaurants! \nMonday-Friday 4-6 PM \nGordon Biersch Brewery Restaurant  \nDirty Don’s Oyster Bar & Grill \nGios Pizzeria Napoletana \nTupelo Honey Southern Kitchen & Bar \n810 Bowling & Billiards \nMonday- Friday 4-7 PM \nCK’s Bistro \nCO Sushi \nP.F Chang’s \nNacho Hippo \n  \n 
URL:https://marketcommonmb.com/event/weekday-happy-hour/2025-01-24/
LOCATION:The Market Common\, 4017 Deville St\, Myrtle Beach\, 29577\, United States
CATEGORIES:Drink Specials,Food Specials,Specials
ATTACH;FMTTYPE=image/png:https://marketcommonmb.com/wp-content/uploads/2024/10/happy-hour.png
END:VEVENT
BEGIN:VEVENT
DTSTART;TZID=America/New_York:20250124T170000
DTEND;TZID=America/New_York:20250124T190000
DTSTAMP:20260422T054839
CREATED:20250109T143944Z
LAST-MODIFIED:20250109T144337Z
UID:10019828-1737738000-1737745200@marketcommonmb.com
SUMMARY:Nautical Seaglass Workshop at Nailed It DIY Studio
DESCRIPTION:Craft ocean-inspired treasures at this fun\, hands-on workshop perfect for all skill levels! Choose from two dates (January 17th & 24th)\, $40 per project\, and BYOB for added fun. Reserve your spot today!
URL:https://marketcommonmb.com/event/nautical-seaglass-workshop-at-nailed-it-diy-studio/2025-01-24/
LOCATION:Nailed It DIY Studio\, 3064 Deville Street\, Myrtle Beach\, SC\, 29577\, United States
CATEGORIES:Art,Design,Family Events,Social Events
ATTACH;FMTTYPE=image/png:https://marketcommonmb.com/wp-content/uploads/2025/01/seaglass.png
END:VEVENT
BEGIN:VEVENT
DTSTART;TZID=America/New_York:20250124T180000
DTEND;TZID=America/New_York:20250124T210000
DTSTAMP:20260422T054839
CREATED:20240607T173809Z
LAST-MODIFIED:20240610T145130Z
UID:10000426-1737741600-1737752400@marketcommonmb.com
SUMMARY:Jazz Band at Travinia
DESCRIPTION:Live jazz every Friday night at Travinia Italian Wine Bar & Kitchen\, starting at 6:00 pm. Enjoy great music\, delicious Italian food\, and fine wines for a memorable evening!
URL:https://marketcommonmb.com/event/jazz-band-at-travinia/2025-01-24/
LOCATION:Travinia\, 4011 Deville St\, Myrtle Beach\, SC\, 29577\, United States
CATEGORIES:Music Events
ATTACH;FMTTYPE=image/png:https://marketcommonmb.com/wp-content/uploads/2024/06/Jazz-Band-1.png
END:VEVENT
BEGIN:VEVENT
DTSTART;TZID=America/New_York:20250124T201000
DTEND;TZID=America/New_York:20250124T230000
DTSTAMP:20260422T054839
CREATED:20250109T180621Z
LAST-MODIFIED:20250109T180715Z
UID:10019833-1737749400-1737759600@marketcommonmb.com
SUMMARY:Live Music at 810 Bowling
DESCRIPTION:Enjoy live music at 810 Bowling & Billiards with Julio & the Saltines from 8:10 pm- 11:00 pm.
URL:https://marketcommonmb.com/event/live-music-at-810-bowling-3/
LOCATION:810 Billiards & Bowling\, 1220 Moser Drive\, Myrtle Beach\, SC\, 29577\, United States
CATEGORIES:Dance,Drink Specials,Food Specials,Music Events,Social Events
ATTACH;FMTTYPE=image/png:https://marketcommonmb.com/wp-content/uploads/2025/01/810livemusic.png
END:VEVENT
BEGIN:VEVENT
DTSTART;VALUE=DATE:20250125
DTEND;VALUE=DATE:20250126
DTSTAMP:20260422T054839
CREATED:20241004T142022Z
LAST-MODIFIED:20260220T132956Z
UID:10018686-1737763200-1737849599@marketcommonmb.com
SUMMARY:Weekend Happy Hour
DESCRIPTION:Enjoy Weekend Happy Hours at The Market Common! Unwind with great deals on drinks and appetizers at various restaurants\, perfect for relaxing with friends and soaking in the vibrant atmosphere! \nAll Day Every Day: P.F. Chang’s \nEvery Day 4-6 PM: Ck’s Bistro \nSaturday & Sunday 1-3 PM: Dirty Don’s Oyster Bar & Grill \nSaturday & Sunday 4-6 PM: 810 Bowling & Billiards \nSundays: Co Sushi \n 
URL:https://marketcommonmb.com/event/weekend-happy-hour/2025-01-25/
LOCATION:SC
CATEGORIES:Drink Specials,Food Specials
ATTACH;FMTTYPE=image/png:https://marketcommonmb.com/wp-content/uploads/2024/10/mimosas-1.png
END:VEVENT
BEGIN:VEVENT
DTSTART;TZID=America/New_York:20250125T160000
DTEND;TZID=America/New_York:20250125T180000
DTSTAMP:20260422T054839
CREATED:20240802T165601Z
LAST-MODIFIED:20250402T202345Z
UID:10014635-1737820800-1737828000@marketcommonmb.com
SUMMARY:1/2 Price Martinis at Travinia
DESCRIPTION:Wednesday’s & Saturday’s from 4-6 pm enjoy Travinia’s 1/2 price martinis from their menu.
URL:https://marketcommonmb.com/event/1-2-price-martinis-at-travinia/2025-01-25/
LOCATION:Travinia\, 4011 Deville St\, Myrtle Beach\, SC\, 29577\, United States
CATEGORIES:Drink Specials
ATTACH;FMTTYPE=image/png:https://marketcommonmb.com/wp-content/uploads/2024/08/Martinis.png
END:VEVENT
BEGIN:VEVENT
DTSTART;TZID=America/New_York:20250125T200000
DTEND;TZID=America/New_York:20250125T200000
DTSTAMP:20260422T054839
CREATED:20240613T201217Z
LAST-MODIFIED:20250306T140405Z
UID:10004428-1737835200-1737835200@marketcommonmb.com
SUMMARY:Live DJ
DESCRIPTION:Enjoy great music\, delicious food\, and endless fun at 810 Billiards & Bowling with Live DJ select Saturdays from 9 PM to 12 AM.
URL:https://marketcommonmb.com/event/live-dj/2025-01-25/
LOCATION:810 Billiards & Bowling\, 1220 Moser Drive\, Myrtle Beach\, SC\, 29577\, United States
CATEGORIES:Music Events
ATTACH;FMTTYPE=image/png:https://marketcommonmb.com/wp-content/uploads/2024/06/DJ.png
END:VEVENT
BEGIN:VEVENT
DTSTART;VALUE=DATE:20250126
DTEND;VALUE=DATE:20250127
DTSTAMP:20260422T054839
CREATED:20241004T142022Z
LAST-MODIFIED:20260220T132956Z
UID:10018687-1737849600-1737935999@marketcommonmb.com
SUMMARY:Weekend Happy Hour
DESCRIPTION:Enjoy Weekend Happy Hours at The Market Common! Unwind with great deals on drinks and appetizers at various restaurants\, perfect for relaxing with friends and soaking in the vibrant atmosphere! \nAll Day Every Day: P.F. Chang’s \nEvery Day 4-6 PM: Ck’s Bistro \nSaturday & Sunday 1-3 PM: Dirty Don’s Oyster Bar & Grill \nSaturday & Sunday 4-6 PM: 810 Bowling & Billiards \nSundays: Co Sushi \n 
URL:https://marketcommonmb.com/event/weekend-happy-hour/2025-01-26/
LOCATION:SC
CATEGORIES:Drink Specials,Food Specials
ATTACH;FMTTYPE=image/png:https://marketcommonmb.com/wp-content/uploads/2024/10/mimosas-1.png
END:VEVENT
BEGIN:VEVENT
DTSTART;TZID=America/New_York:20250126T113000
DTEND;TZID=America/New_York:20250126T210000
DTSTAMP:20260422T054839
CREATED:20240802T180928Z
LAST-MODIFIED:20240802T180928Z
UID:10015134-1737891000-1737925200@marketcommonmb.com
SUMMARY:$5 Bloody Mary & Mimosas
DESCRIPTION:Enjoy $5 Bloody Marys and Mimosas all day at Travinia.
URL:https://marketcommonmb.com/event/5-bloody-mary-mimosas/2025-01-26/
LOCATION:Travinia\, 4011 Deville St\, Myrtle Beach\, SC\, 29577\, United States
CATEGORIES:Drink Specials,Specials
ATTACH;FMTTYPE=image/png:https://marketcommonmb.com/wp-content/uploads/2024/08/Bloody-Mary-Mimosas.png
END:VEVENT
BEGIN:VEVENT
DTSTART;VALUE=DATE:20250127
DTEND;VALUE=DATE:20250128
DTSTAMP:20260422T054839
CREATED:20241004T135916Z
LAST-MODIFIED:20260220T133032Z
UID:10017430-1737936000-1738022399@marketcommonmb.com
SUMMARY:Weekday Happy Hour
DESCRIPTION:Enjoy a variety of weekday Happy Hour specials at The Market Common\, featuring delicious bites and drinks from the best restaurants! \nMonday-Friday 4-6 PM \nGordon Biersch Brewery Restaurant  \nDirty Don’s Oyster Bar & Grill \nGios Pizzeria Napoletana \nTupelo Honey Southern Kitchen & Bar \n810 Bowling & Billiards \nMonday- Friday 4-7 PM \nCK’s Bistro \nCO Sushi \nP.F Chang’s \nNacho Hippo \n  \n 
URL:https://marketcommonmb.com/event/weekday-happy-hour/2025-01-27/
LOCATION:The Market Common\, 4017 Deville St\, Myrtle Beach\, 29577\, United States
CATEGORIES:Drink Specials,Food Specials,Specials
ATTACH;FMTTYPE=image/png:https://marketcommonmb.com/wp-content/uploads/2024/10/happy-hour.png
END:VEVENT
BEGIN:VEVENT
DTSTART;TZID=America/New_York:20250127T190000
DTEND;TZID=America/New_York:20250127T210000
DTSTAMP:20260422T054839
CREATED:20240610T125546Z
LAST-MODIFIED:20240610T133250Z
UID:10002841-1738004400-1738011600@marketcommonmb.com
SUMMARY:Jukebox Bingo
DESCRIPTION:Jukebox Bingo uses songs from specific genres/eras. Fill your card up or complete the various Bingo games and win 810 gift cards! Mondays from 7-9 pm at 810 Billiards & Bowling in The Market Common.
URL:https://marketcommonmb.com/event/jukebox-bingo/2025-01-27/
LOCATION:810 Billiards & Bowling\, 1220 Moser Drive\, Myrtle Beach\, SC\, 29577\, United States
CATEGORIES:Music Events,Social Events
ATTACH;FMTTYPE=image/png:https://marketcommonmb.com/wp-content/uploads/2024/06/Jukebox-Bingo-1.png
END:VEVENT
BEGIN:VEVENT
DTSTART;VALUE=DATE:20250128
DTEND;VALUE=DATE:20250129
DTSTAMP:20260422T054839
CREATED:20241004T135916Z
LAST-MODIFIED:20260220T133032Z
UID:10017431-1738022400-1738108799@marketcommonmb.com
SUMMARY:Weekday Happy Hour
DESCRIPTION:Enjoy a variety of weekday Happy Hour specials at The Market Common\, featuring delicious bites and drinks from the best restaurants! \nMonday-Friday 4-6 PM \nGordon Biersch Brewery Restaurant  \nDirty Don’s Oyster Bar & Grill \nGios Pizzeria Napoletana \nTupelo Honey Southern Kitchen & Bar \n810 Bowling & Billiards \nMonday- Friday 4-7 PM \nCK’s Bistro \nCO Sushi \nP.F Chang’s \nNacho Hippo \n  \n 
URL:https://marketcommonmb.com/event/weekday-happy-hour/2025-01-28/
LOCATION:The Market Common\, 4017 Deville St\, Myrtle Beach\, 29577\, United States
CATEGORIES:Drink Specials,Food Specials,Specials
ATTACH;FMTTYPE=image/png:https://marketcommonmb.com/wp-content/uploads/2024/10/happy-hour.png
END:VEVENT
BEGIN:VEVENT
DTSTART;TZID=America/New_York:20250128T160000
DTEND;TZID=America/New_York:20250128T190000
DTSTAMP:20260422T054839
CREATED:20240802T151420Z
LAST-MODIFIED:20240802T151547Z
UID:10011505-1738080000-1738090800@marketcommonmb.com
SUMMARY:1/2 Off Select Makimono Rolls
DESCRIPTION:Enjoy 1/2 off select Makimono Rolls Tuesdays and Thursdays at CO Sushi.
URL:https://marketcommonmb.com/event/1-2-off-select-makimono-rolls/2025-01-28/
LOCATION:CO Sushi\, 3098 Deville Street\, Myrtle Beach\, SC\, 29577\, United States
CATEGORIES:Food Specials,Specials
ATTACH;FMTTYPE=image/png:https://marketcommonmb.com/wp-content/uploads/2024/08/CO-HH.png
END:VEVENT
BEGIN:VEVENT
DTSTART;TZID=America/New_York:20250128T190000
DTEND;TZID=America/New_York:20250128T200000
DTSTAMP:20260422T054839
CREATED:20240610T175305Z
LAST-MODIFIED:20240610T175305Z
UID:10004167-1738090800-1738094400@marketcommonmb.com
SUMMARY:Tuesday Trivia Night
DESCRIPTION:Test your knowledge\, enjoy a few drinks and bites\, and win some cash with Trivia night at Dirty Don’s Oyster Bar & Grill in The Market Common. Begins at 7pm.
URL:https://marketcommonmb.com/event/tuesday-trivia-night/2025-01-28/
LOCATION:Dirty Dons\, 3090 Deville St\, Myrtle Beach\, SC\, 29577\, United States
CATEGORIES:Social Events
ATTACH;FMTTYPE=image/png:https://marketcommonmb.com/wp-content/uploads/2024/06/Trivia-Tuesday.png
END:VEVENT
BEGIN:VEVENT
DTSTART;TZID=America/New_York:20250128T190000
DTEND;TZID=America/New_York:20250128T210000
DTSTAMP:20260422T054839
CREATED:20240610T150612Z
LAST-MODIFIED:20240610T160842Z
UID:10003107-1738090800-1738098000@marketcommonmb.com
SUMMARY:Mind Games Trivia
DESCRIPTION:Can your team guess the right answers? Play for a chance to win gift cards to 810 Billiards & Bowling. Tuesday’s & Thursdays 7-9pm.
URL:https://marketcommonmb.com/event/mind-game-trivia/2025-01-28/
LOCATION:810 Billiards & Bowling\, 1220 Moser Drive\, Myrtle Beach\, SC\, 29577\, United States
CATEGORIES:Social Events
ATTACH;FMTTYPE=image/png:https://marketcommonmb.com/wp-content/uploads/2024/06/Trivia.png
END:VEVENT
BEGIN:VEVENT
DTSTART;VALUE=DATE:20250129
DTEND;VALUE=DATE:20250130
DTSTAMP:20260422T054839
CREATED:20241004T135916Z
LAST-MODIFIED:20260220T133032Z
UID:10017432-1738108800-1738195199@marketcommonmb.com
SUMMARY:Weekday Happy Hour
DESCRIPTION:Enjoy a variety of weekday Happy Hour specials at The Market Common\, featuring delicious bites and drinks from the best restaurants! \nMonday-Friday 4-6 PM \nGordon Biersch Brewery Restaurant  \nDirty Don’s Oyster Bar & Grill \nGios Pizzeria Napoletana \nTupelo Honey Southern Kitchen & Bar \n810 Bowling & Billiards \nMonday- Friday 4-7 PM \nCK’s Bistro \nCO Sushi \nP.F Chang’s \nNacho Hippo \n  \n 
URL:https://marketcommonmb.com/event/weekday-happy-hour/2025-01-29/
LOCATION:The Market Common\, 4017 Deville St\, Myrtle Beach\, 29577\, United States
CATEGORIES:Drink Specials,Food Specials,Specials
ATTACH;FMTTYPE=image/png:https://marketcommonmb.com/wp-content/uploads/2024/10/happy-hour.png
END:VEVENT
END:VCALENDAR