BEGIN:VCALENDAR
VERSION:2.0
PRODID:-//The Market Common Myrtle Beach - ECPv6.15.12.2//NONSGML v1.0//EN
CALSCALE:GREGORIAN
METHOD:PUBLISH
X-WR-CALNAME:The Market Common Myrtle Beach
X-ORIGINAL-URL:https://marketcommonmb.com
X-WR-CALDESC:Events for The Market Common Myrtle Beach
REFRESH-INTERVAL;VALUE=DURATION:PT1H
X-Robots-Tag:noindex
X-PUBLISHED-TTL:PT1H
BEGIN:VTIMEZONE
TZID:America/New_York
BEGIN:DAYLIGHT
TZOFFSETFROM:-0500
TZOFFSETTO:-0400
TZNAME:EDT
DTSTART:20240310T070000
END:DAYLIGHT
BEGIN:STANDARD
TZOFFSETFROM:-0400
TZOFFSETTO:-0500
TZNAME:EST
DTSTART:20241103T060000
END:STANDARD
BEGIN:DAYLIGHT
TZOFFSETFROM:-0500
TZOFFSETTO:-0400
TZNAME:EDT
DTSTART:20250309T070000
END:DAYLIGHT
BEGIN:STANDARD
TZOFFSETFROM:-0400
TZOFFSETTO:-0500
TZNAME:EST
DTSTART:20251102T060000
END:STANDARD
BEGIN:DAYLIGHT
TZOFFSETFROM:-0500
TZOFFSETTO:-0400
TZNAME:EDT
DTSTART:20260308T070000
END:DAYLIGHT
BEGIN:STANDARD
TZOFFSETFROM:-0400
TZOFFSETTO:-0500
TZNAME:EST
DTSTART:20261101T060000
END:STANDARD
END:VTIMEZONE
BEGIN:VEVENT
DTSTART;VALUE=DATE:20250128
DTEND;VALUE=DATE:20250129
DTSTAMP:20260422T072318
CREATED:20241004T135916Z
LAST-MODIFIED:20260220T133032Z
UID:10017431-1738022400-1738108799@marketcommonmb.com
SUMMARY:Weekday Happy Hour
DESCRIPTION:Enjoy a variety of weekday Happy Hour specials at The Market Common\, featuring delicious bites and drinks from the best restaurants! \nMonday-Friday 4-6 PM \nGordon Biersch Brewery Restaurant  \nDirty Don’s Oyster Bar & Grill \nGios Pizzeria Napoletana \nTupelo Honey Southern Kitchen & Bar \n810 Bowling & Billiards \nMonday- Friday 4-7 PM \nCK’s Bistro \nCO Sushi \nP.F Chang’s \nNacho Hippo \n  \n 
URL:https://marketcommonmb.com/event/weekday-happy-hour/2025-01-28/
LOCATION:The Market Common\, 4017 Deville St\, Myrtle Beach\, 29577\, United States
CATEGORIES:Drink Specials,Food Specials,Specials
ATTACH;FMTTYPE=image/png:https://marketcommonmb.com/wp-content/uploads/2024/10/happy-hour.png
END:VEVENT
BEGIN:VEVENT
DTSTART;TZID=America/New_York:20250128T160000
DTEND;TZID=America/New_York:20250128T190000
DTSTAMP:20260422T072318
CREATED:20240802T151420Z
LAST-MODIFIED:20240802T151547Z
UID:10011505-1738080000-1738090800@marketcommonmb.com
SUMMARY:1/2 Off Select Makimono Rolls
DESCRIPTION:Enjoy 1/2 off select Makimono Rolls Tuesdays and Thursdays at CO Sushi.
URL:https://marketcommonmb.com/event/1-2-off-select-makimono-rolls/2025-01-28/
LOCATION:CO Sushi\, 3098 Deville Street\, Myrtle Beach\, SC\, 29577\, United States
CATEGORIES:Food Specials,Specials
ATTACH;FMTTYPE=image/png:https://marketcommonmb.com/wp-content/uploads/2024/08/CO-HH.png
END:VEVENT
BEGIN:VEVENT
DTSTART;TZID=America/New_York:20250128T190000
DTEND;TZID=America/New_York:20250128T200000
DTSTAMP:20260422T072318
CREATED:20240610T175305Z
LAST-MODIFIED:20240610T175305Z
UID:10004167-1738090800-1738094400@marketcommonmb.com
SUMMARY:Tuesday Trivia Night
DESCRIPTION:Test your knowledge\, enjoy a few drinks and bites\, and win some cash with Trivia night at Dirty Don’s Oyster Bar & Grill in The Market Common. Begins at 7pm.
URL:https://marketcommonmb.com/event/tuesday-trivia-night/2025-01-28/
LOCATION:Dirty Dons\, 3090 Deville St\, Myrtle Beach\, SC\, 29577\, United States
CATEGORIES:Social Events
ATTACH;FMTTYPE=image/png:https://marketcommonmb.com/wp-content/uploads/2024/06/Trivia-Tuesday.png
END:VEVENT
BEGIN:VEVENT
DTSTART;TZID=America/New_York:20250128T190000
DTEND;TZID=America/New_York:20250128T210000
DTSTAMP:20260422T072318
CREATED:20240610T150612Z
LAST-MODIFIED:20240610T160842Z
UID:10003107-1738090800-1738098000@marketcommonmb.com
SUMMARY:Mind Games Trivia
DESCRIPTION:Can your team guess the right answers? Play for a chance to win gift cards to 810 Billiards & Bowling. Tuesday’s & Thursdays 7-9pm.
URL:https://marketcommonmb.com/event/mind-game-trivia/2025-01-28/
LOCATION:810 Billiards & Bowling\, 1220 Moser Drive\, Myrtle Beach\, SC\, 29577\, United States
CATEGORIES:Social Events
ATTACH;FMTTYPE=image/png:https://marketcommonmb.com/wp-content/uploads/2024/06/Trivia.png
END:VEVENT
BEGIN:VEVENT
DTSTART;VALUE=DATE:20250129
DTEND;VALUE=DATE:20250130
DTSTAMP:20260422T072318
CREATED:20241004T135916Z
LAST-MODIFIED:20260220T133032Z
UID:10017432-1738108800-1738195199@marketcommonmb.com
SUMMARY:Weekday Happy Hour
DESCRIPTION:Enjoy a variety of weekday Happy Hour specials at The Market Common\, featuring delicious bites and drinks from the best restaurants! \nMonday-Friday 4-6 PM \nGordon Biersch Brewery Restaurant  \nDirty Don’s Oyster Bar & Grill \nGios Pizzeria Napoletana \nTupelo Honey Southern Kitchen & Bar \n810 Bowling & Billiards \nMonday- Friday 4-7 PM \nCK’s Bistro \nCO Sushi \nP.F Chang’s \nNacho Hippo \n  \n 
URL:https://marketcommonmb.com/event/weekday-happy-hour/2025-01-29/
LOCATION:The Market Common\, 4017 Deville St\, Myrtle Beach\, 29577\, United States
CATEGORIES:Drink Specials,Food Specials,Specials
ATTACH;FMTTYPE=image/png:https://marketcommonmb.com/wp-content/uploads/2024/10/happy-hour.png
END:VEVENT
BEGIN:VEVENT
DTSTART;TZID=America/New_York:20250129T160000
DTEND;TZID=America/New_York:20250129T180000
DTSTAMP:20260422T072318
CREATED:20240802T165601Z
LAST-MODIFIED:20250402T202345Z
UID:10014636-1738166400-1738173600@marketcommonmb.com
SUMMARY:1/2 Price Martinis at Travinia
DESCRIPTION:Wednesday’s & Saturday’s from 4-6 pm enjoy Travinia’s 1/2 price martinis from their menu.
URL:https://marketcommonmb.com/event/1-2-price-martinis-at-travinia/2025-01-29/
LOCATION:Travinia\, 4011 Deville St\, Myrtle Beach\, SC\, 29577\, United States
CATEGORIES:Drink Specials
ATTACH;FMTTYPE=image/png:https://marketcommonmb.com/wp-content/uploads/2024/08/Martinis.png
END:VEVENT
BEGIN:VEVENT
DTSTART;TZID=America/New_York:20250129T190000
DTEND;TZID=America/New_York:20250129T210000
DTSTAMP:20260422T072318
CREATED:20240610T155924Z
LAST-MODIFIED:20240610T160142Z
UID:10003629-1738177200-1738184400@marketcommonmb.com
SUMMARY:Survey Game Night
DESCRIPTION:Survey – a strategic guessing game is very similar to the popular game show Family Feud! Top teams win 810 gift cards! Wednesdays 7-9pm. 
URL:https://marketcommonmb.com/event/survey-game-night/2025-01-29/
LOCATION:810 Billiards & Bowling\, 1220 Moser Drive\, Myrtle Beach\, SC\, 29577\, United States
CATEGORIES:Social Events
ATTACH;FMTTYPE=image/png:https://marketcommonmb.com/wp-content/uploads/2024/06/Survey-Game.png
END:VEVENT
BEGIN:VEVENT
DTSTART;VALUE=DATE:20250130
DTEND;VALUE=DATE:20250131
DTSTAMP:20260422T072318
CREATED:20241004T135916Z
LAST-MODIFIED:20260220T133032Z
UID:10017433-1738195200-1738281599@marketcommonmb.com
SUMMARY:Weekday Happy Hour
DESCRIPTION:Enjoy a variety of weekday Happy Hour specials at The Market Common\, featuring delicious bites and drinks from the best restaurants! \nMonday-Friday 4-6 PM \nGordon Biersch Brewery Restaurant  \nDirty Don’s Oyster Bar & Grill \nGios Pizzeria Napoletana \nTupelo Honey Southern Kitchen & Bar \n810 Bowling & Billiards \nMonday- Friday 4-7 PM \nCK’s Bistro \nCO Sushi \nP.F Chang’s \nNacho Hippo \n  \n 
URL:https://marketcommonmb.com/event/weekday-happy-hour/2025-01-30/
LOCATION:The Market Common\, 4017 Deville St\, Myrtle Beach\, 29577\, United States
CATEGORIES:Drink Specials,Food Specials,Specials
ATTACH;FMTTYPE=image/png:https://marketcommonmb.com/wp-content/uploads/2024/10/happy-hour.png
END:VEVENT
BEGIN:VEVENT
DTSTART;TZID=America/New_York:20250130T160000
DTEND;TZID=America/New_York:20250130T190000
DTSTAMP:20260422T072318
CREATED:20240802T151420Z
LAST-MODIFIED:20240802T151547Z
UID:10011506-1738252800-1738263600@marketcommonmb.com
SUMMARY:1/2 Off Select Makimono Rolls
DESCRIPTION:Enjoy 1/2 off select Makimono Rolls Tuesdays and Thursdays at CO Sushi.
URL:https://marketcommonmb.com/event/1-2-off-select-makimono-rolls/2025-01-30/
LOCATION:CO Sushi\, 3098 Deville Street\, Myrtle Beach\, SC\, 29577\, United States
CATEGORIES:Food Specials,Specials
ATTACH;FMTTYPE=image/png:https://marketcommonmb.com/wp-content/uploads/2024/08/CO-HH.png
END:VEVENT
BEGIN:VEVENT
DTSTART;TZID=America/New_York:20250130T190000
DTEND;TZID=America/New_York:20250130T210000
DTSTAMP:20260422T072318
CREATED:20240610T150612Z
LAST-MODIFIED:20240610T160842Z
UID:10003890-1738263600-1738270800@marketcommonmb.com
SUMMARY:Mind Games Trivia
DESCRIPTION:Can your team guess the right answers? Play for a chance to win gift cards to 810 Billiards & Bowling. Tuesday’s & Thursdays 7-9pm.
URL:https://marketcommonmb.com/event/mind-game-trivia/2025-01-30/
LOCATION:810 Billiards & Bowling\, 1220 Moser Drive\, Myrtle Beach\, SC\, 29577\, United States
CATEGORIES:Social Events
ATTACH;FMTTYPE=image/png:https://marketcommonmb.com/wp-content/uploads/2024/06/Trivia.png
END:VEVENT
BEGIN:VEVENT
DTSTART;VALUE=DATE:20250131
DTEND;VALUE=DATE:20250201
DTSTAMP:20260422T072318
CREATED:20241004T135916Z
LAST-MODIFIED:20260220T133032Z
UID:10017434-1738281600-1738367999@marketcommonmb.com
SUMMARY:Weekday Happy Hour
DESCRIPTION:Enjoy a variety of weekday Happy Hour specials at The Market Common\, featuring delicious bites and drinks from the best restaurants! \nMonday-Friday 4-6 PM \nGordon Biersch Brewery Restaurant  \nDirty Don’s Oyster Bar & Grill \nGios Pizzeria Napoletana \nTupelo Honey Southern Kitchen & Bar \n810 Bowling & Billiards \nMonday- Friday 4-7 PM \nCK’s Bistro \nCO Sushi \nP.F Chang’s \nNacho Hippo \n  \n 
URL:https://marketcommonmb.com/event/weekday-happy-hour/2025-01-31/
LOCATION:The Market Common\, 4017 Deville St\, Myrtle Beach\, 29577\, United States
CATEGORIES:Drink Specials,Food Specials,Specials
ATTACH;FMTTYPE=image/png:https://marketcommonmb.com/wp-content/uploads/2024/10/happy-hour.png
END:VEVENT
BEGIN:VEVENT
DTSTART;TZID=America/New_York:20250131T170000
DTEND;TZID=America/New_York:20250131T190000
DTSTAMP:20260422T072318
CREATED:20250109T145916Z
LAST-MODIFIED:20250109T145916Z
UID:10019830-1738342800-1738350000@marketcommonmb.com
SUMMARY:Planter Build Workshop at Nailed It DIY
DESCRIPTION:Bring your green thumb to life on January 31 from 5–7 PM! Create a unique planter in this hands-on\, fun workshop perfect for any space. Don’t miss out—reserve your spot today! SPECIAL EVENT | Planter Build | Nailed It® DIY Studio Myrtle Beach 
URL:https://marketcommonmb.com/event/planter-build-workshop-at-nailed-it-diy/
LOCATION:Nailed It DIY Studio\, 3064 Deville Street\, Myrtle Beach\, SC\, 29577\, United States
CATEGORIES:Art,Design,Social Events
ATTACH;FMTTYPE=image/png:https://marketcommonmb.com/wp-content/uploads/2025/01/Nailedit.png
END:VEVENT
BEGIN:VEVENT
DTSTART;TZID=America/New_York:20250131T180000
DTEND;TZID=America/New_York:20250131T210000
DTSTAMP:20260422T072318
CREATED:20240607T173809Z
LAST-MODIFIED:20240610T145130Z
UID:10000427-1738346400-1738357200@marketcommonmb.com
SUMMARY:Jazz Band at Travinia
DESCRIPTION:Live jazz every Friday night at Travinia Italian Wine Bar & Kitchen\, starting at 6:00 pm. Enjoy great music\, delicious Italian food\, and fine wines for a memorable evening!
URL:https://marketcommonmb.com/event/jazz-band-at-travinia/2025-01-31/
LOCATION:Travinia\, 4011 Deville St\, Myrtle Beach\, SC\, 29577\, United States
CATEGORIES:Music Events
ATTACH;FMTTYPE=image/png:https://marketcommonmb.com/wp-content/uploads/2024/06/Jazz-Band-1.png
END:VEVENT
BEGIN:VEVENT
DTSTART;TZID=America/New_York:20250131T201000
DTEND;TZID=America/New_York:20250131T230000
DTSTAMP:20260422T072318
CREATED:20250109T181058Z
LAST-MODIFIED:20250109T181058Z
UID:10019834-1738354200-1738364400@marketcommonmb.com
SUMMARY:Live Music at 810 Bowling
DESCRIPTION:Enjoy live music at 810 Bowling & Billiards with Thomas Road from 8:10 pm- 11:00 pm.
URL:https://marketcommonmb.com/event/live-music-at-810-bowling-4/
LOCATION:810 Billiards & Bowling\, 1220 Moser Drive\, Myrtle Beach\, SC\, 29577\, United States
CATEGORIES:Dance,Drink Specials,Food Specials,Music Events,Social Events
ATTACH;FMTTYPE=image/png:https://marketcommonmb.com/wp-content/uploads/2025/01/810livemusic.png
END:VEVENT
BEGIN:VEVENT
DTSTART;VALUE=DATE:20250201
DTEND;VALUE=DATE:20250202
DTSTAMP:20260422T072318
CREATED:20241004T142022Z
LAST-MODIFIED:20260220T132956Z
UID:10018688-1738368000-1738454399@marketcommonmb.com
SUMMARY:Weekend Happy Hour
DESCRIPTION:Enjoy Weekend Happy Hours at The Market Common! Unwind with great deals on drinks and appetizers at various restaurants\, perfect for relaxing with friends and soaking in the vibrant atmosphere! \nAll Day Every Day: P.F. Chang’s \nEvery Day 4-6 PM: Ck’s Bistro \nSaturday & Sunday 1-3 PM: Dirty Don’s Oyster Bar & Grill \nSaturday & Sunday 4-6 PM: 810 Bowling & Billiards \nSundays: Co Sushi \n 
URL:https://marketcommonmb.com/event/weekend-happy-hour/2025-02-01/
LOCATION:SC
CATEGORIES:Drink Specials,Food Specials
ATTACH;FMTTYPE=image/png:https://marketcommonmb.com/wp-content/uploads/2024/10/mimosas-1.png
END:VEVENT
BEGIN:VEVENT
DTSTART;TZID=America/New_York:20250201T160000
DTEND;TZID=America/New_York:20250201T180000
DTSTAMP:20260422T072318
CREATED:20240802T165601Z
LAST-MODIFIED:20250402T202345Z
UID:10014637-1738425600-1738432800@marketcommonmb.com
SUMMARY:1/2 Price Martinis at Travinia
DESCRIPTION:Wednesday’s & Saturday’s from 4-6 pm enjoy Travinia’s 1/2 price martinis from their menu.
URL:https://marketcommonmb.com/event/1-2-price-martinis-at-travinia/2025-02-01/
LOCATION:Travinia\, 4011 Deville St\, Myrtle Beach\, SC\, 29577\, United States
CATEGORIES:Drink Specials
ATTACH;FMTTYPE=image/png:https://marketcommonmb.com/wp-content/uploads/2024/08/Martinis.png
END:VEVENT
BEGIN:VEVENT
DTSTART;TZID=America/New_York:20250201T200000
DTEND;TZID=America/New_York:20250201T200000
DTSTAMP:20260422T072318
CREATED:20240613T201217Z
LAST-MODIFIED:20250306T140405Z
UID:10004429-1738440000-1738440000@marketcommonmb.com
SUMMARY:Live DJ
DESCRIPTION:Enjoy great music\, delicious food\, and endless fun at 810 Billiards & Bowling with Live DJ select Saturdays from 9 PM to 12 AM.
URL:https://marketcommonmb.com/event/live-dj/2025-02-01/
LOCATION:810 Billiards & Bowling\, 1220 Moser Drive\, Myrtle Beach\, SC\, 29577\, United States
CATEGORIES:Music Events
ATTACH;FMTTYPE=image/png:https://marketcommonmb.com/wp-content/uploads/2024/06/DJ.png
END:VEVENT
BEGIN:VEVENT
DTSTART;VALUE=DATE:20250202
DTEND;VALUE=DATE:20250203
DTSTAMP:20260422T072318
CREATED:20241004T142022Z
LAST-MODIFIED:20260220T132956Z
UID:10018689-1738454400-1738540799@marketcommonmb.com
SUMMARY:Weekend Happy Hour
DESCRIPTION:Enjoy Weekend Happy Hours at The Market Common! Unwind with great deals on drinks and appetizers at various restaurants\, perfect for relaxing with friends and soaking in the vibrant atmosphere! \nAll Day Every Day: P.F. Chang’s \nEvery Day 4-6 PM: Ck’s Bistro \nSaturday & Sunday 1-3 PM: Dirty Don’s Oyster Bar & Grill \nSaturday & Sunday 4-6 PM: 810 Bowling & Billiards \nSundays: Co Sushi \n 
URL:https://marketcommonmb.com/event/weekend-happy-hour/2025-02-02/
LOCATION:SC
CATEGORIES:Drink Specials,Food Specials
ATTACH;FMTTYPE=image/png:https://marketcommonmb.com/wp-content/uploads/2024/10/mimosas-1.png
END:VEVENT
BEGIN:VEVENT
DTSTART;TZID=America/New_York:20250202T113000
DTEND;TZID=America/New_York:20250202T210000
DTSTAMP:20260422T072318
CREATED:20240802T180928Z
LAST-MODIFIED:20240802T180928Z
UID:10015135-1738495800-1738530000@marketcommonmb.com
SUMMARY:$5 Bloody Mary & Mimosas
DESCRIPTION:Enjoy $5 Bloody Marys and Mimosas all day at Travinia.
URL:https://marketcommonmb.com/event/5-bloody-mary-mimosas/2025-02-02/
LOCATION:Travinia\, 4011 Deville St\, Myrtle Beach\, SC\, 29577\, United States
CATEGORIES:Drink Specials,Specials
ATTACH;FMTTYPE=image/png:https://marketcommonmb.com/wp-content/uploads/2024/08/Bloody-Mary-Mimosas.png
END:VEVENT
BEGIN:VEVENT
DTSTART;TZID=America/New_York:20250202T150000
DTEND;TZID=America/New_York:20250202T161500
DTSTAMP:20260422T072318
CREATED:20250128T171231Z
LAST-MODIFIED:20250128T180720Z
UID:10019965-1738508400-1738512900@marketcommonmb.com
SUMMARY:Meditation with Yoga in Common
DESCRIPTION:Discover Meditation at Yoga in Common \nJoin Yoga in Common every first and third Sunday of the month from 3–4:15 PM for a guided introduction to meditation. Learn how to relax\, breathe\, and prepare your body for stillness. Included in memberships and packages or available for individual sign-up. Call to reserve your spot!
URL:https://marketcommonmb.com/event/meditation-with-yoga-in-common/2025-02-02/
LOCATION:Yoga in Common\, 3062 Deville Street\, Myrtle Beach\, 29577\, United States
CATEGORIES:Wellness
ATTACH;FMTTYPE=image/png:https://marketcommonmb.com/wp-content/uploads/2025/01/meditation.png
END:VEVENT
BEGIN:VEVENT
DTSTART;TZID=America/New_York:20250202T180000
DTEND;TZID=America/New_York:20250202T193000
DTSTAMP:20260422T072318
CREATED:20250128T173421Z
LAST-MODIFIED:20250128T180557Z
UID:10019967-1738519200-1738524600@marketcommonmb.com
SUMMARY:Reiki Restore Rest at Yoga in Common
DESCRIPTION:Rejuvenate your body\, mind\, and spirit with Reiki\, restorative yoga\, sound therapy\, and guided relaxation. \nDate: Sunday\, February 2\, 2025\nTime: 6:00–7:30 PM\nLocation: Yoga in Common\nCost: $50 (24-hour cancellation policy) \nSpaces are limited—reserve your spot today for the ultimate healing experience.
URL:https://marketcommonmb.com/event/reiki-restore-rest-at-yoga-in-common/
LOCATION:Yoga in Common\, 3062 Deville Street\, Myrtle Beach\, 29577\, United States
CATEGORIES:Wellness
ATTACH;FMTTYPE=image/png:https://marketcommonmb.com/wp-content/uploads/2025/01/reiki-yoga-1.png
END:VEVENT
BEGIN:VEVENT
DTSTART;VALUE=DATE:20250203
DTEND;VALUE=DATE:20250204
DTSTAMP:20260422T072318
CREATED:20241004T135916Z
LAST-MODIFIED:20260220T133032Z
UID:10017435-1738540800-1738627199@marketcommonmb.com
SUMMARY:Weekday Happy Hour
DESCRIPTION:Enjoy a variety of weekday Happy Hour specials at The Market Common\, featuring delicious bites and drinks from the best restaurants! \nMonday-Friday 4-6 PM \nGordon Biersch Brewery Restaurant  \nDirty Don’s Oyster Bar & Grill \nGios Pizzeria Napoletana \nTupelo Honey Southern Kitchen & Bar \n810 Bowling & Billiards \nMonday- Friday 4-7 PM \nCK’s Bistro \nCO Sushi \nP.F Chang’s \nNacho Hippo \n  \n 
URL:https://marketcommonmb.com/event/weekday-happy-hour/2025-02-03/
LOCATION:The Market Common\, 4017 Deville St\, Myrtle Beach\, 29577\, United States
CATEGORIES:Drink Specials,Food Specials,Specials
ATTACH;FMTTYPE=image/png:https://marketcommonmb.com/wp-content/uploads/2024/10/happy-hour.png
END:VEVENT
BEGIN:VEVENT
DTSTART;TZID=America/New_York:20250203T190000
DTEND;TZID=America/New_York:20250203T210000
DTSTAMP:20260422T072318
CREATED:20240610T125546Z
LAST-MODIFIED:20240610T133250Z
UID:10002842-1738609200-1738616400@marketcommonmb.com
SUMMARY:Jukebox Bingo
DESCRIPTION:Jukebox Bingo uses songs from specific genres/eras. Fill your card up or complete the various Bingo games and win 810 gift cards! Mondays from 7-9 pm at 810 Billiards & Bowling in The Market Common.
URL:https://marketcommonmb.com/event/jukebox-bingo/2025-02-03/
LOCATION:810 Billiards & Bowling\, 1220 Moser Drive\, Myrtle Beach\, SC\, 29577\, United States
CATEGORIES:Music Events,Social Events
ATTACH;FMTTYPE=image/png:https://marketcommonmb.com/wp-content/uploads/2024/06/Jukebox-Bingo-1.png
END:VEVENT
BEGIN:VEVENT
DTSTART;VALUE=DATE:20250204
DTEND;VALUE=DATE:20250205
DTSTAMP:20260422T072318
CREATED:20241004T135916Z
LAST-MODIFIED:20260220T133032Z
UID:10017436-1738627200-1738713599@marketcommonmb.com
SUMMARY:Weekday Happy Hour
DESCRIPTION:Enjoy a variety of weekday Happy Hour specials at The Market Common\, featuring delicious bites and drinks from the best restaurants! \nMonday-Friday 4-6 PM \nGordon Biersch Brewery Restaurant  \nDirty Don’s Oyster Bar & Grill \nGios Pizzeria Napoletana \nTupelo Honey Southern Kitchen & Bar \n810 Bowling & Billiards \nMonday- Friday 4-7 PM \nCK’s Bistro \nCO Sushi \nP.F Chang’s \nNacho Hippo \n  \n 
URL:https://marketcommonmb.com/event/weekday-happy-hour/2025-02-04/
LOCATION:The Market Common\, 4017 Deville St\, Myrtle Beach\, 29577\, United States
CATEGORIES:Drink Specials,Food Specials,Specials
ATTACH;FMTTYPE=image/png:https://marketcommonmb.com/wp-content/uploads/2024/10/happy-hour.png
END:VEVENT
BEGIN:VEVENT
DTSTART;TZID=America/New_York:20250204T160000
DTEND;TZID=America/New_York:20250204T190000
DTSTAMP:20260422T072318
CREATED:20240802T151420Z
LAST-MODIFIED:20240802T151547Z
UID:10011507-1738684800-1738695600@marketcommonmb.com
SUMMARY:1/2 Off Select Makimono Rolls
DESCRIPTION:Enjoy 1/2 off select Makimono Rolls Tuesdays and Thursdays at CO Sushi.
URL:https://marketcommonmb.com/event/1-2-off-select-makimono-rolls/2025-02-04/
LOCATION:CO Sushi\, 3098 Deville Street\, Myrtle Beach\, SC\, 29577\, United States
CATEGORIES:Food Specials,Specials
ATTACH;FMTTYPE=image/png:https://marketcommonmb.com/wp-content/uploads/2024/08/CO-HH.png
END:VEVENT
BEGIN:VEVENT
DTSTART;TZID=America/New_York:20250204T190000
DTEND;TZID=America/New_York:20250204T200000
DTSTAMP:20260422T072318
CREATED:20240610T175305Z
LAST-MODIFIED:20240610T175305Z
UID:10004168-1738695600-1738699200@marketcommonmb.com
SUMMARY:Tuesday Trivia Night
DESCRIPTION:Test your knowledge\, enjoy a few drinks and bites\, and win some cash with Trivia night at Dirty Don’s Oyster Bar & Grill in The Market Common. Begins at 7pm.
URL:https://marketcommonmb.com/event/tuesday-trivia-night/2025-02-04/
LOCATION:Dirty Dons\, 3090 Deville St\, Myrtle Beach\, SC\, 29577\, United States
CATEGORIES:Social Events
ATTACH;FMTTYPE=image/png:https://marketcommonmb.com/wp-content/uploads/2024/06/Trivia-Tuesday.png
END:VEVENT
BEGIN:VEVENT
DTSTART;TZID=America/New_York:20250204T190000
DTEND;TZID=America/New_York:20250204T210000
DTSTAMP:20260422T072318
CREATED:20240610T150612Z
LAST-MODIFIED:20240610T160842Z
UID:10003108-1738695600-1738702800@marketcommonmb.com
SUMMARY:Mind Games Trivia
DESCRIPTION:Can your team guess the right answers? Play for a chance to win gift cards to 810 Billiards & Bowling. Tuesday’s & Thursdays 7-9pm.
URL:https://marketcommonmb.com/event/mind-game-trivia/2025-02-04/
LOCATION:810 Billiards & Bowling\, 1220 Moser Drive\, Myrtle Beach\, SC\, 29577\, United States
CATEGORIES:Social Events
ATTACH;FMTTYPE=image/png:https://marketcommonmb.com/wp-content/uploads/2024/06/Trivia.png
END:VEVENT
BEGIN:VEVENT
DTSTART;VALUE=DATE:20250205
DTEND;VALUE=DATE:20250206
DTSTAMP:20260422T072318
CREATED:20241004T135916Z
LAST-MODIFIED:20260220T133032Z
UID:10017437-1738713600-1738799999@marketcommonmb.com
SUMMARY:Weekday Happy Hour
DESCRIPTION:Enjoy a variety of weekday Happy Hour specials at The Market Common\, featuring delicious bites and drinks from the best restaurants! \nMonday-Friday 4-6 PM \nGordon Biersch Brewery Restaurant  \nDirty Don’s Oyster Bar & Grill \nGios Pizzeria Napoletana \nTupelo Honey Southern Kitchen & Bar \n810 Bowling & Billiards \nMonday- Friday 4-7 PM \nCK’s Bistro \nCO Sushi \nP.F Chang’s \nNacho Hippo \n  \n 
URL:https://marketcommonmb.com/event/weekday-happy-hour/2025-02-05/
LOCATION:The Market Common\, 4017 Deville St\, Myrtle Beach\, 29577\, United States
CATEGORIES:Drink Specials,Food Specials,Specials
ATTACH;FMTTYPE=image/png:https://marketcommonmb.com/wp-content/uploads/2024/10/happy-hour.png
END:VEVENT
BEGIN:VEVENT
DTSTART;VALUE=DATE:20250205
DTEND;VALUE=DATE:20250206
DTSTAMP:20260422T072318
CREATED:20250204T151005Z
LAST-MODIFIED:20250204T151005Z
UID:10019976-1738713600-1738799999@marketcommonmb.com
SUMMARY:Flashback Cinema: Gone with the Wind
DESCRIPTION:Step back in time with Gone with the Wind on the big screen at Flashback Cinema. Catch this timeless classic at Grand 14 on February 5th and experience the sweeping romance\, drama\, and breathtaking cinematography the way it was meant to be seen.
URL:https://marketcommonmb.com/event/flashback-cinema-gone-with-the-wind/
LOCATION:Grand 14 Theater\, 4002 DeVille Street\, Myrtle Beach\, SC\, 29577\, United States
CATEGORIES:Family Events,Movie Event
ATTACH;FMTTYPE=image/png:https://marketcommonmb.com/wp-content/uploads/2025/02/gonewiththewind.png
END:VEVENT
BEGIN:VEVENT
DTSTART;TZID=America/New_York:20250205T160000
DTEND;TZID=America/New_York:20250205T180000
DTSTAMP:20260422T072318
CREATED:20240802T165601Z
LAST-MODIFIED:20250402T202345Z
UID:10014638-1738771200-1738778400@marketcommonmb.com
SUMMARY:1/2 Price Martinis at Travinia
DESCRIPTION:Wednesday’s & Saturday’s from 4-6 pm enjoy Travinia’s 1/2 price martinis from their menu.
URL:https://marketcommonmb.com/event/1-2-price-martinis-at-travinia/2025-02-05/
LOCATION:Travinia\, 4011 Deville St\, Myrtle Beach\, SC\, 29577\, United States
CATEGORIES:Drink Specials
ATTACH;FMTTYPE=image/png:https://marketcommonmb.com/wp-content/uploads/2024/08/Martinis.png
END:VEVENT
END:VCALENDAR