BEGIN:VCALENDAR
VERSION:2.0
PRODID:-//The Market Common Myrtle Beach - ECPv6.15.12.2//NONSGML v1.0//EN
CALSCALE:GREGORIAN
METHOD:PUBLISH
X-WR-CALNAME:The Market Common Myrtle Beach
X-ORIGINAL-URL:https://marketcommonmb.com
X-WR-CALDESC:Events for The Market Common Myrtle Beach
REFRESH-INTERVAL;VALUE=DURATION:PT1H
X-Robots-Tag:noindex
X-PUBLISHED-TTL:PT1H
BEGIN:VTIMEZONE
TZID:America/New_York
BEGIN:DAYLIGHT
TZOFFSETFROM:-0500
TZOFFSETTO:-0400
TZNAME:EDT
DTSTART:20240310T070000
END:DAYLIGHT
BEGIN:STANDARD
TZOFFSETFROM:-0400
TZOFFSETTO:-0500
TZNAME:EST
DTSTART:20241103T060000
END:STANDARD
BEGIN:DAYLIGHT
TZOFFSETFROM:-0500
TZOFFSETTO:-0400
TZNAME:EDT
DTSTART:20250309T070000
END:DAYLIGHT
BEGIN:STANDARD
TZOFFSETFROM:-0400
TZOFFSETTO:-0500
TZNAME:EST
DTSTART:20251102T060000
END:STANDARD
BEGIN:DAYLIGHT
TZOFFSETFROM:-0500
TZOFFSETTO:-0400
TZNAME:EDT
DTSTART:20260308T070000
END:DAYLIGHT
BEGIN:STANDARD
TZOFFSETFROM:-0400
TZOFFSETTO:-0500
TZNAME:EST
DTSTART:20261101T060000
END:STANDARD
END:VTIMEZONE
BEGIN:VEVENT
DTSTART;VALUE=DATE:20250215
DTEND;VALUE=DATE:20250216
DTSTAMP:20260423T094822
CREATED:20241004T142022Z
LAST-MODIFIED:20260220T132956Z
UID:10018692-1739577600-1739663999@marketcommonmb.com
SUMMARY:Weekend Happy Hour
DESCRIPTION:Enjoy Weekend Happy Hours at The Market Common! Unwind with great deals on drinks and appetizers at various restaurants\, perfect for relaxing with friends and soaking in the vibrant atmosphere! \nAll Day Every Day: P.F. Chang’s \nEvery Day 4-6 PM: Ck’s Bistro \nSaturday & Sunday 1-3 PM: Dirty Don’s Oyster Bar & Grill \nSaturday & Sunday 4-6 PM: 810 Bowling & Billiards \nSundays: Co Sushi \n 
URL:https://marketcommonmb.com/event/weekend-happy-hour/2025-02-15/
LOCATION:SC
CATEGORIES:Drink Specials,Food Specials
ATTACH;FMTTYPE=image/png:https://marketcommonmb.com/wp-content/uploads/2024/10/mimosas-1.png
END:VEVENT
BEGIN:VEVENT
DTSTART;TZID=America/New_York:20250214T180000
DTEND;TZID=America/New_York:20250214T210000
DTSTAMP:20260423T094822
CREATED:20240607T173809Z
LAST-MODIFIED:20240610T145130Z
UID:10000429-1739556000-1739566800@marketcommonmb.com
SUMMARY:Jazz Band at Travinia
DESCRIPTION:Live jazz every Friday night at Travinia Italian Wine Bar & Kitchen\, starting at 6:00 pm. Enjoy great music\, delicious Italian food\, and fine wines for a memorable evening!
URL:https://marketcommonmb.com/event/jazz-band-at-travinia/2025-02-14/
LOCATION:Travinia\, 4011 Deville St\, Myrtle Beach\, SC\, 29577\, United States
CATEGORIES:Music Events
ATTACH;FMTTYPE=image/png:https://marketcommonmb.com/wp-content/uploads/2024/06/Jazz-Band-1.png
END:VEVENT
BEGIN:VEVENT
DTSTART;TZID=America/New_York:20250214T170000
DTEND;TZID=America/New_York:20250214T200000
DTSTAMP:20260423T094822
CREATED:20250116T154508Z
LAST-MODIFIED:20250116T154508Z
UID:10019908-1739552400-1739563200@marketcommonmb.com
SUMMARY:Valentine's Day Carriage Rides
DESCRIPTION:Celebrate love this Valentine’s Day with complimentary carriage rides at The Market Common on February 14th from 5–8 PM with pick-up in front of Dolce Lusso Salon. \nThese enchanting rides are first-come\, first-serve\, no reservations required\, and weather permitting. \nMake it a perfect evening by adding this romantic experience to your dinner plans\, a movie night\, or exploring other options at The Market Common.
URL:https://marketcommonmb.com/event/valentines-day-carriage-rides/
LOCATION:Dolce Lusso Salon\, 3050 Howard Ave\, Myrtle Beach\, SC\, 29577\, United States
CATEGORIES:Family Events,Holiday Events,Seasonal Events
ATTACH;FMTTYPE=image/png:https://marketcommonmb.com/wp-content/uploads/2025/01/carriagerides_vday.png
END:VEVENT
BEGIN:VEVENT
DTSTART;VALUE=DATE:20250214
DTEND;VALUE=DATE:20250215
DTSTAMP:20260423T094822
CREATED:20241004T135916Z
LAST-MODIFIED:20260220T133032Z
UID:10017444-1739491200-1739577599@marketcommonmb.com
SUMMARY:Weekday Happy Hour
DESCRIPTION:Enjoy a variety of weekday Happy Hour specials at The Market Common\, featuring delicious bites and drinks from the best restaurants! \nMonday-Friday 4-6 PM \nGordon Biersch Brewery Restaurant  \nDirty Don’s Oyster Bar & Grill \nGios Pizzeria Napoletana \nTupelo Honey Southern Kitchen & Bar \n810 Bowling & Billiards \nMonday- Friday 4-7 PM \nCK’s Bistro \nCO Sushi \nP.F Chang’s \nNacho Hippo \n  \n 
URL:https://marketcommonmb.com/event/weekday-happy-hour/2025-02-14/
LOCATION:The Market Common\, 4017 Deville St\, Myrtle Beach\, 29577\, United States
CATEGORIES:Drink Specials,Food Specials,Specials
ATTACH;FMTTYPE=image/png:https://marketcommonmb.com/wp-content/uploads/2024/10/happy-hour.png
END:VEVENT
BEGIN:VEVENT
DTSTART;VALUE=DATE:20250214
DTEND;VALUE=DATE:20250215
DTSTAMP:20260423T094822
CREATED:20250204T152331Z
LAST-MODIFIED:20250204T152331Z
UID:10019979-1739491200-1739491200@marketcommonmb.com
SUMMARY:Flashback Cinema: Casablanca
DESCRIPTION:Experience the romance and intrigue of Casablanca on the big screen at Flashback Cinema. Showing at Grand 14 on Sunday February 9th\, Wednesday February 12th\, and Friday February 14th. This timeless classic feature unforgettable moments\, iconic performances\, and the magic of old Hollywood.
URL:https://marketcommonmb.com/event/flashback-cinema-casablanca/2025-02-14/
LOCATION:Grand 14 Theater\, 4002 DeVille Street\, Myrtle Beach\, SC\, 29577\, United States
CATEGORIES:Family Events,Movie Event
ATTACH;FMTTYPE=image/png:https://marketcommonmb.com/wp-content/uploads/2025/02/casablanca.png
END:VEVENT
BEGIN:VEVENT
DTSTART;TZID=America/New_York:20250213T190000
DTEND;TZID=America/New_York:20250213T210000
DTSTAMP:20260423T094822
CREATED:20240610T150612Z
LAST-MODIFIED:20240610T160842Z
UID:10003892-1739473200-1739480400@marketcommonmb.com
SUMMARY:Mind Games Trivia
DESCRIPTION:Can your team guess the right answers? Play for a chance to win gift cards to 810 Billiards & Bowling. Tuesday’s & Thursdays 7-9pm.
URL:https://marketcommonmb.com/event/mind-game-trivia/2025-02-13/
LOCATION:810 Billiards & Bowling\, 1220 Moser Drive\, Myrtle Beach\, SC\, 29577\, United States
CATEGORIES:Social Events
ATTACH;FMTTYPE=image/png:https://marketcommonmb.com/wp-content/uploads/2024/06/Trivia.png
END:VEVENT
BEGIN:VEVENT
DTSTART;TZID=America/New_York:20250213T190000
DTEND;TZID=America/New_York:20250213T203000
DTSTAMP:20260423T094822
CREATED:20250128T165250Z
LAST-MODIFIED:20250128T180353Z
UID:10019910-1739473200-1739478600@marketcommonmb.com
SUMMARY:Centered Breathwork at Yoga in Common
DESCRIPTION:Transform Your Mind\, Body\, and Spirit with Breathwork \nDiscover the healing power of breathwork at Yoga in Common. This transformative practice helps release blocks\, deepen awareness\, and connect with your highest potential. Join every Thursday from 7–8:30 PM. Sign-up required. \n 
URL:https://marketcommonmb.com/event/centered-breathwork-at-yoga-in-common/2025-02-13/
LOCATION:Yoga in Common\, 3062 Deville Street\, Myrtle Beach\, 29577\, United States
CATEGORIES:Wellness
ATTACH;FMTTYPE=image/png:https://marketcommonmb.com/wp-content/uploads/2025/01/breathwork.png
END:VEVENT
BEGIN:VEVENT
DTSTART;TZID=America/New_York:20250213T160000
DTEND;TZID=America/New_York:20250213T190000
DTSTAMP:20260423T094822
CREATED:20240802T151420Z
LAST-MODIFIED:20240802T151547Z
UID:10011510-1739462400-1739473200@marketcommonmb.com
SUMMARY:1/2 Off Select Makimono Rolls
DESCRIPTION:Enjoy 1/2 off select Makimono Rolls Tuesdays and Thursdays at CO Sushi.
URL:https://marketcommonmb.com/event/1-2-off-select-makimono-rolls/2025-02-13/
LOCATION:CO Sushi\, 3098 Deville Street\, Myrtle Beach\, SC\, 29577\, United States
CATEGORIES:Food Specials,Specials
ATTACH;FMTTYPE=image/png:https://marketcommonmb.com/wp-content/uploads/2024/08/CO-HH.png
END:VEVENT
BEGIN:VEVENT
DTSTART;VALUE=DATE:20250213
DTEND;VALUE=DATE:20250218
DTSTAMP:20260423T094822
CREATED:20250205T181809Z
LAST-MODIFIED:20250205T181809Z
UID:10019984-1739404800-1739836799@marketcommonmb.com
SUMMARY:Valentine's Bowling at 810 Bowling & Billiards
DESCRIPTION:Create an unforgettable Valentine’s Day with a special Bowling Bundle for up to 8 guests\, featuring bowling\, a gourmet party platter\, and drinks—perfect for a memorable evening with loved ones.  Reservations required. 
URL:https://marketcommonmb.com/event/valentines-bowling-at-810-bowling-billiards/
LOCATION:810 Billiards & Bowling\, 1220 Moser Drive\, Myrtle Beach\, SC\, 29577\, United States
CATEGORIES:Drink Specials,Family Events,Food Specials,Seasonal Events,Social Events
ATTACH;FMTTYPE=image/png:https://marketcommonmb.com/wp-content/uploads/2025/02/810bowling.png
END:VEVENT
BEGIN:VEVENT
DTSTART;VALUE=DATE:20250213
DTEND;VALUE=DATE:20250214
DTSTAMP:20260423T094822
CREATED:20241004T135916Z
LAST-MODIFIED:20260220T133032Z
UID:10017443-1739404800-1739491199@marketcommonmb.com
SUMMARY:Weekday Happy Hour
DESCRIPTION:Enjoy a variety of weekday Happy Hour specials at The Market Common\, featuring delicious bites and drinks from the best restaurants! \nMonday-Friday 4-6 PM \nGordon Biersch Brewery Restaurant  \nDirty Don’s Oyster Bar & Grill \nGios Pizzeria Napoletana \nTupelo Honey Southern Kitchen & Bar \n810 Bowling & Billiards \nMonday- Friday 4-7 PM \nCK’s Bistro \nCO Sushi \nP.F Chang’s \nNacho Hippo \n  \n 
URL:https://marketcommonmb.com/event/weekday-happy-hour/2025-02-13/
LOCATION:The Market Common\, 4017 Deville St\, Myrtle Beach\, 29577\, United States
CATEGORIES:Drink Specials,Food Specials,Specials
ATTACH;FMTTYPE=image/png:https://marketcommonmb.com/wp-content/uploads/2024/10/happy-hour.png
END:VEVENT
BEGIN:VEVENT
DTSTART;TZID=America/New_York:20250212T190000
DTEND;TZID=America/New_York:20250212T210000
DTSTAMP:20260423T094822
CREATED:20240610T155924Z
LAST-MODIFIED:20240610T160142Z
UID:10003631-1739386800-1739394000@marketcommonmb.com
SUMMARY:Survey Game Night
DESCRIPTION:Survey – a strategic guessing game is very similar to the popular game show Family Feud! Top teams win 810 gift cards! Wednesdays 7-9pm. 
URL:https://marketcommonmb.com/event/survey-game-night/2025-02-12/
LOCATION:810 Billiards & Bowling\, 1220 Moser Drive\, Myrtle Beach\, SC\, 29577\, United States
CATEGORIES:Social Events
ATTACH;FMTTYPE=image/png:https://marketcommonmb.com/wp-content/uploads/2024/06/Survey-Game.png
END:VEVENT
BEGIN:VEVENT
DTSTART;TZID=America/New_York:20250212T180000
DTEND;TZID=America/New_York:20250212T193000
DTSTAMP:20260423T094822
CREATED:20250128T181544Z
LAST-MODIFIED:20250128T181544Z
UID:10019970-1739383200-1739388600@marketcommonmb.com
SUMMARY:Full Moon Ceremony & Sound Bath at Yoga in Common
DESCRIPTION:Celebrate the powerful Full Moon on Wednesday\, February 12\, 2025\, from 6:00–7:30 PM at Yoga in Common. This ceremony includes intention-setting\, releasing old energies\, and welcoming new beginnings\, enhanced by the healing vibrations of singing bowls\, chimes\, and rattles. \nWhat to Bring: \n\nJournal and pen\nCrystals for energy enhancement\nYoga mat or cushion\nWater or herbal tea\nAn open heart\n\nThis event offers a time for reflection\, renewal\, and spiritual healing. All are welcome\, sign up required.
URL:https://marketcommonmb.com/event/full-moon-ceremony-sound-bath-at-yoga-in-common/
LOCATION:Yoga in Common\, 3062 Deville Street\, Myrtle Beach\, 29577\, United States
CATEGORIES:Seasonal Events,Wellness
ATTACH;FMTTYPE=image/png:https://marketcommonmb.com/wp-content/uploads/2025/01/full-moon-yoga.png
END:VEVENT
BEGIN:VEVENT
DTSTART;TZID=America/New_York:20250212T160000
DTEND;TZID=America/New_York:20250212T180000
DTSTAMP:20260423T094822
CREATED:20240802T165601Z
LAST-MODIFIED:20250402T202345Z
UID:10014640-1739376000-1739383200@marketcommonmb.com
SUMMARY:1/2 Price Martinis at Travinia
DESCRIPTION:Wednesday’s & Saturday’s from 4-6 pm enjoy Travinia’s 1/2 price martinis from their menu.
URL:https://marketcommonmb.com/event/1-2-price-martinis-at-travinia/2025-02-12/
LOCATION:Travinia\, 4011 Deville St\, Myrtle Beach\, SC\, 29577\, United States
CATEGORIES:Drink Specials
ATTACH;FMTTYPE=image/png:https://marketcommonmb.com/wp-content/uploads/2024/08/Martinis.png
END:VEVENT
BEGIN:VEVENT
DTSTART;VALUE=DATE:20250212
DTEND;VALUE=DATE:20250213
DTSTAMP:20260423T094822
CREATED:20241004T135916Z
LAST-MODIFIED:20260220T133032Z
UID:10017442-1739318400-1739404799@marketcommonmb.com
SUMMARY:Weekday Happy Hour
DESCRIPTION:Enjoy a variety of weekday Happy Hour specials at The Market Common\, featuring delicious bites and drinks from the best restaurants! \nMonday-Friday 4-6 PM \nGordon Biersch Brewery Restaurant  \nDirty Don’s Oyster Bar & Grill \nGios Pizzeria Napoletana \nTupelo Honey Southern Kitchen & Bar \n810 Bowling & Billiards \nMonday- Friday 4-7 PM \nCK’s Bistro \nCO Sushi \nP.F Chang’s \nNacho Hippo \n  \n 
URL:https://marketcommonmb.com/event/weekday-happy-hour/2025-02-12/
LOCATION:The Market Common\, 4017 Deville St\, Myrtle Beach\, 29577\, United States
CATEGORIES:Drink Specials,Food Specials,Specials
ATTACH;FMTTYPE=image/png:https://marketcommonmb.com/wp-content/uploads/2024/10/happy-hour.png
END:VEVENT
BEGIN:VEVENT
DTSTART;VALUE=DATE:20250212
DTEND;VALUE=DATE:20250213
DTSTAMP:20260423T094822
CREATED:20250204T152331Z
LAST-MODIFIED:20250204T152331Z
UID:10019978-1739318400-1739318400@marketcommonmb.com
SUMMARY:Flashback Cinema: Casablanca
DESCRIPTION:Experience the romance and intrigue of Casablanca on the big screen at Flashback Cinema. Showing at Grand 14 on Sunday February 9th\, Wednesday February 12th\, and Friday February 14th. This timeless classic feature unforgettable moments\, iconic performances\, and the magic of old Hollywood.
URL:https://marketcommonmb.com/event/flashback-cinema-casablanca/2025-02-12/
LOCATION:Grand 14 Theater\, 4002 DeVille Street\, Myrtle Beach\, SC\, 29577\, United States
CATEGORIES:Family Events,Movie Event
ATTACH;FMTTYPE=image/png:https://marketcommonmb.com/wp-content/uploads/2025/02/casablanca.png
END:VEVENT
BEGIN:VEVENT
DTSTART;TZID=America/New_York:20250211T190000
DTEND;TZID=America/New_York:20250211T210000
DTSTAMP:20260423T094822
CREATED:20240610T150612Z
LAST-MODIFIED:20240610T160842Z
UID:10003109-1739300400-1739307600@marketcommonmb.com
SUMMARY:Mind Games Trivia
DESCRIPTION:Can your team guess the right answers? Play for a chance to win gift cards to 810 Billiards & Bowling. Tuesday’s & Thursdays 7-9pm.
URL:https://marketcommonmb.com/event/mind-game-trivia/2025-02-11/
LOCATION:810 Billiards & Bowling\, 1220 Moser Drive\, Myrtle Beach\, SC\, 29577\, United States
CATEGORIES:Social Events
ATTACH;FMTTYPE=image/png:https://marketcommonmb.com/wp-content/uploads/2024/06/Trivia.png
END:VEVENT
BEGIN:VEVENT
DTSTART;TZID=America/New_York:20250211T190000
DTEND;TZID=America/New_York:20250211T200000
DTSTAMP:20260423T094822
CREATED:20240610T175305Z
LAST-MODIFIED:20240610T175305Z
UID:10004169-1739300400-1739304000@marketcommonmb.com
SUMMARY:Tuesday Trivia Night
DESCRIPTION:Test your knowledge\, enjoy a few drinks and bites\, and win some cash with Trivia night at Dirty Don’s Oyster Bar & Grill in The Market Common. Begins at 7pm.
URL:https://marketcommonmb.com/event/tuesday-trivia-night/2025-02-11/
LOCATION:Dirty Dons\, 3090 Deville St\, Myrtle Beach\, SC\, 29577\, United States
CATEGORIES:Social Events
ATTACH;FMTTYPE=image/png:https://marketcommonmb.com/wp-content/uploads/2024/06/Trivia-Tuesday.png
END:VEVENT
BEGIN:VEVENT
DTSTART;TZID=America/New_York:20250211T160000
DTEND;TZID=America/New_York:20250211T190000
DTSTAMP:20260423T094822
CREATED:20240802T151420Z
LAST-MODIFIED:20240802T151547Z
UID:10011509-1739289600-1739300400@marketcommonmb.com
SUMMARY:1/2 Off Select Makimono Rolls
DESCRIPTION:Enjoy 1/2 off select Makimono Rolls Tuesdays and Thursdays at CO Sushi.
URL:https://marketcommonmb.com/event/1-2-off-select-makimono-rolls/2025-02-11/
LOCATION:CO Sushi\, 3098 Deville Street\, Myrtle Beach\, SC\, 29577\, United States
CATEGORIES:Food Specials,Specials
ATTACH;FMTTYPE=image/png:https://marketcommonmb.com/wp-content/uploads/2024/08/CO-HH.png
END:VEVENT
BEGIN:VEVENT
DTSTART;VALUE=DATE:20250211
DTEND;VALUE=DATE:20250212
DTSTAMP:20260423T094822
CREATED:20241004T135916Z
LAST-MODIFIED:20260220T133032Z
UID:10017441-1739232000-1739318399@marketcommonmb.com
SUMMARY:Weekday Happy Hour
DESCRIPTION:Enjoy a variety of weekday Happy Hour specials at The Market Common\, featuring delicious bites and drinks from the best restaurants! \nMonday-Friday 4-6 PM \nGordon Biersch Brewery Restaurant  \nDirty Don’s Oyster Bar & Grill \nGios Pizzeria Napoletana \nTupelo Honey Southern Kitchen & Bar \n810 Bowling & Billiards \nMonday- Friday 4-7 PM \nCK’s Bistro \nCO Sushi \nP.F Chang’s \nNacho Hippo \n  \n 
URL:https://marketcommonmb.com/event/weekday-happy-hour/2025-02-11/
LOCATION:The Market Common\, 4017 Deville St\, Myrtle Beach\, 29577\, United States
CATEGORIES:Drink Specials,Food Specials,Specials
ATTACH;FMTTYPE=image/png:https://marketcommonmb.com/wp-content/uploads/2024/10/happy-hour.png
END:VEVENT
BEGIN:VEVENT
DTSTART;TZID=America/New_York:20250210T190000
DTEND;TZID=America/New_York:20250210T210000
DTSTAMP:20260423T094822
CREATED:20240610T125546Z
LAST-MODIFIED:20240610T133250Z
UID:10002843-1739214000-1739221200@marketcommonmb.com
SUMMARY:Jukebox Bingo
DESCRIPTION:Jukebox Bingo uses songs from specific genres/eras. Fill your card up or complete the various Bingo games and win 810 gift cards! Mondays from 7-9 pm at 810 Billiards & Bowling in The Market Common.
URL:https://marketcommonmb.com/event/jukebox-bingo/2025-02-10/
LOCATION:810 Billiards & Bowling\, 1220 Moser Drive\, Myrtle Beach\, SC\, 29577\, United States
CATEGORIES:Music Events,Social Events
ATTACH;FMTTYPE=image/png:https://marketcommonmb.com/wp-content/uploads/2024/06/Jukebox-Bingo-1.png
END:VEVENT
BEGIN:VEVENT
DTSTART;VALUE=DATE:20250210
DTEND;VALUE=DATE:20250211
DTSTAMP:20260423T094822
CREATED:20241004T135916Z
LAST-MODIFIED:20260220T133032Z
UID:10017440-1739145600-1739231999@marketcommonmb.com
SUMMARY:Weekday Happy Hour
DESCRIPTION:Enjoy a variety of weekday Happy Hour specials at The Market Common\, featuring delicious bites and drinks from the best restaurants! \nMonday-Friday 4-6 PM \nGordon Biersch Brewery Restaurant  \nDirty Don’s Oyster Bar & Grill \nGios Pizzeria Napoletana \nTupelo Honey Southern Kitchen & Bar \n810 Bowling & Billiards \nMonday- Friday 4-7 PM \nCK’s Bistro \nCO Sushi \nP.F Chang’s \nNacho Hippo \n  \n 
URL:https://marketcommonmb.com/event/weekday-happy-hour/2025-02-10/
LOCATION:The Market Common\, 4017 Deville St\, Myrtle Beach\, 29577\, United States
CATEGORIES:Drink Specials,Food Specials,Specials
ATTACH;FMTTYPE=image/png:https://marketcommonmb.com/wp-content/uploads/2024/10/happy-hour.png
END:VEVENT
BEGIN:VEVENT
DTSTART;TZID=America/New_York:20250209T150000
DTEND;TZID=America/New_York:20250209T163000
DTSTAMP:20260423T094822
CREATED:20250128T175922Z
LAST-MODIFIED:20250128T175922Z
UID:10019969-1739113200-1739118600@marketcommonmb.com
SUMMARY:Sound Healing Journey at Yoga in Common
DESCRIPTION:Join Dineen Carta and Angela Lee Chen for a Sound Healing Journey at Yoga in Common on Sunday\, February 9\, 2025\, from 3:00–4:30 PM. Experience the healing power of sound as singing bowls\, voices\, and ukulele guide you to release tension and restore balance. \nWhat to Expect: \n\nHealing sounds for body\, mind\, and spirit\nRestorative peace and relaxation\nDeep calm and renewal\n\nReserve your spot for this transformative sound healing experience at Yoga in Common!
URL:https://marketcommonmb.com/event/sound-healing-journey-at-yoga-in-common/
LOCATION:Yoga in Common\, 3062 Deville Street\, Myrtle Beach\, 29577\, United States
CATEGORIES:Wellness
ATTACH;FMTTYPE=image/png:https://marketcommonmb.com/wp-content/uploads/2025/01/sound-yoga.png
END:VEVENT
BEGIN:VEVENT
DTSTART;TZID=America/New_York:20250209T113000
DTEND;TZID=America/New_York:20250209T210000
DTSTAMP:20260423T094822
CREATED:20240802T180928Z
LAST-MODIFIED:20240802T180928Z
UID:10015136-1739100600-1739134800@marketcommonmb.com
SUMMARY:$5 Bloody Mary & Mimosas
DESCRIPTION:Enjoy $5 Bloody Marys and Mimosas all day at Travinia.
URL:https://marketcommonmb.com/event/5-bloody-mary-mimosas/2025-02-09/
LOCATION:Travinia\, 4011 Deville St\, Myrtle Beach\, SC\, 29577\, United States
CATEGORIES:Drink Specials,Specials
ATTACH;FMTTYPE=image/png:https://marketcommonmb.com/wp-content/uploads/2024/08/Bloody-Mary-Mimosas.png
END:VEVENT
BEGIN:VEVENT
DTSTART;TZID=America/New_York:20250209T100000
DTEND;TZID=America/New_York:20250209T110000
DTSTAMP:20260423T094822
CREATED:20250204T194913Z
LAST-MODIFIED:20250204T194913Z
UID:10019981-1739095200-1739098800@marketcommonmb.com
SUMMARY:Pottery Barn Design Class: Create a Coastal Living Room
DESCRIPTION:Learn how to bring a sense of calm to your space with expert decorating tips for a classic yet casual coastal look. From a curated pillowscape to coffee table accents\, Pottery Barn design specialists will guide you through the details. \nFree event\, but space is limited. Reserve your spot today.
URL:https://marketcommonmb.com/event/pottery-barn-design-class-create-a-coastal-living-room/
LOCATION:Pottery Barn\, 3332 Reed Street\, Myrtle Beach\, SC\, 29577\, United States
CATEGORIES:Art,Design
ATTACH;FMTTYPE=image/png:https://marketcommonmb.com/wp-content/uploads/2025/02/Coastalclass.png
END:VEVENT
BEGIN:VEVENT
DTSTART;VALUE=DATE:20250209
DTEND;VALUE=DATE:20250210
DTSTAMP:20260423T094822
CREATED:20250204T152331Z
LAST-MODIFIED:20250204T152331Z
UID:10019977-1739059200-1739145599@marketcommonmb.com
SUMMARY:Flashback Cinema: Casablanca
DESCRIPTION:Experience the romance and intrigue of Casablanca on the big screen at Flashback Cinema. Showing at Grand 14 on Sunday February 9th\, Wednesday February 12th\, and Friday February 14th. This timeless classic feature unforgettable moments\, iconic performances\, and the magic of old Hollywood.
URL:https://marketcommonmb.com/event/flashback-cinema-casablanca/2025-02-09/
LOCATION:Grand 14 Theater\, 4002 DeVille Street\, Myrtle Beach\, SC\, 29577\, United States
CATEGORIES:Family Events,Movie Event
ATTACH;FMTTYPE=image/png:https://marketcommonmb.com/wp-content/uploads/2025/02/casablanca.png
END:VEVENT
BEGIN:VEVENT
DTSTART;VALUE=DATE:20250209
DTEND;VALUE=DATE:20250210
DTSTAMP:20260423T094822
CREATED:20241004T142022Z
LAST-MODIFIED:20260220T132956Z
UID:10018691-1739059200-1739145599@marketcommonmb.com
SUMMARY:Weekend Happy Hour
DESCRIPTION:Enjoy Weekend Happy Hours at The Market Common! Unwind with great deals on drinks and appetizers at various restaurants\, perfect for relaxing with friends and soaking in the vibrant atmosphere! \nAll Day Every Day: P.F. Chang’s \nEvery Day 4-6 PM: Ck’s Bistro \nSaturday & Sunday 1-3 PM: Dirty Don’s Oyster Bar & Grill \nSaturday & Sunday 4-6 PM: 810 Bowling & Billiards \nSundays: Co Sushi \n 
URL:https://marketcommonmb.com/event/weekend-happy-hour/2025-02-09/
LOCATION:SC
CATEGORIES:Drink Specials,Food Specials
ATTACH;FMTTYPE=image/png:https://marketcommonmb.com/wp-content/uploads/2024/10/mimosas-1.png
END:VEVENT
BEGIN:VEVENT
DTSTART;TZID=America/New_York:20250208T200000
DTEND;TZID=America/New_York:20250208T200000
DTSTAMP:20260423T094822
CREATED:20240613T201217Z
LAST-MODIFIED:20250306T140405Z
UID:10004430-1739044800-1739044800@marketcommonmb.com
SUMMARY:Live DJ
DESCRIPTION:Enjoy great music\, delicious food\, and endless fun at 810 Billiards & Bowling with Live DJ select Saturdays from 9 PM to 12 AM.
URL:https://marketcommonmb.com/event/live-dj/2025-02-08/
LOCATION:810 Billiards & Bowling\, 1220 Moser Drive\, Myrtle Beach\, SC\, 29577\, United States
CATEGORIES:Music Events
ATTACH;FMTTYPE=image/png:https://marketcommonmb.com/wp-content/uploads/2024/06/DJ.png
END:VEVENT
BEGIN:VEVENT
DTSTART;TZID=America/New_York:20250208T173000
DTEND;TZID=America/New_York:20250208T190000
DTSTAMP:20260423T094822
CREATED:20250128T175232Z
LAST-MODIFIED:20250129T154959Z
UID:10019968-1739035800-1739041200@marketcommonmb.com
SUMMARY:Valentine's Day Partner Yoga
DESCRIPTION:Partner Yoga: Connect Before Valentine’s Day \nCelebrate connection with a fun\, heart-centered Partner Yoga session perfect for all levels. Whether with a friend\, spouse\, or loved one\, this class focuses on collaboration\, trust\, and shared mindfulness through playful yoga poses and gentle stretches. \nNo prior yoga experience is needed—just bring an open heart and a partner (or connect with someone new). \nWhat to Expect: \n\nPartner Yoga poses\nEnhanced connection and communication\nLaughter\, mindfulness\, and shared moments\n\nOpen to everyone—join the supportive Yoga in Common community for this special event!
URL:https://marketcommonmb.com/event/valentines-day-partner-yoga/
LOCATION:Yoga in Common\, 3062 Deville Street\, Myrtle Beach\, 29577\, United States
CATEGORIES:Seasonal Events,Social Events,Wellness
ATTACH;FMTTYPE=image/png:https://marketcommonmb.com/wp-content/uploads/2025/01/partner-yoga.png
END:VEVENT
BEGIN:VEVENT
DTSTART;TZID=America/New_York:20250208T170000
DTEND;TZID=America/New_York:20250208T190000
DTSTAMP:20260423T094822
CREATED:20250131T165012Z
LAST-MODIFIED:20250131T165012Z
UID:10019972-1739034000-1739041200@marketcommonmb.com
SUMMARY:Valentine's Charcuterie at Nailed It DIY
DESCRIPTION:Come to Nailed It DIY’s Art Bar on February 8th from 5-7 PM for a creative evening! Whether you’re a couple\, with friends\, or on your own\, craft your own heart-shaped charcuterie board. Special guest Chef Dante Passeri of Passerabilities will walk you through creating the perfect charcuterie spread\, complete with a demo\, tastings\, and BYOB. A fun and unique pre-Valentine’s experience! Seating is limited\, reservation required.
URL:https://marketcommonmb.com/event/valentines-charcuterie-at-nailed-it-diy/
LOCATION:Nailed It DIY Studio\, 3064 Deville Street\, Myrtle Beach\, SC\, 29577\, United States
CATEGORIES:Art,Design,Family Events,Holiday Events,Seasonal Events,Social Events,Tastings
ATTACH;FMTTYPE=image/png:https://marketcommonmb.com/wp-content/uploads/2025/01/charcuterie.png
END:VEVENT
BEGIN:VEVENT
DTSTART;TZID=America/New_York:20250208T160000
DTEND;TZID=America/New_York:20250208T180000
DTSTAMP:20260423T094822
CREATED:20240802T165601Z
LAST-MODIFIED:20250402T202345Z
UID:10014639-1739030400-1739037600@marketcommonmb.com
SUMMARY:1/2 Price Martinis at Travinia
DESCRIPTION:Wednesday’s & Saturday’s from 4-6 pm enjoy Travinia’s 1/2 price martinis from their menu.
URL:https://marketcommonmb.com/event/1-2-price-martinis-at-travinia/2025-02-08/
LOCATION:Travinia\, 4011 Deville St\, Myrtle Beach\, SC\, 29577\, United States
CATEGORIES:Drink Specials
ATTACH;FMTTYPE=image/png:https://marketcommonmb.com/wp-content/uploads/2024/08/Martinis.png
END:VEVENT
END:VCALENDAR