BEGIN:VCALENDAR
VERSION:2.0
PRODID:-//The Market Common Myrtle Beach - ECPv6.15.12.2//NONSGML v1.0//EN
CALSCALE:GREGORIAN
METHOD:PUBLISH
X-WR-CALNAME:The Market Common Myrtle Beach
X-ORIGINAL-URL:https://marketcommonmb.com
X-WR-CALDESC:Events for The Market Common Myrtle Beach
REFRESH-INTERVAL;VALUE=DURATION:PT1H
X-Robots-Tag:noindex
X-PUBLISHED-TTL:PT1H
BEGIN:VTIMEZONE
TZID:America/New_York
BEGIN:DAYLIGHT
TZOFFSETFROM:-0500
TZOFFSETTO:-0400
TZNAME:EDT
DTSTART:20250309T070000
END:DAYLIGHT
BEGIN:STANDARD
TZOFFSETFROM:-0400
TZOFFSETTO:-0500
TZNAME:EST
DTSTART:20251102T060000
END:STANDARD
BEGIN:DAYLIGHT
TZOFFSETFROM:-0500
TZOFFSETTO:-0400
TZNAME:EDT
DTSTART:20260308T070000
END:DAYLIGHT
BEGIN:STANDARD
TZOFFSETFROM:-0400
TZOFFSETTO:-0500
TZNAME:EST
DTSTART:20261101T060000
END:STANDARD
BEGIN:DAYLIGHT
TZOFFSETFROM:-0500
TZOFFSETTO:-0400
TZNAME:EDT
DTSTART:20270314T070000
END:DAYLIGHT
BEGIN:STANDARD
TZOFFSETFROM:-0400
TZOFFSETTO:-0500
TZNAME:EST
DTSTART:20271107T060000
END:STANDARD
END:VTIMEZONE
BEGIN:VEVENT
DTSTART;TZID=America/New_York:20260321T160000
DTEND;TZID=America/New_York:20260321T180000
DTSTAMP:20260423T200228
CREATED:20240802T165601Z
LAST-MODIFIED:20250402T202345Z
UID:10014755-1774108800-1774116000@marketcommonmb.com
SUMMARY:1/2 Price Martinis at Travinia
DESCRIPTION:Wednesday’s & Saturday’s from 4-6 pm enjoy Travinia’s 1/2 price martinis from their menu.
URL:https://marketcommonmb.com/event/1-2-price-martinis-at-travinia/2026-03-21/
LOCATION:Travinia\, 4011 Deville St\, Myrtle Beach\, SC\, 29577\, United States
CATEGORIES:Drink Specials
ATTACH;FMTTYPE=image/png:https://marketcommonmb.com/wp-content/uploads/2024/08/Martinis.png
END:VEVENT
BEGIN:VEVENT
DTSTART;TZID=America/New_York:20260321T200000
DTEND;TZID=America/New_York:20260321T200000
DTSTAMP:20260423T200228
CREATED:20240613T201217Z
LAST-MODIFIED:20250306T140405Z
UID:10004488-1774123200-1774123200@marketcommonmb.com
SUMMARY:Live DJ
DESCRIPTION:Enjoy great music\, delicious food\, and endless fun at 810 Billiards & Bowling with Live DJ select Saturdays from 9 PM to 12 AM.
URL:https://marketcommonmb.com/event/live-dj/2026-03-21/
LOCATION:810 Billiards & Bowling\, 1220 Moser Drive\, Myrtle Beach\, SC\, 29577\, United States
CATEGORIES:Music Events
ATTACH;FMTTYPE=image/png:https://marketcommonmb.com/wp-content/uploads/2024/06/DJ.png
END:VEVENT
BEGIN:VEVENT
DTSTART;VALUE=DATE:20260322
DTEND;VALUE=DATE:20260323
DTSTAMP:20260423T200228
CREATED:20241004T142022Z
LAST-MODIFIED:20260220T132956Z
UID:10018807-1774137600-1774223999@marketcommonmb.com
SUMMARY:Weekend Happy Hour
DESCRIPTION:Enjoy Weekend Happy Hours at The Market Common! Unwind with great deals on drinks and appetizers at various restaurants\, perfect for relaxing with friends and soaking in the vibrant atmosphere! \nAll Day Every Day: P.F. Chang’s \nEvery Day 4-6 PM: Ck’s Bistro \nSaturday & Sunday 1-3 PM: Dirty Don’s Oyster Bar & Grill \nSaturday & Sunday 4-6 PM: 810 Bowling & Billiards \nSundays: Co Sushi \n 
URL:https://marketcommonmb.com/event/weekend-happy-hour/2026-03-22/
LOCATION:SC
CATEGORIES:Drink Specials,Food Specials
ATTACH;FMTTYPE=image/png:https://marketcommonmb.com/wp-content/uploads/2024/10/mimosas-1.png
END:VEVENT
BEGIN:VEVENT
DTSTART;TZID=America/New_York:20260322T113000
DTEND;TZID=America/New_York:20260322T210000
DTSTAMP:20260423T200228
CREATED:20240802T180928Z
LAST-MODIFIED:20240802T180928Z
UID:10015194-1774179000-1774213200@marketcommonmb.com
SUMMARY:$5 Bloody Mary & Mimosas
DESCRIPTION:Enjoy $5 Bloody Marys and Mimosas all day at Travinia.
URL:https://marketcommonmb.com/event/5-bloody-mary-mimosas/2026-03-22/
LOCATION:Travinia\, 4011 Deville St\, Myrtle Beach\, SC\, 29577\, United States
CATEGORIES:Drink Specials,Specials
ATTACH;FMTTYPE=image/png:https://marketcommonmb.com/wp-content/uploads/2024/08/Bloody-Mary-Mimosas.png
END:VEVENT
BEGIN:VEVENT
DTSTART;VALUE=DATE:20260323
DTEND;VALUE=DATE:20260324
DTSTAMP:20260423T200228
CREATED:20241004T135916Z
LAST-MODIFIED:20260220T133032Z
UID:10017730-1774224000-1774310399@marketcommonmb.com
SUMMARY:Weekday Happy Hour
DESCRIPTION:Enjoy a variety of weekday Happy Hour specials at The Market Common\, featuring delicious bites and drinks from the best restaurants! \nMonday-Friday 4-6 PM \nGordon Biersch Brewery Restaurant  \nDirty Don’s Oyster Bar & Grill \nGios Pizzeria Napoletana \nTupelo Honey Southern Kitchen & Bar \n810 Bowling & Billiards \nMonday- Friday 4-7 PM \nCK’s Bistro \nCO Sushi \nP.F Chang’s \nNacho Hippo \n  \n 
URL:https://marketcommonmb.com/event/weekday-happy-hour/2026-03-23/
LOCATION:The Market Common\, 4017 Deville St\, Myrtle Beach\, 29577\, United States
CATEGORIES:Drink Specials,Food Specials,Specials
ATTACH;FMTTYPE=image/png:https://marketcommonmb.com/wp-content/uploads/2024/10/happy-hour.png
END:VEVENT
BEGIN:VEVENT
DTSTART;TZID=America/New_York:20260323T190000
DTEND;TZID=America/New_York:20260323T210000
DTSTAMP:20260423T200228
CREATED:20240610T125546Z
LAST-MODIFIED:20240610T133250Z
UID:10002901-1774292400-1774299600@marketcommonmb.com
SUMMARY:Jukebox Bingo
DESCRIPTION:Jukebox Bingo uses songs from specific genres/eras. Fill your card up or complete the various Bingo games and win 810 gift cards! Mondays from 7-9 pm at 810 Billiards & Bowling in The Market Common.
URL:https://marketcommonmb.com/event/jukebox-bingo/2026-03-23/
LOCATION:810 Billiards & Bowling\, 1220 Moser Drive\, Myrtle Beach\, SC\, 29577\, United States
CATEGORIES:Music Events,Social Events
ATTACH;FMTTYPE=image/png:https://marketcommonmb.com/wp-content/uploads/2024/06/Jukebox-Bingo-1.png
END:VEVENT
BEGIN:VEVENT
DTSTART;TZID=America/New_York:20260323T190000
DTEND;TZID=America/New_York:20260323T210000
DTSTAMP:20260423T200228
CREATED:20260122T154936Z
LAST-MODIFIED:20260122T154938Z
UID:10024283-1774292400-1774299600@marketcommonmb.com
SUMMARY:Mystery Movie Monday - GTC Theaters
DESCRIPTION:Be the first to see a brand-new movie before it hits theaters — tickets are just $7.00! Past Mystery Movie Monday titles include Jurassic World Rebirth\, Eternity\, Song Sung Blue & Primate! You never know what you’ll get\, but you won’t want to miss it.
URL:https://marketcommonmb.com/event/mystery-movie-monday-gtc-theaters/2026-03-23/
LOCATION:GTC Theater\, 4002 Deville Street\, MYRTLE BEACH\, SC\, 29577-1640\, United States
CATEGORIES:Family Events,Movie Event
ATTACH;FMTTYPE=image/png:https://marketcommonmb.com/wp-content/uploads/2026/01/Screenshot-2026-01-22-104133.png
END:VEVENT
BEGIN:VEVENT
DTSTART;VALUE=DATE:20260324
DTEND;VALUE=DATE:20260325
DTSTAMP:20260423T200228
CREATED:20241004T135916Z
LAST-MODIFIED:20260220T133032Z
UID:10017731-1774310400-1774396799@marketcommonmb.com
SUMMARY:Weekday Happy Hour
DESCRIPTION:Enjoy a variety of weekday Happy Hour specials at The Market Common\, featuring delicious bites and drinks from the best restaurants! \nMonday-Friday 4-6 PM \nGordon Biersch Brewery Restaurant  \nDirty Don’s Oyster Bar & Grill \nGios Pizzeria Napoletana \nTupelo Honey Southern Kitchen & Bar \n810 Bowling & Billiards \nMonday- Friday 4-7 PM \nCK’s Bistro \nCO Sushi \nP.F Chang’s \nNacho Hippo \n  \n 
URL:https://marketcommonmb.com/event/weekday-happy-hour/2026-03-24/
LOCATION:The Market Common\, 4017 Deville St\, Myrtle Beach\, 29577\, United States
CATEGORIES:Drink Specials,Food Specials,Specials
ATTACH;FMTTYPE=image/png:https://marketcommonmb.com/wp-content/uploads/2024/10/happy-hour.png
END:VEVENT
BEGIN:VEVENT
DTSTART;VALUE=DATE:20260324
DTEND;VALUE=DATE:20260325
DTSTAMP:20260423T200228
CREATED:20250603T183937Z
LAST-MODIFIED:20250603T183937Z
UID:10022328-1774310400-1774396799@marketcommonmb.com
SUMMARY:Taco Tuesdays at Nacho Hippo
DESCRIPTION:Taco Tuesdays at Nacho Hippo feature $2 off ALL tacos ALL DAY every Tuesday. \nEnjoy bold flavors and fresh ingredients in every bite.
URL:https://marketcommonmb.com/event/taco-tuesdays-at-nacho-hippo/2026-03-24/
LOCATION:Nacho Hippo\, 1160 Farrow Parkway\, Myrtle Beach\, SC\, 29577\, United States
CATEGORIES:Food Specials,Specials
ATTACH;FMTTYPE=image/png:https://marketcommonmb.com/wp-content/uploads/2025/06/tacos.png
END:VEVENT
BEGIN:VEVENT
DTSTART;TZID=America/New_York:20260324T100000
DTEND;TZID=America/New_York:20260324T120000
DTSTAMP:20260423T200228
CREATED:20250611T172212Z
LAST-MODIFIED:20250611T172212Z
UID:10022893-1774346400-1774353600@marketcommonmb.com
SUMMARY:Myrtle Beach History\, Movies\, and Music Trolley Tour
DESCRIPTION:Hear the story of Myrtle Beach’s coming of age in the mid-20th century to present day\, the movies that were made or premiered there\, and the role that Myrtle Beach played in music history.  Stops include the new Historic District and a Green Book listing\, The Fitzgerald Motel at Charlie’s Place Historic Site. Book tickets online in advance.  \n 
URL:https://marketcommonmb.com/event/myrtle-beach-history-movies-and-music-trolley-tour/2026-03-24/
LOCATION:Grand 14 Theater\, 4002 DeVille Street\, Myrtle Beach\, SC\, 29577\, United States
CATEGORIES:Family Events
ATTACH;FMTTYPE=image/png:https://marketcommonmb.com/wp-content/uploads/2025/06/Myrtle-Beach-History-Movies-Music-Trolley-Tour-graphic.png
END:VEVENT
BEGIN:VEVENT
DTSTART;TZID=America/New_York:20260324T103000
DTEND;TZID=America/New_York:20260326T220000
DTSTAMP:20260423T200228
CREATED:20260203T134226Z
LAST-MODIFIED:20260203T134226Z
UID:10025051-1774348200-1774562400@marketcommonmb.com
SUMMARY:All Day Specials - Gordon Biersch
DESCRIPTION:Enjoy these all day drink specials on Tuesday\, Wednesday\, and Thursday only at Gordon Biersch!
URL:https://marketcommonmb.com/event/all-day-specials-gordon-biersch/2026-03-24/
LOCATION:SC
CATEGORIES:Drink Specials
ATTACH;FMTTYPE=image/jpeg:https://marketcommonmb.com/wp-content/uploads/2026/02/GB-Specials.jpeg
END:VEVENT
BEGIN:VEVENT
DTSTART;TZID=America/New_York:20260324T160000
DTEND;TZID=America/New_York:20260324T190000
DTSTAMP:20260423T200228
CREATED:20240802T151420Z
LAST-MODIFIED:20240802T151547Z
UID:10011625-1774368000-1774378800@marketcommonmb.com
SUMMARY:1/2 Off Select Makimono Rolls
DESCRIPTION:Enjoy 1/2 off select Makimono Rolls Tuesdays and Thursdays at CO Sushi.
URL:https://marketcommonmb.com/event/1-2-off-select-makimono-rolls/2026-03-24/
LOCATION:CO Sushi\, 3098 Deville Street\, Myrtle Beach\, SC\, 29577\, United States
CATEGORIES:Food Specials,Specials
ATTACH;FMTTYPE=image/png:https://marketcommonmb.com/wp-content/uploads/2024/08/CO-HH.png
END:VEVENT
BEGIN:VEVENT
DTSTART;TZID=America/New_York:20260324T190000
DTEND;TZID=America/New_York:20260324T200000
DTSTAMP:20260423T200228
CREATED:20240610T175305Z
LAST-MODIFIED:20240610T175305Z
UID:10004227-1774378800-1774382400@marketcommonmb.com
SUMMARY:Tuesday Trivia Night
DESCRIPTION:Test your knowledge\, enjoy a few drinks and bites\, and win some cash with Trivia night at Dirty Don’s Oyster Bar & Grill in The Market Common. Begins at 7pm.
URL:https://marketcommonmb.com/event/tuesday-trivia-night/2026-03-24/
LOCATION:Dirty Dons\, 3090 Deville St\, Myrtle Beach\, SC\, 29577\, United States
CATEGORIES:Social Events
ATTACH;FMTTYPE=image/png:https://marketcommonmb.com/wp-content/uploads/2024/06/Trivia-Tuesday.png
END:VEVENT
BEGIN:VEVENT
DTSTART;TZID=America/New_York:20260324T190000
DTEND;TZID=America/New_York:20260324T203000
DTSTAMP:20260423T200228
CREATED:20260129T173338Z
LAST-MODIFIED:20260129T173346Z
UID:10024775-1774378800-1774384200@marketcommonmb.com
SUMMARY:Line Dancing Lessons - Boots n Bikinis
DESCRIPTION:Mixed-Level Line Dance Lessons – Tuesdays at 7:00pm\nThis class is designed for ALL levels. Lessons start off easy and gradually become more challenging. We will be dancing to both new\, popular line dances and the classics.\nDancers will receive 20% off in-store purchases\n No partner needed High-energy\, fun atmosphere Perfect for beginners + experienced dancers Pricing: 15$/ Person  Sign up using the link below!Secure your spot\, lace up your boots\, and come dance with Boots n Bikinis!\nhttps://forms.gle/SvBGBHg2WeBLgiDH6
URL:https://marketcommonmb.com/event/line-dancing-lessons-boots-n-bikinis/2026-03-24/
LOCATION:Boots n Bikinis\, 3064 Howard Ave\, MYRTLE BEACH\, SC\, 29577-1640\, United States
CATEGORIES:Dance,Social Events
ATTACH;FMTTYPE=image/jpeg:https://marketcommonmb.com/wp-content/uploads/2026/01/boots-line-dancing.jpg
END:VEVENT
BEGIN:VEVENT
DTSTART;TZID=America/New_York:20260324T190000
DTEND;TZID=America/New_York:20260324T210000
DTSTAMP:20260423T200228
CREATED:20240610T150612Z
LAST-MODIFIED:20240610T160842Z
UID:10003167-1774378800-1774386000@marketcommonmb.com
SUMMARY:Mind Games Trivia
DESCRIPTION:Can your team guess the right answers? Play for a chance to win gift cards to 810 Billiards & Bowling. Tuesday’s & Thursdays 7-9pm.
URL:https://marketcommonmb.com/event/mind-game-trivia/2026-03-24/
LOCATION:810 Billiards & Bowling\, 1220 Moser Drive\, Myrtle Beach\, SC\, 29577\, United States
CATEGORIES:Social Events
ATTACH;FMTTYPE=image/png:https://marketcommonmb.com/wp-content/uploads/2024/06/Trivia.png
END:VEVENT
BEGIN:VEVENT
DTSTART;VALUE=DATE:20260325
DTEND;VALUE=DATE:20260326
DTSTAMP:20260423T200228
CREATED:20241004T135916Z
LAST-MODIFIED:20260220T133032Z
UID:10017732-1774396800-1774483199@marketcommonmb.com
SUMMARY:Weekday Happy Hour
DESCRIPTION:Enjoy a variety of weekday Happy Hour specials at The Market Common\, featuring delicious bites and drinks from the best restaurants! \nMonday-Friday 4-6 PM \nGordon Biersch Brewery Restaurant  \nDirty Don’s Oyster Bar & Grill \nGios Pizzeria Napoletana \nTupelo Honey Southern Kitchen & Bar \n810 Bowling & Billiards \nMonday- Friday 4-7 PM \nCK’s Bistro \nCO Sushi \nP.F Chang’s \nNacho Hippo \n  \n 
URL:https://marketcommonmb.com/event/weekday-happy-hour/2026-03-25/
LOCATION:The Market Common\, 4017 Deville St\, Myrtle Beach\, 29577\, United States
CATEGORIES:Drink Specials,Food Specials,Specials
ATTACH;FMTTYPE=image/png:https://marketcommonmb.com/wp-content/uploads/2024/10/happy-hour.png
END:VEVENT
BEGIN:VEVENT
DTSTART;TZID=America/New_York:20260325T100000
DTEND;TZID=America/New_York:20260325T120000
DTSTAMP:20260423T200228
CREATED:20250611T175426Z
LAST-MODIFIED:20250611T175426Z
UID:10023155-1774432800-1774440000@marketcommonmb.com
SUMMARY:Early Myrtle Beach History & WWII Years Trolley Tour
DESCRIPTION:This trolley tour shares Myrtle Beach’s origin story and tells what it was like to live there during WWII with U-boat threats off the coast and the arrival of German POWs. It makes stops at Pine Lakes Country Club\, and the Historic Myrtle Beach Colored School Museum. Book tickets in advance.
URL:https://marketcommonmb.com/event/early-myrtle-beach-history-wwii-years-trolley-tour/2026-03-25/
LOCATION:Grand 14 Theater\, 4002 DeVille Street\, Myrtle Beach\, SC\, 29577\, United States
CATEGORIES:Family Events
ATTACH;FMTTYPE=image/png:https://marketcommonmb.com/wp-content/uploads/2025/06/Early-Myrtle-Beach-History-The-WWII-Years-Trolley-Tour-graphic.png
END:VEVENT
BEGIN:VEVENT
DTSTART;TZID=America/New_York:20260325T103000
DTEND;TZID=America/New_York:20260327T220000
DTSTAMP:20260423T200228
CREATED:20260203T134226Z
LAST-MODIFIED:20260203T134226Z
UID:10025052-1774434600-1774648800@marketcommonmb.com
SUMMARY:All Day Specials - Gordon Biersch
DESCRIPTION:Enjoy these all day drink specials on Tuesday\, Wednesday\, and Thursday only at Gordon Biersch!
URL:https://marketcommonmb.com/event/all-day-specials-gordon-biersch/2026-03-25/
LOCATION:SC
CATEGORIES:Drink Specials
ATTACH;FMTTYPE=image/jpeg:https://marketcommonmb.com/wp-content/uploads/2026/02/GB-Specials.jpeg
END:VEVENT
BEGIN:VEVENT
DTSTART;TZID=America/New_York:20260325T150000
DTEND;TZID=America/New_York:20260325T170000
DTSTAMP:20260423T200228
CREATED:20260226T141050Z
LAST-MODIFIED:20260316T155729Z
UID:10027119-1774450800-1774458000@marketcommonmb.com
SUMMARY:Line Dancing - 810 Entertainment
DESCRIPTION:Join 810 Entertainment for line dancing every Wednesday from  3PM – 5 PM
URL:https://marketcommonmb.com/event/line-dancing-810-entertainment/2026-03-25/
LOCATION:810 Billiards & Bowling\, 1220 Moser Drive\, Myrtle Beach\, SC\, 29577\, United States
CATEGORIES:Dance,Social Events
ATTACH;FMTTYPE=image/jpeg:https://marketcommonmb.com/wp-content/uploads/2026/02/istockphoto-1438967229-612x612-1.jpg
END:VEVENT
BEGIN:VEVENT
DTSTART;TZID=America/New_York:20260325T160000
DTEND;TZID=America/New_York:20260325T180000
DTSTAMP:20260423T200228
CREATED:20240802T165601Z
LAST-MODIFIED:20250402T202345Z
UID:10014756-1774454400-1774461600@marketcommonmb.com
SUMMARY:1/2 Price Martinis at Travinia
DESCRIPTION:Wednesday’s & Saturday’s from 4-6 pm enjoy Travinia’s 1/2 price martinis from their menu.
URL:https://marketcommonmb.com/event/1-2-price-martinis-at-travinia/2026-03-25/
LOCATION:Travinia\, 4011 Deville St\, Myrtle Beach\, SC\, 29577\, United States
CATEGORIES:Drink Specials
ATTACH;FMTTYPE=image/png:https://marketcommonmb.com/wp-content/uploads/2024/08/Martinis.png
END:VEVENT
BEGIN:VEVENT
DTSTART;TZID=America/New_York:20260325T160000
DTEND;TZID=America/New_York:20260325T200000
DTSTAMP:20260423T200228
CREATED:20250425T185313Z
LAST-MODIFIED:20250425T185313Z
UID:10020322-1774454400-1774468800@marketcommonmb.com
SUMMARY:Girls Night Out at P.F. Chang's
DESCRIPTION:Grab your girls and head to P.F. Chang’s for Girl’s Night Out! From 4pm–8pm\, enjoy 1/2 price bottles of wine and champagne throughout the restaurant.
URL:https://marketcommonmb.com/event/girls-night-out-at-p-f-changs/2026-03-25/
LOCATION:P.F. Chang’s\, 1190 Farrow Parkway\, Myrtle Beach\, SC\, 29577\, United States
CATEGORIES:Drink Specials,Food Specials,Social Events
ATTACH;FMTTYPE=image/png:https://marketcommonmb.com/wp-content/uploads/2025/04/GNO.png
END:VEVENT
BEGIN:VEVENT
DTSTART;TZID=America/New_York:20260325T190000
DTEND;TZID=America/New_York:20260325T210000
DTSTAMP:20260423T200228
CREATED:20240610T155924Z
LAST-MODIFIED:20240610T160142Z
UID:10003689-1774465200-1774472400@marketcommonmb.com
SUMMARY:Survey Game Night
DESCRIPTION:Survey – a strategic guessing game is very similar to the popular game show Family Feud! Top teams win 810 gift cards! Wednesdays 7-9pm. 
URL:https://marketcommonmb.com/event/survey-game-night/2026-03-25/
LOCATION:810 Billiards & Bowling\, 1220 Moser Drive\, Myrtle Beach\, SC\, 29577\, United States
CATEGORIES:Social Events
ATTACH;FMTTYPE=image/png:https://marketcommonmb.com/wp-content/uploads/2024/06/Survey-Game.png
END:VEVENT
BEGIN:VEVENT
DTSTART;VALUE=DATE:20260326
DTEND;VALUE=DATE:20260327
DTSTAMP:20260423T200228
CREATED:20241004T135916Z
LAST-MODIFIED:20260220T133032Z
UID:10017733-1774483200-1774569599@marketcommonmb.com
SUMMARY:Weekday Happy Hour
DESCRIPTION:Enjoy a variety of weekday Happy Hour specials at The Market Common\, featuring delicious bites and drinks from the best restaurants! \nMonday-Friday 4-6 PM \nGordon Biersch Brewery Restaurant  \nDirty Don’s Oyster Bar & Grill \nGios Pizzeria Napoletana \nTupelo Honey Southern Kitchen & Bar \n810 Bowling & Billiards \nMonday- Friday 4-7 PM \nCK’s Bistro \nCO Sushi \nP.F Chang’s \nNacho Hippo \n  \n 
URL:https://marketcommonmb.com/event/weekday-happy-hour/2026-03-26/
LOCATION:The Market Common\, 4017 Deville St\, Myrtle Beach\, 29577\, United States
CATEGORIES:Drink Specials,Food Specials,Specials
ATTACH;FMTTYPE=image/png:https://marketcommonmb.com/wp-content/uploads/2024/10/happy-hour.png
END:VEVENT
BEGIN:VEVENT
DTSTART;VALUE=DATE:20260326
DTEND;VALUE=DATE:20260327
DTSTAMP:20260423T200228
CREATED:20250425T190023Z
LAST-MODIFIED:20250425T190023Z
UID:10020674-1774483200-1774569599@marketcommonmb.com
SUMMARY:Weekend Vibes at P.F. Chang's
DESCRIPTION:Weekend vibes are in full swing at P.F. Chang’s! Sip on our two new specialty drinks—The Golden Buddha Mai Tai and Jade Margarita—available Thursday through Saturday for just $8.99.
URL:https://marketcommonmb.com/event/weekend-vibes-at-p-f-changs/2026-03-26/
LOCATION:P.F. Chang’s\, 1190 Farrow Parkway\, Myrtle Beach\, SC\, 29577\, United States
CATEGORIES:Drink Specials,Food Specials,Social Events
ATTACH;FMTTYPE=image/png:https://marketcommonmb.com/wp-content/uploads/2025/04/weekend-vibes.png
END:VEVENT
BEGIN:VEVENT
DTSTART;VALUE=DATE:20260326
DTEND;VALUE=DATE:20260327
DTSTAMP:20260423T200228
CREATED:20250603T185953Z
LAST-MODIFIED:20250603T185953Z
UID:10022589-1774483200-1774569599@marketcommonmb.com
SUMMARY:Thirsty Thursdays at Nacho Hippo
DESCRIPTION:Thirsty Thursdays at Nacho Hippo bring the flavor and the fun with $3 Beer Blitz and $3 Triple Threat specials. Sip\, savor\, and kick off the weekend early. \n \n 
URL:https://marketcommonmb.com/event/thirsty-thursdays-at-nacho-hippo/2026-03-26/
LOCATION:Nacho Hippo\, 1160 Farrow Parkway\, Myrtle Beach\, SC\, 29577\, United States
CATEGORIES:Drink Specials,Specials
ATTACH;FMTTYPE=image/png:https://marketcommonmb.com/wp-content/uploads/2025/06/NH-drink.png
END:VEVENT
BEGIN:VEVENT
DTSTART;TZID=America/New_York:20260326T100000
DTEND;TZID=America/New_York:20260326T120000
DTSTAMP:20260423T200228
CREATED:20250611T180157Z
LAST-MODIFIED:20250611T180217Z
UID:10023416-1774519200-1774526400@marketcommonmb.com
SUMMARY:Myrtle Beach Area Ghosts\, Pirates & Historic Families Trolley Tour
DESCRIPTION:Take a half-hour trolley ride south of Myrtle Beach to the fishing community of Murrells Inlet\, SC\, and beyond. Hear the quintessential ghost stories that locals have grown up with (no ghost sightings here\, just great stories)\, background on the pirates who were said to have frequented the local shores 300 years ago\, and historical commentary on the influential families who lived in the area and helped shape our nation’s history. IF YOUR OBJECTIVE IS TO SPEND TIME AT AREA ATTRACTIONS\, THIS IS NOT THE TOUR FOR YOU. This 2-hour narrated tour serves as a mere introduction to wonderful places that we will be passing by that you’ll want to come back to and visit\, while conveying a great deal of information about the local folklore and history along the way. BRIEF STOPS\, where passengers will hop off for just a FEW MINUTES\, include The Gardener’s Cottage at Brookgreen Gardens\, The Pawleys Island Hammock Shops Village and at a photo-worthy overlook in Murrells Inlet. \nBook tickets online in advance.
URL:https://marketcommonmb.com/event/myrtle-beach-area-ghosts-pirates-historic-families-trolley-tour/2026-03-26/
LOCATION:Grand 14 Theater\, 4002 DeVille Street\, Myrtle Beach\, SC\, 29577\, United States
CATEGORIES:Family Events
ATTACH;FMTTYPE=image/png:https://marketcommonmb.com/wp-content/uploads/2025/06/Myrtle-Beach-Area-Ghosts-Pirates-and-Historic-Families-Trolley-Tour-graphic.png
END:VEVENT
BEGIN:VEVENT
DTSTART;TZID=America/New_York:20260326T103000
DTEND;TZID=America/New_York:20260328T220000
DTSTAMP:20260423T200228
CREATED:20260203T134226Z
LAST-MODIFIED:20260203T134226Z
UID:10025053-1774521000-1774735200@marketcommonmb.com
SUMMARY:All Day Specials - Gordon Biersch
DESCRIPTION:Enjoy these all day drink specials on Tuesday\, Wednesday\, and Thursday only at Gordon Biersch!
URL:https://marketcommonmb.com/event/all-day-specials-gordon-biersch/2026-03-26/
LOCATION:SC
CATEGORIES:Drink Specials
ATTACH;FMTTYPE=image/jpeg:https://marketcommonmb.com/wp-content/uploads/2026/02/GB-Specials.jpeg
END:VEVENT
BEGIN:VEVENT
DTSTART;TZID=America/New_York:20260326T160000
DTEND;TZID=America/New_York:20260326T190000
DTSTAMP:20260423T200228
CREATED:20240802T151420Z
LAST-MODIFIED:20240802T151547Z
UID:10011626-1774540800-1774551600@marketcommonmb.com
SUMMARY:1/2 Off Select Makimono Rolls
DESCRIPTION:Enjoy 1/2 off select Makimono Rolls Tuesdays and Thursdays at CO Sushi.
URL:https://marketcommonmb.com/event/1-2-off-select-makimono-rolls/2026-03-26/
LOCATION:CO Sushi\, 3098 Deville Street\, Myrtle Beach\, SC\, 29577\, United States
CATEGORIES:Food Specials,Specials
ATTACH;FMTTYPE=image/png:https://marketcommonmb.com/wp-content/uploads/2024/08/CO-HH.png
END:VEVENT
BEGIN:VEVENT
DTSTART;TZID=America/New_York:20260326T173000
DTEND;TZID=America/New_York:20260326T203000
DTSTAMP:20260423T200228
CREATED:20260325T135402Z
LAST-MODIFIED:20260325T135402Z
UID:10027391-1774546200-1774557000@marketcommonmb.com
SUMMARY:Wayne Cockfield Jazz Night - Gio's Napoletana
DESCRIPTION:It’s Jazz Night! Enjoy live music by Wayne Cockfield at Gio’s Napoletana from 5:30 – 8:30PM.
URL:https://marketcommonmb.com/event/wayne-cockfield-jazz-night-gios-napoletana/
LOCATION:Gios Pizzeria Napoletana\, 4003 Deville Street\, Myrtle Beach\, 29577\, United States
CATEGORIES:Music Events
END:VEVENT
BEGIN:VEVENT
DTSTART;TZID=America/New_York:20260326T180000
DTEND;TZID=America/New_York:20260326T193000
DTSTAMP:20260423T200228
CREATED:20260313T132752Z
LAST-MODIFIED:20260313T132753Z
UID:10027388-1774548000-1774553400@marketcommonmb.com
SUMMARY:Crystal Energy 102 - Discernment & Direction
DESCRIPTION:Who is ready for the next level?\nTime to tap into our discernment and learn ways to open ourselves to new capabilities!\nIn this class\, you’ll learn how to work with a pendulum as a tool for intuitive clarity — not to give your power away\, but to strengthen your ability to trust your own yes\, no\, and timing. We’ll explore how to use discernment when choosing crystals\, making decisions\, and navigating energetic overwhelm.\nEach student will receive a pendulum intentionally chosen for them\, along with guided instruction\, live practice\, and real-time support.This class is ideal for those who want to move beyond meanings and start developing a personal\, grounded relationship with intuition and energy.\nYou’ll learn:· How pendulum work actually functions energetically· How to establish clear yes / no responses· When (and when not) to ask questions· How to use discernment when choosing crystals· How to recognize intuition vs anxiety or desire\nYou’ll leave with:· A personal pendulum\, intuitively picked and charged by me· Greater confidence in your intuitive decision-making· Tools to move forward with clarity and direction\nNo prior pendulum experience required. Crystal Energy 101 is helpful but not required.$111\, intentionally limited seating. Max 7
URL:https://marketcommonmb.com/event/crystal-energy-102-discernment-direction/
LOCATION:Monkey Lala Minerals\, 3064 Deville St\, Myrtle beach\, SC\, 29577\, United States
CATEGORIES:Specials,Wellness
ATTACH;FMTTYPE=image/jpeg:https://marketcommonmb.com/wp-content/uploads/2026/03/Crystal-Necklaces.jpg
END:VEVENT
END:VCALENDAR