BEGIN:VCALENDAR
VERSION:2.0
PRODID:-//The Market Common Myrtle Beach - ECPv6.15.12.2//NONSGML v1.0//EN
CALSCALE:GREGORIAN
METHOD:PUBLISH
X-WR-CALNAME:The Market Common Myrtle Beach
X-ORIGINAL-URL:https://marketcommonmb.com
X-WR-CALDESC:Events for The Market Common Myrtle Beach
REFRESH-INTERVAL;VALUE=DURATION:PT1H
X-Robots-Tag:noindex
X-PUBLISHED-TTL:PT1H
BEGIN:VTIMEZONE
TZID:America/New_York
BEGIN:DAYLIGHT
TZOFFSETFROM:-0500
TZOFFSETTO:-0400
TZNAME:EDT
DTSTART:20250309T070000
END:DAYLIGHT
BEGIN:STANDARD
TZOFFSETFROM:-0400
TZOFFSETTO:-0500
TZNAME:EST
DTSTART:20251102T060000
END:STANDARD
BEGIN:DAYLIGHT
TZOFFSETFROM:-0500
TZOFFSETTO:-0400
TZNAME:EDT
DTSTART:20260308T070000
END:DAYLIGHT
BEGIN:STANDARD
TZOFFSETFROM:-0400
TZOFFSETTO:-0500
TZNAME:EST
DTSTART:20261101T060000
END:STANDARD
BEGIN:DAYLIGHT
TZOFFSETFROM:-0500
TZOFFSETTO:-0400
TZNAME:EDT
DTSTART:20270314T070000
END:DAYLIGHT
BEGIN:STANDARD
TZOFFSETFROM:-0400
TZOFFSETTO:-0500
TZNAME:EST
DTSTART:20271107T060000
END:STANDARD
END:VTIMEZONE
BEGIN:VEVENT
DTSTART;TZID=America/New_York:20260619T180000
DTEND;TZID=America/New_York:20260619T200000
DTSTAMP:20260419T073940
CREATED:20260417T125733Z
LAST-MODIFIED:20260417T125736Z
UID:10027512-1781892000-1781899200@marketcommonmb.com
SUMMARY:Summer Sunset Sessions - Market Common Concert Series
DESCRIPTION:Join us for Summer Sunset Sessions on June 19th\, July 17th\, and August 21st from 6-8PM. For more events details\, visit https://marketcommonmb.com/summer-sunset-sessions-market-common-concert-series/ 
URL:https://marketcommonmb.com/event/summer-sunset-sessions-market-common-concert-series/2026-06-19/
CATEGORIES:Dance,Family Events,Music Events,Social Events
ATTACH;FMTTYPE=image/png:https://marketcommonmb.com/wp-content/uploads/2026/04/Sunset-Sessions.png
END:VEVENT
BEGIN:VEVENT
DTSTART;TZID=America/New_York:20260717T180000
DTEND;TZID=America/New_York:20260717T200000
DTSTAMP:20260419T073940
CREATED:20260417T125733Z
LAST-MODIFIED:20260417T125736Z
UID:10027513-1784311200-1784318400@marketcommonmb.com
SUMMARY:Summer Sunset Sessions - Market Common Concert Series
DESCRIPTION:Join us for Summer Sunset Sessions on June 19th\, July 17th\, and August 21st from 6-8PM. For more events details\, visit https://marketcommonmb.com/summer-sunset-sessions-market-common-concert-series/ 
URL:https://marketcommonmb.com/event/summer-sunset-sessions-market-common-concert-series/2026-07-17/
CATEGORIES:Dance,Family Events,Music Events,Social Events
ATTACH;FMTTYPE=image/png:https://marketcommonmb.com/wp-content/uploads/2026/04/Sunset-Sessions.png
END:VEVENT
BEGIN:VEVENT
DTSTART;TZID=America/New_York:20260821T180000
DTEND;TZID=America/New_York:20260821T200000
DTSTAMP:20260419T073940
CREATED:20260417T125733Z
LAST-MODIFIED:20260417T125736Z
UID:10027514-1787335200-1787342400@marketcommonmb.com
SUMMARY:Summer Sunset Sessions - Market Common Concert Series
DESCRIPTION:Join us for Summer Sunset Sessions on June 19th\, July 17th\, and August 21st from 6-8PM. For more events details\, visit https://marketcommonmb.com/summer-sunset-sessions-market-common-concert-series/ 
URL:https://marketcommonmb.com/event/summer-sunset-sessions-market-common-concert-series/2026-08-21/
CATEGORIES:Dance,Family Events,Music Events,Social Events
ATTACH;FMTTYPE=image/png:https://marketcommonmb.com/wp-content/uploads/2026/04/Sunset-Sessions.png
END:VEVENT
END:VCALENDAR