BEGIN:VCALENDAR
VERSION:2.0
PRODID:-//The Market Common Myrtle Beach - ECPv6.15.12.2//NONSGML v1.0//EN
CALSCALE:GREGORIAN
METHOD:PUBLISH
X-WR-CALNAME:The Market Common Myrtle Beach
X-ORIGINAL-URL:https://marketcommonmb.com
X-WR-CALDESC:Events for The Market Common Myrtle Beach
REFRESH-INTERVAL;VALUE=DURATION:PT1H
X-Robots-Tag:noindex
X-PUBLISHED-TTL:PT1H
BEGIN:VTIMEZONE
TZID:America/New_York
BEGIN:DAYLIGHT
TZOFFSETFROM:-0500
TZOFFSETTO:-0400
TZNAME:EDT
DTSTART:20230312T070000
END:DAYLIGHT
BEGIN:STANDARD
TZOFFSETFROM:-0400
TZOFFSETTO:-0500
TZNAME:EST
DTSTART:20231105T060000
END:STANDARD
BEGIN:DAYLIGHT
TZOFFSETFROM:-0500
TZOFFSETTO:-0400
TZNAME:EDT
DTSTART:20240310T070000
END:DAYLIGHT
BEGIN:STANDARD
TZOFFSETFROM:-0400
TZOFFSETTO:-0500
TZNAME:EST
DTSTART:20241103T060000
END:STANDARD
BEGIN:DAYLIGHT
TZOFFSETFROM:-0500
TZOFFSETTO:-0400
TZNAME:EDT
DTSTART:20250309T070000
END:DAYLIGHT
BEGIN:STANDARD
TZOFFSETFROM:-0400
TZOFFSETTO:-0500
TZNAME:EST
DTSTART:20251102T060000
END:STANDARD
BEGIN:DAYLIGHT
TZOFFSETFROM:-0500
TZOFFSETTO:-0400
TZNAME:EDT
DTSTART:20260308T070000
END:DAYLIGHT
BEGIN:STANDARD
TZOFFSETFROM:-0400
TZOFFSETTO:-0500
TZNAME:EST
DTSTART:20261101T060000
END:STANDARD
END:VTIMEZONE
BEGIN:VEVENT
DTSTART;TZID=America/New_York:20250204T160000
DTEND;TZID=America/New_York:20250204T190000
DTSTAMP:20260419T090253
CREATED:20240802T151420Z
LAST-MODIFIED:20240802T151547Z
UID:10011507-1738684800-1738695600@marketcommonmb.com
SUMMARY:1/2 Off Select Makimono Rolls
DESCRIPTION:Enjoy 1/2 off select Makimono Rolls Tuesdays and Thursdays at CO Sushi.
URL:https://marketcommonmb.com/event/1-2-off-select-makimono-rolls/2025-02-04/
LOCATION:CO Sushi\, 3098 Deville Street\, Myrtle Beach\, SC\, 29577\, United States
CATEGORIES:Food Specials,Specials
ATTACH;FMTTYPE=image/png:https://marketcommonmb.com/wp-content/uploads/2024/08/CO-HH.png
END:VEVENT
BEGIN:VEVENT
DTSTART;TZID=America/New_York:20250130T160000
DTEND;TZID=America/New_York:20250130T190000
DTSTAMP:20260419T090253
CREATED:20240802T151420Z
LAST-MODIFIED:20240802T151547Z
UID:10011506-1738252800-1738263600@marketcommonmb.com
SUMMARY:1/2 Off Select Makimono Rolls
DESCRIPTION:Enjoy 1/2 off select Makimono Rolls Tuesdays and Thursdays at CO Sushi.
URL:https://marketcommonmb.com/event/1-2-off-select-makimono-rolls/2025-01-30/
LOCATION:CO Sushi\, 3098 Deville Street\, Myrtle Beach\, SC\, 29577\, United States
CATEGORIES:Food Specials,Specials
ATTACH;FMTTYPE=image/png:https://marketcommonmb.com/wp-content/uploads/2024/08/CO-HH.png
END:VEVENT
BEGIN:VEVENT
DTSTART;TZID=America/New_York:20250128T160000
DTEND;TZID=America/New_York:20250128T190000
DTSTAMP:20260419T090253
CREATED:20240802T151420Z
LAST-MODIFIED:20240802T151547Z
UID:10011505-1738080000-1738090800@marketcommonmb.com
SUMMARY:1/2 Off Select Makimono Rolls
DESCRIPTION:Enjoy 1/2 off select Makimono Rolls Tuesdays and Thursdays at CO Sushi.
URL:https://marketcommonmb.com/event/1-2-off-select-makimono-rolls/2025-01-28/
LOCATION:CO Sushi\, 3098 Deville Street\, Myrtle Beach\, SC\, 29577\, United States
CATEGORIES:Food Specials,Specials
ATTACH;FMTTYPE=image/png:https://marketcommonmb.com/wp-content/uploads/2024/08/CO-HH.png
END:VEVENT
BEGIN:VEVENT
DTSTART;TZID=America/New_York:20250123T160000
DTEND;TZID=America/New_York:20250123T190000
DTSTAMP:20260419T090253
CREATED:20240802T151420Z
LAST-MODIFIED:20240802T151547Z
UID:10011504-1737648000-1737658800@marketcommonmb.com
SUMMARY:1/2 Off Select Makimono Rolls
DESCRIPTION:Enjoy 1/2 off select Makimono Rolls Tuesdays and Thursdays at CO Sushi.
URL:https://marketcommonmb.com/event/1-2-off-select-makimono-rolls/2025-01-23/
LOCATION:CO Sushi\, 3098 Deville Street\, Myrtle Beach\, SC\, 29577\, United States
CATEGORIES:Food Specials,Specials
ATTACH;FMTTYPE=image/png:https://marketcommonmb.com/wp-content/uploads/2024/08/CO-HH.png
END:VEVENT
BEGIN:VEVENT
DTSTART;TZID=America/New_York:20250121T160000
DTEND;TZID=America/New_York:20250121T190000
DTSTAMP:20260419T090253
CREATED:20240802T151420Z
LAST-MODIFIED:20240802T151547Z
UID:10011503-1737475200-1737486000@marketcommonmb.com
SUMMARY:1/2 Off Select Makimono Rolls
DESCRIPTION:Enjoy 1/2 off select Makimono Rolls Tuesdays and Thursdays at CO Sushi.
URL:https://marketcommonmb.com/event/1-2-off-select-makimono-rolls/2025-01-21/
LOCATION:CO Sushi\, 3098 Deville Street\, Myrtle Beach\, SC\, 29577\, United States
CATEGORIES:Food Specials,Specials
ATTACH;FMTTYPE=image/png:https://marketcommonmb.com/wp-content/uploads/2024/08/CO-HH.png
END:VEVENT
BEGIN:VEVENT
DTSTART;TZID=America/New_York:20250116T160000
DTEND;TZID=America/New_York:20250116T190000
DTSTAMP:20260419T090253
CREATED:20240802T151420Z
LAST-MODIFIED:20240802T151547Z
UID:10011502-1737043200-1737054000@marketcommonmb.com
SUMMARY:1/2 Off Select Makimono Rolls
DESCRIPTION:Enjoy 1/2 off select Makimono Rolls Tuesdays and Thursdays at CO Sushi.
URL:https://marketcommonmb.com/event/1-2-off-select-makimono-rolls/2025-01-16/
LOCATION:CO Sushi\, 3098 Deville Street\, Myrtle Beach\, SC\, 29577\, United States
CATEGORIES:Food Specials,Specials
ATTACH;FMTTYPE=image/png:https://marketcommonmb.com/wp-content/uploads/2024/08/CO-HH.png
END:VEVENT
BEGIN:VEVENT
DTSTART;TZID=America/New_York:20250114T160000
DTEND;TZID=America/New_York:20250114T190000
DTSTAMP:20260419T090253
CREATED:20240802T151420Z
LAST-MODIFIED:20240802T151547Z
UID:10011501-1736870400-1736881200@marketcommonmb.com
SUMMARY:1/2 Off Select Makimono Rolls
DESCRIPTION:Enjoy 1/2 off select Makimono Rolls Tuesdays and Thursdays at CO Sushi.
URL:https://marketcommonmb.com/event/1-2-off-select-makimono-rolls/2025-01-14/
LOCATION:CO Sushi\, 3098 Deville Street\, Myrtle Beach\, SC\, 29577\, United States
CATEGORIES:Food Specials,Specials
ATTACH;FMTTYPE=image/png:https://marketcommonmb.com/wp-content/uploads/2024/08/CO-HH.png
END:VEVENT
BEGIN:VEVENT
DTSTART;TZID=America/New_York:20250109T160000
DTEND;TZID=America/New_York:20250109T190000
DTSTAMP:20260419T090253
CREATED:20240802T151420Z
LAST-MODIFIED:20240802T151547Z
UID:10011500-1736438400-1736449200@marketcommonmb.com
SUMMARY:1/2 Off Select Makimono Rolls
DESCRIPTION:Enjoy 1/2 off select Makimono Rolls Tuesdays and Thursdays at CO Sushi.
URL:https://marketcommonmb.com/event/1-2-off-select-makimono-rolls/2025-01-09/
LOCATION:CO Sushi\, 3098 Deville Street\, Myrtle Beach\, SC\, 29577\, United States
CATEGORIES:Food Specials,Specials
ATTACH;FMTTYPE=image/png:https://marketcommonmb.com/wp-content/uploads/2024/08/CO-HH.png
END:VEVENT
BEGIN:VEVENT
DTSTART;TZID=America/New_York:20250107T160000
DTEND;TZID=America/New_York:20250107T190000
DTSTAMP:20260419T090253
CREATED:20240802T151420Z
LAST-MODIFIED:20240802T151547Z
UID:10011499-1736265600-1736276400@marketcommonmb.com
SUMMARY:1/2 Off Select Makimono Rolls
DESCRIPTION:Enjoy 1/2 off select Makimono Rolls Tuesdays and Thursdays at CO Sushi.
URL:https://marketcommonmb.com/event/1-2-off-select-makimono-rolls/2025-01-07/
LOCATION:CO Sushi\, 3098 Deville Street\, Myrtle Beach\, SC\, 29577\, United States
CATEGORIES:Food Specials,Specials
ATTACH;FMTTYPE=image/png:https://marketcommonmb.com/wp-content/uploads/2024/08/CO-HH.png
END:VEVENT
BEGIN:VEVENT
DTSTART;TZID=America/New_York:20250102T160000
DTEND;TZID=America/New_York:20250102T190000
DTSTAMP:20260419T090253
CREATED:20240802T151420Z
LAST-MODIFIED:20240802T151547Z
UID:10011498-1735833600-1735844400@marketcommonmb.com
SUMMARY:1/2 Off Select Makimono Rolls
DESCRIPTION:Enjoy 1/2 off select Makimono Rolls Tuesdays and Thursdays at CO Sushi.
URL:https://marketcommonmb.com/event/1-2-off-select-makimono-rolls/2025-01-02/
LOCATION:CO Sushi\, 3098 Deville Street\, Myrtle Beach\, SC\, 29577\, United States
CATEGORIES:Food Specials,Specials
ATTACH;FMTTYPE=image/png:https://marketcommonmb.com/wp-content/uploads/2024/08/CO-HH.png
END:VEVENT
BEGIN:VEVENT
DTSTART;TZID=America/New_York:20241231T160000
DTEND;TZID=America/New_York:20241231T190000
DTSTAMP:20260419T090253
CREATED:20240802T151420Z
LAST-MODIFIED:20240802T151547Z
UID:10011497-1735660800-1735671600@marketcommonmb.com
SUMMARY:1/2 Off Select Makimono Rolls
DESCRIPTION:Enjoy 1/2 off select Makimono Rolls Tuesdays and Thursdays at CO Sushi.
URL:https://marketcommonmb.com/event/1-2-off-select-makimono-rolls/2024-12-31/
LOCATION:CO Sushi\, 3098 Deville Street\, Myrtle Beach\, SC\, 29577\, United States
CATEGORIES:Food Specials,Specials
ATTACH;FMTTYPE=image/png:https://marketcommonmb.com/wp-content/uploads/2024/08/CO-HH.png
END:VEVENT
BEGIN:VEVENT
DTSTART;TZID=America/New_York:20241226T160000
DTEND;TZID=America/New_York:20241226T190000
DTSTAMP:20260419T090253
CREATED:20240802T151420Z
LAST-MODIFIED:20240802T151547Z
UID:10011496-1735228800-1735239600@marketcommonmb.com
SUMMARY:1/2 Off Select Makimono Rolls
DESCRIPTION:Enjoy 1/2 off select Makimono Rolls Tuesdays and Thursdays at CO Sushi.
URL:https://marketcommonmb.com/event/1-2-off-select-makimono-rolls/2024-12-26/
LOCATION:CO Sushi\, 3098 Deville Street\, Myrtle Beach\, SC\, 29577\, United States
CATEGORIES:Food Specials,Specials
ATTACH;FMTTYPE=image/png:https://marketcommonmb.com/wp-content/uploads/2024/08/CO-HH.png
END:VEVENT
BEGIN:VEVENT
DTSTART;TZID=America/New_York:20241224T160000
DTEND;TZID=America/New_York:20241224T190000
DTSTAMP:20260419T090253
CREATED:20240802T151420Z
LAST-MODIFIED:20240802T151547Z
UID:10011495-1735056000-1735066800@marketcommonmb.com
SUMMARY:1/2 Off Select Makimono Rolls
DESCRIPTION:Enjoy 1/2 off select Makimono Rolls Tuesdays and Thursdays at CO Sushi.
URL:https://marketcommonmb.com/event/1-2-off-select-makimono-rolls/2024-12-24/
LOCATION:CO Sushi\, 3098 Deville Street\, Myrtle Beach\, SC\, 29577\, United States
CATEGORIES:Food Specials,Specials
ATTACH;FMTTYPE=image/png:https://marketcommonmb.com/wp-content/uploads/2024/08/CO-HH.png
END:VEVENT
BEGIN:VEVENT
DTSTART;TZID=America/New_York:20241219T160000
DTEND;TZID=America/New_York:20241219T190000
DTSTAMP:20260419T090253
CREATED:20240802T151420Z
LAST-MODIFIED:20240802T151547Z
UID:10011494-1734624000-1734634800@marketcommonmb.com
SUMMARY:1/2 Off Select Makimono Rolls
DESCRIPTION:Enjoy 1/2 off select Makimono Rolls Tuesdays and Thursdays at CO Sushi.
URL:https://marketcommonmb.com/event/1-2-off-select-makimono-rolls/2024-12-19/
LOCATION:CO Sushi\, 3098 Deville Street\, Myrtle Beach\, SC\, 29577\, United States
CATEGORIES:Food Specials,Specials
ATTACH;FMTTYPE=image/png:https://marketcommonmb.com/wp-content/uploads/2024/08/CO-HH.png
END:VEVENT
BEGIN:VEVENT
DTSTART;TZID=America/New_York:20241217T160000
DTEND;TZID=America/New_York:20241217T190000
DTSTAMP:20260419T090253
CREATED:20240802T151420Z
LAST-MODIFIED:20240802T151547Z
UID:10011493-1734451200-1734462000@marketcommonmb.com
SUMMARY:1/2 Off Select Makimono Rolls
DESCRIPTION:Enjoy 1/2 off select Makimono Rolls Tuesdays and Thursdays at CO Sushi.
URL:https://marketcommonmb.com/event/1-2-off-select-makimono-rolls/2024-12-17/
LOCATION:CO Sushi\, 3098 Deville Street\, Myrtle Beach\, SC\, 29577\, United States
CATEGORIES:Food Specials,Specials
ATTACH;FMTTYPE=image/png:https://marketcommonmb.com/wp-content/uploads/2024/08/CO-HH.png
END:VEVENT
BEGIN:VEVENT
DTSTART;TZID=America/New_York:20241212T160000
DTEND;TZID=America/New_York:20241212T190000
DTSTAMP:20260419T090253
CREATED:20240802T151420Z
LAST-MODIFIED:20240802T151547Z
UID:10011492-1734019200-1734030000@marketcommonmb.com
SUMMARY:1/2 Off Select Makimono Rolls
DESCRIPTION:Enjoy 1/2 off select Makimono Rolls Tuesdays and Thursdays at CO Sushi.
URL:https://marketcommonmb.com/event/1-2-off-select-makimono-rolls/2024-12-12/
LOCATION:CO Sushi\, 3098 Deville Street\, Myrtle Beach\, SC\, 29577\, United States
CATEGORIES:Food Specials,Specials
ATTACH;FMTTYPE=image/png:https://marketcommonmb.com/wp-content/uploads/2024/08/CO-HH.png
END:VEVENT
BEGIN:VEVENT
DTSTART;TZID=America/New_York:20241210T160000
DTEND;TZID=America/New_York:20241210T190000
DTSTAMP:20260419T090253
CREATED:20240802T151420Z
LAST-MODIFIED:20240802T151547Z
UID:10011491-1733846400-1733857200@marketcommonmb.com
SUMMARY:1/2 Off Select Makimono Rolls
DESCRIPTION:Enjoy 1/2 off select Makimono Rolls Tuesdays and Thursdays at CO Sushi.
URL:https://marketcommonmb.com/event/1-2-off-select-makimono-rolls/2024-12-10/
LOCATION:CO Sushi\, 3098 Deville Street\, Myrtle Beach\, SC\, 29577\, United States
CATEGORIES:Food Specials,Specials
ATTACH;FMTTYPE=image/png:https://marketcommonmb.com/wp-content/uploads/2024/08/CO-HH.png
END:VEVENT
BEGIN:VEVENT
DTSTART;TZID=America/New_York:20241205T160000
DTEND;TZID=America/New_York:20241205T190000
DTSTAMP:20260419T090253
CREATED:20240802T151420Z
LAST-MODIFIED:20240802T151547Z
UID:10011490-1733414400-1733425200@marketcommonmb.com
SUMMARY:1/2 Off Select Makimono Rolls
DESCRIPTION:Enjoy 1/2 off select Makimono Rolls Tuesdays and Thursdays at CO Sushi.
URL:https://marketcommonmb.com/event/1-2-off-select-makimono-rolls/2024-12-05/
LOCATION:CO Sushi\, 3098 Deville Street\, Myrtle Beach\, SC\, 29577\, United States
CATEGORIES:Food Specials,Specials
ATTACH;FMTTYPE=image/png:https://marketcommonmb.com/wp-content/uploads/2024/08/CO-HH.png
END:VEVENT
BEGIN:VEVENT
DTSTART;TZID=America/New_York:20241203T160000
DTEND;TZID=America/New_York:20241203T190000
DTSTAMP:20260419T090253
CREATED:20240802T151420Z
LAST-MODIFIED:20240802T151547Z
UID:10011489-1733241600-1733252400@marketcommonmb.com
SUMMARY:1/2 Off Select Makimono Rolls
DESCRIPTION:Enjoy 1/2 off select Makimono Rolls Tuesdays and Thursdays at CO Sushi.
URL:https://marketcommonmb.com/event/1-2-off-select-makimono-rolls/2024-12-03/
LOCATION:CO Sushi\, 3098 Deville Street\, Myrtle Beach\, SC\, 29577\, United States
CATEGORIES:Food Specials,Specials
ATTACH;FMTTYPE=image/png:https://marketcommonmb.com/wp-content/uploads/2024/08/CO-HH.png
END:VEVENT
BEGIN:VEVENT
DTSTART;TZID=America/New_York:20241128T160000
DTEND;TZID=America/New_York:20241128T190000
DTSTAMP:20260419T090253
CREATED:20240802T151420Z
LAST-MODIFIED:20240802T151547Z
UID:10011488-1732809600-1732820400@marketcommonmb.com
SUMMARY:1/2 Off Select Makimono Rolls
DESCRIPTION:Enjoy 1/2 off select Makimono Rolls Tuesdays and Thursdays at CO Sushi.
URL:https://marketcommonmb.com/event/1-2-off-select-makimono-rolls/2024-11-28/
LOCATION:CO Sushi\, 3098 Deville Street\, Myrtle Beach\, SC\, 29577\, United States
CATEGORIES:Food Specials,Specials
ATTACH;FMTTYPE=image/png:https://marketcommonmb.com/wp-content/uploads/2024/08/CO-HH.png
END:VEVENT
BEGIN:VEVENT
DTSTART;TZID=America/New_York:20241126T160000
DTEND;TZID=America/New_York:20241126T190000
DTSTAMP:20260419T090253
CREATED:20240802T151420Z
LAST-MODIFIED:20240802T151547Z
UID:10011487-1732636800-1732647600@marketcommonmb.com
SUMMARY:1/2 Off Select Makimono Rolls
DESCRIPTION:Enjoy 1/2 off select Makimono Rolls Tuesdays and Thursdays at CO Sushi.
URL:https://marketcommonmb.com/event/1-2-off-select-makimono-rolls/2024-11-26/
LOCATION:CO Sushi\, 3098 Deville Street\, Myrtle Beach\, SC\, 29577\, United States
CATEGORIES:Food Specials,Specials
ATTACH;FMTTYPE=image/png:https://marketcommonmb.com/wp-content/uploads/2024/08/CO-HH.png
END:VEVENT
BEGIN:VEVENT
DTSTART;TZID=America/New_York:20241121T160000
DTEND;TZID=America/New_York:20241121T190000
DTSTAMP:20260419T090253
CREATED:20240802T151420Z
LAST-MODIFIED:20240802T151547Z
UID:10011486-1732204800-1732215600@marketcommonmb.com
SUMMARY:1/2 Off Select Makimono Rolls
DESCRIPTION:Enjoy 1/2 off select Makimono Rolls Tuesdays and Thursdays at CO Sushi.
URL:https://marketcommonmb.com/event/1-2-off-select-makimono-rolls/2024-11-21/
LOCATION:CO Sushi\, 3098 Deville Street\, Myrtle Beach\, SC\, 29577\, United States
CATEGORIES:Food Specials,Specials
ATTACH;FMTTYPE=image/png:https://marketcommonmb.com/wp-content/uploads/2024/08/CO-HH.png
END:VEVENT
BEGIN:VEVENT
DTSTART;TZID=America/New_York:20241119T160000
DTEND;TZID=America/New_York:20241119T190000
DTSTAMP:20260419T090253
CREATED:20240802T151420Z
LAST-MODIFIED:20240802T151547Z
UID:10011485-1732032000-1732042800@marketcommonmb.com
SUMMARY:1/2 Off Select Makimono Rolls
DESCRIPTION:Enjoy 1/2 off select Makimono Rolls Tuesdays and Thursdays at CO Sushi.
URL:https://marketcommonmb.com/event/1-2-off-select-makimono-rolls/2024-11-19/
LOCATION:CO Sushi\, 3098 Deville Street\, Myrtle Beach\, SC\, 29577\, United States
CATEGORIES:Food Specials,Specials
ATTACH;FMTTYPE=image/png:https://marketcommonmb.com/wp-content/uploads/2024/08/CO-HH.png
END:VEVENT
BEGIN:VEVENT
DTSTART;TZID=America/New_York:20241114T160000
DTEND;TZID=America/New_York:20241114T190000
DTSTAMP:20260419T090253
CREATED:20240802T151420Z
LAST-MODIFIED:20240802T151547Z
UID:10011484-1731600000-1731610800@marketcommonmb.com
SUMMARY:1/2 Off Select Makimono Rolls
DESCRIPTION:Enjoy 1/2 off select Makimono Rolls Tuesdays and Thursdays at CO Sushi.
URL:https://marketcommonmb.com/event/1-2-off-select-makimono-rolls/2024-11-14/
LOCATION:CO Sushi\, 3098 Deville Street\, Myrtle Beach\, SC\, 29577\, United States
CATEGORIES:Food Specials,Specials
ATTACH;FMTTYPE=image/png:https://marketcommonmb.com/wp-content/uploads/2024/08/CO-HH.png
END:VEVENT
BEGIN:VEVENT
DTSTART;TZID=America/New_York:20241112T160000
DTEND;TZID=America/New_York:20241112T190000
DTSTAMP:20260419T090253
CREATED:20240802T151420Z
LAST-MODIFIED:20240802T151547Z
UID:10011483-1731427200-1731438000@marketcommonmb.com
SUMMARY:1/2 Off Select Makimono Rolls
DESCRIPTION:Enjoy 1/2 off select Makimono Rolls Tuesdays and Thursdays at CO Sushi.
URL:https://marketcommonmb.com/event/1-2-off-select-makimono-rolls/2024-11-12/
LOCATION:CO Sushi\, 3098 Deville Street\, Myrtle Beach\, SC\, 29577\, United States
CATEGORIES:Food Specials,Specials
ATTACH;FMTTYPE=image/png:https://marketcommonmb.com/wp-content/uploads/2024/08/CO-HH.png
END:VEVENT
BEGIN:VEVENT
DTSTART;TZID=America/New_York:20241107T160000
DTEND;TZID=America/New_York:20241107T190000
DTSTAMP:20260419T090253
CREATED:20240802T151420Z
LAST-MODIFIED:20240802T151547Z
UID:10011482-1730995200-1731006000@marketcommonmb.com
SUMMARY:1/2 Off Select Makimono Rolls
DESCRIPTION:Enjoy 1/2 off select Makimono Rolls Tuesdays and Thursdays at CO Sushi.
URL:https://marketcommonmb.com/event/1-2-off-select-makimono-rolls/2024-11-07/
LOCATION:CO Sushi\, 3098 Deville Street\, Myrtle Beach\, SC\, 29577\, United States
CATEGORIES:Food Specials,Specials
ATTACH;FMTTYPE=image/png:https://marketcommonmb.com/wp-content/uploads/2024/08/CO-HH.png
END:VEVENT
BEGIN:VEVENT
DTSTART;TZID=America/New_York:20241105T160000
DTEND;TZID=America/New_York:20241105T190000
DTSTAMP:20260419T090253
CREATED:20240802T151420Z
LAST-MODIFIED:20240802T151547Z
UID:10011481-1730822400-1730833200@marketcommonmb.com
SUMMARY:1/2 Off Select Makimono Rolls
DESCRIPTION:Enjoy 1/2 off select Makimono Rolls Tuesdays and Thursdays at CO Sushi.
URL:https://marketcommonmb.com/event/1-2-off-select-makimono-rolls/2024-11-05/
LOCATION:CO Sushi\, 3098 Deville Street\, Myrtle Beach\, SC\, 29577\, United States
CATEGORIES:Food Specials,Specials
ATTACH;FMTTYPE=image/png:https://marketcommonmb.com/wp-content/uploads/2024/08/CO-HH.png
END:VEVENT
BEGIN:VEVENT
DTSTART;TZID=America/New_York:20241031T160000
DTEND;TZID=America/New_York:20241031T190000
DTSTAMP:20260419T090253
CREATED:20240802T151420Z
LAST-MODIFIED:20240802T151547Z
UID:10011480-1730390400-1730401200@marketcommonmb.com
SUMMARY:1/2 Off Select Makimono Rolls
DESCRIPTION:Enjoy 1/2 off select Makimono Rolls Tuesdays and Thursdays at CO Sushi.
URL:https://marketcommonmb.com/event/1-2-off-select-makimono-rolls/2024-10-31/
LOCATION:CO Sushi\, 3098 Deville Street\, Myrtle Beach\, SC\, 29577\, United States
CATEGORIES:Food Specials,Specials
ATTACH;FMTTYPE=image/png:https://marketcommonmb.com/wp-content/uploads/2024/08/CO-HH.png
END:VEVENT
BEGIN:VEVENT
DTSTART;TZID=America/New_York:20241029T160000
DTEND;TZID=America/New_York:20241029T190000
DTSTAMP:20260419T090253
CREATED:20240802T151420Z
LAST-MODIFIED:20240802T151547Z
UID:10011479-1730217600-1730228400@marketcommonmb.com
SUMMARY:1/2 Off Select Makimono Rolls
DESCRIPTION:Enjoy 1/2 off select Makimono Rolls Tuesdays and Thursdays at CO Sushi.
URL:https://marketcommonmb.com/event/1-2-off-select-makimono-rolls/2024-10-29/
LOCATION:CO Sushi\, 3098 Deville Street\, Myrtle Beach\, SC\, 29577\, United States
CATEGORIES:Food Specials,Specials
ATTACH;FMTTYPE=image/png:https://marketcommonmb.com/wp-content/uploads/2024/08/CO-HH.png
END:VEVENT
BEGIN:VEVENT
DTSTART;TZID=America/New_York:20241024T160000
DTEND;TZID=America/New_York:20241024T190000
DTSTAMP:20260419T090253
CREATED:20240802T151420Z
LAST-MODIFIED:20240802T151547Z
UID:10011478-1729785600-1729796400@marketcommonmb.com
SUMMARY:1/2 Off Select Makimono Rolls
DESCRIPTION:Enjoy 1/2 off select Makimono Rolls Tuesdays and Thursdays at CO Sushi.
URL:https://marketcommonmb.com/event/1-2-off-select-makimono-rolls/2024-10-24/
LOCATION:CO Sushi\, 3098 Deville Street\, Myrtle Beach\, SC\, 29577\, United States
CATEGORIES:Food Specials,Specials
ATTACH;FMTTYPE=image/png:https://marketcommonmb.com/wp-content/uploads/2024/08/CO-HH.png
END:VEVENT
END:VCALENDAR