BEGIN:VCALENDAR
VERSION:2.0
PRODID:-//The Market Common Myrtle Beach - ECPv6.15.12.2//NONSGML v1.0//EN
CALSCALE:GREGORIAN
METHOD:PUBLISH
X-WR-CALNAME:The Market Common Myrtle Beach
X-ORIGINAL-URL:https://marketcommonmb.com
X-WR-CALDESC:Events for The Market Common Myrtle Beach
REFRESH-INTERVAL;VALUE=DURATION:PT1H
X-Robots-Tag:noindex
X-PUBLISHED-TTL:PT1H
BEGIN:VTIMEZONE
TZID:America/New_York
BEGIN:DAYLIGHT
TZOFFSETFROM:-0500
TZOFFSETTO:-0400
TZNAME:EDT
DTSTART:20260308T070000
END:DAYLIGHT
BEGIN:STANDARD
TZOFFSETFROM:-0400
TZOFFSETTO:-0500
TZNAME:EST
DTSTART:20261101T060000
END:STANDARD
BEGIN:DAYLIGHT
TZOFFSETFROM:-0500
TZOFFSETTO:-0400
TZNAME:EDT
DTSTART:20270314T070000
END:DAYLIGHT
BEGIN:STANDARD
TZOFFSETFROM:-0400
TZOFFSETTO:-0500
TZNAME:EST
DTSTART:20271107T060000
END:STANDARD
BEGIN:DAYLIGHT
TZOFFSETFROM:-0500
TZOFFSETTO:-0400
TZNAME:EDT
DTSTART:20280312T070000
END:DAYLIGHT
BEGIN:STANDARD
TZOFFSETFROM:-0400
TZOFFSETTO:-0500
TZNAME:EST
DTSTART:20281105T060000
END:STANDARD
END:VTIMEZONE
BEGIN:VEVENT
DTSTART;TZID=America/New_York:20270412T190000
DTEND;TZID=America/New_York:20270412T210000
DTSTAMP:20260422T105909
CREATED:20260122T154936Z
LAST-MODIFIED:20260122T154938Z
UID:10024338-1807556400-1807563600@marketcommonmb.com
SUMMARY:Mystery Movie Monday - GTC Theaters
DESCRIPTION:Be the first to see a brand-new movie before it hits theaters — tickets are just $7.00! Past Mystery Movie Monday titles include Jurassic World Rebirth\, Eternity\, Song Sung Blue & Primate! You never know what you’ll get\, but you won’t want to miss it.
URL:https://marketcommonmb.com/event/mystery-movie-monday-gtc-theaters/2027-04-12/
LOCATION:GTC Theater\, 4002 Deville Street\, MYRTLE BEACH\, SC\, 29577-1640\, United States
CATEGORIES:Family Events,Movie Event
ATTACH;FMTTYPE=image/png:https://marketcommonmb.com/wp-content/uploads/2026/01/Screenshot-2026-01-22-104133.png
END:VEVENT
BEGIN:VEVENT
DTSTART;TZID=America/New_York:20270419T190000
DTEND;TZID=America/New_York:20270419T210000
DTSTAMP:20260422T105909
CREATED:20260122T154936Z
LAST-MODIFIED:20260122T154938Z
UID:10024339-1808161200-1808168400@marketcommonmb.com
SUMMARY:Mystery Movie Monday - GTC Theaters
DESCRIPTION:Be the first to see a brand-new movie before it hits theaters — tickets are just $7.00! Past Mystery Movie Monday titles include Jurassic World Rebirth\, Eternity\, Song Sung Blue & Primate! You never know what you’ll get\, but you won’t want to miss it.
URL:https://marketcommonmb.com/event/mystery-movie-monday-gtc-theaters/2027-04-19/
LOCATION:GTC Theater\, 4002 Deville Street\, MYRTLE BEACH\, SC\, 29577-1640\, United States
CATEGORIES:Family Events,Movie Event
ATTACH;FMTTYPE=image/png:https://marketcommonmb.com/wp-content/uploads/2026/01/Screenshot-2026-01-22-104133.png
END:VEVENT
BEGIN:VEVENT
DTSTART;TZID=America/New_York:20270426T190000
DTEND;TZID=America/New_York:20270426T210000
DTSTAMP:20260422T105909
CREATED:20260122T154936Z
LAST-MODIFIED:20260122T154938Z
UID:10024340-1808766000-1808773200@marketcommonmb.com
SUMMARY:Mystery Movie Monday - GTC Theaters
DESCRIPTION:Be the first to see a brand-new movie before it hits theaters — tickets are just $7.00! Past Mystery Movie Monday titles include Jurassic World Rebirth\, Eternity\, Song Sung Blue & Primate! You never know what you’ll get\, but you won’t want to miss it.
URL:https://marketcommonmb.com/event/mystery-movie-monday-gtc-theaters/2027-04-26/
LOCATION:GTC Theater\, 4002 Deville Street\, MYRTLE BEACH\, SC\, 29577-1640\, United States
CATEGORIES:Family Events,Movie Event
ATTACH;FMTTYPE=image/png:https://marketcommonmb.com/wp-content/uploads/2026/01/Screenshot-2026-01-22-104133.png
END:VEVENT
BEGIN:VEVENT
DTSTART;TZID=America/New_York:20270503T190000
DTEND;TZID=America/New_York:20270503T210000
DTSTAMP:20260422T105909
CREATED:20260122T154936Z
LAST-MODIFIED:20260122T154938Z
UID:10024341-1809370800-1809378000@marketcommonmb.com
SUMMARY:Mystery Movie Monday - GTC Theaters
DESCRIPTION:Be the first to see a brand-new movie before it hits theaters — tickets are just $7.00! Past Mystery Movie Monday titles include Jurassic World Rebirth\, Eternity\, Song Sung Blue & Primate! You never know what you’ll get\, but you won’t want to miss it.
URL:https://marketcommonmb.com/event/mystery-movie-monday-gtc-theaters/2027-05-03/
LOCATION:GTC Theater\, 4002 Deville Street\, MYRTLE BEACH\, SC\, 29577-1640\, United States
CATEGORIES:Family Events,Movie Event
ATTACH;FMTTYPE=image/png:https://marketcommonmb.com/wp-content/uploads/2026/01/Screenshot-2026-01-22-104133.png
END:VEVENT
BEGIN:VEVENT
DTSTART;TZID=America/New_York:20270510T190000
DTEND;TZID=America/New_York:20270510T210000
DTSTAMP:20260422T105909
CREATED:20260122T154936Z
LAST-MODIFIED:20260122T154938Z
UID:10024342-1809975600-1809982800@marketcommonmb.com
SUMMARY:Mystery Movie Monday - GTC Theaters
DESCRIPTION:Be the first to see a brand-new movie before it hits theaters — tickets are just $7.00! Past Mystery Movie Monday titles include Jurassic World Rebirth\, Eternity\, Song Sung Blue & Primate! You never know what you’ll get\, but you won’t want to miss it.
URL:https://marketcommonmb.com/event/mystery-movie-monday-gtc-theaters/2027-05-10/
LOCATION:GTC Theater\, 4002 Deville Street\, MYRTLE BEACH\, SC\, 29577-1640\, United States
CATEGORIES:Family Events,Movie Event
ATTACH;FMTTYPE=image/png:https://marketcommonmb.com/wp-content/uploads/2026/01/Screenshot-2026-01-22-104133.png
END:VEVENT
BEGIN:VEVENT
DTSTART;TZID=America/New_York:20270517T190000
DTEND;TZID=America/New_York:20270517T210000
DTSTAMP:20260422T105909
CREATED:20260122T154936Z
LAST-MODIFIED:20260122T154938Z
UID:10024343-1810580400-1810587600@marketcommonmb.com
SUMMARY:Mystery Movie Monday - GTC Theaters
DESCRIPTION:Be the first to see a brand-new movie before it hits theaters — tickets are just $7.00! Past Mystery Movie Monday titles include Jurassic World Rebirth\, Eternity\, Song Sung Blue & Primate! You never know what you’ll get\, but you won’t want to miss it.
URL:https://marketcommonmb.com/event/mystery-movie-monday-gtc-theaters/2027-05-17/
LOCATION:GTC Theater\, 4002 Deville Street\, MYRTLE BEACH\, SC\, 29577-1640\, United States
CATEGORIES:Family Events,Movie Event
ATTACH;FMTTYPE=image/png:https://marketcommonmb.com/wp-content/uploads/2026/01/Screenshot-2026-01-22-104133.png
END:VEVENT
BEGIN:VEVENT
DTSTART;TZID=America/New_York:20270524T190000
DTEND;TZID=America/New_York:20270524T210000
DTSTAMP:20260422T105909
CREATED:20260122T154936Z
LAST-MODIFIED:20260122T154938Z
UID:10024344-1811185200-1811192400@marketcommonmb.com
SUMMARY:Mystery Movie Monday - GTC Theaters
DESCRIPTION:Be the first to see a brand-new movie before it hits theaters — tickets are just $7.00! Past Mystery Movie Monday titles include Jurassic World Rebirth\, Eternity\, Song Sung Blue & Primate! You never know what you’ll get\, but you won’t want to miss it.
URL:https://marketcommonmb.com/event/mystery-movie-monday-gtc-theaters/2027-05-24/
LOCATION:GTC Theater\, 4002 Deville Street\, MYRTLE BEACH\, SC\, 29577-1640\, United States
CATEGORIES:Family Events,Movie Event
ATTACH;FMTTYPE=image/png:https://marketcommonmb.com/wp-content/uploads/2026/01/Screenshot-2026-01-22-104133.png
END:VEVENT
BEGIN:VEVENT
DTSTART;TZID=America/New_York:20270531T190000
DTEND;TZID=America/New_York:20270531T210000
DTSTAMP:20260422T105909
CREATED:20260122T154936Z
LAST-MODIFIED:20260122T154938Z
UID:10024345-1811790000-1811797200@marketcommonmb.com
SUMMARY:Mystery Movie Monday - GTC Theaters
DESCRIPTION:Be the first to see a brand-new movie before it hits theaters — tickets are just $7.00! Past Mystery Movie Monday titles include Jurassic World Rebirth\, Eternity\, Song Sung Blue & Primate! You never know what you’ll get\, but you won’t want to miss it.
URL:https://marketcommonmb.com/event/mystery-movie-monday-gtc-theaters/2027-05-31/
LOCATION:GTC Theater\, 4002 Deville Street\, MYRTLE BEACH\, SC\, 29577-1640\, United States
CATEGORIES:Family Events,Movie Event
ATTACH;FMTTYPE=image/png:https://marketcommonmb.com/wp-content/uploads/2026/01/Screenshot-2026-01-22-104133.png
END:VEVENT
BEGIN:VEVENT
DTSTART;TZID=America/New_York:20270607T190000
DTEND;TZID=America/New_York:20270607T210000
DTSTAMP:20260422T105909
CREATED:20260122T154936Z
LAST-MODIFIED:20260122T154938Z
UID:10024346-1812394800-1812402000@marketcommonmb.com
SUMMARY:Mystery Movie Monday - GTC Theaters
DESCRIPTION:Be the first to see a brand-new movie before it hits theaters — tickets are just $7.00! Past Mystery Movie Monday titles include Jurassic World Rebirth\, Eternity\, Song Sung Blue & Primate! You never know what you’ll get\, but you won’t want to miss it.
URL:https://marketcommonmb.com/event/mystery-movie-monday-gtc-theaters/2027-06-07/
LOCATION:GTC Theater\, 4002 Deville Street\, MYRTLE BEACH\, SC\, 29577-1640\, United States
CATEGORIES:Family Events,Movie Event
ATTACH;FMTTYPE=image/png:https://marketcommonmb.com/wp-content/uploads/2026/01/Screenshot-2026-01-22-104133.png
END:VEVENT
BEGIN:VEVENT
DTSTART;TZID=America/New_York:20270614T190000
DTEND;TZID=America/New_York:20270614T210000
DTSTAMP:20260422T105909
CREATED:20260122T154936Z
LAST-MODIFIED:20260122T154938Z
UID:10024347-1812999600-1813006800@marketcommonmb.com
SUMMARY:Mystery Movie Monday - GTC Theaters
DESCRIPTION:Be the first to see a brand-new movie before it hits theaters — tickets are just $7.00! Past Mystery Movie Monday titles include Jurassic World Rebirth\, Eternity\, Song Sung Blue & Primate! You never know what you’ll get\, but you won’t want to miss it.
URL:https://marketcommonmb.com/event/mystery-movie-monday-gtc-theaters/2027-06-14/
LOCATION:GTC Theater\, 4002 Deville Street\, MYRTLE BEACH\, SC\, 29577-1640\, United States
CATEGORIES:Family Events,Movie Event
ATTACH;FMTTYPE=image/png:https://marketcommonmb.com/wp-content/uploads/2026/01/Screenshot-2026-01-22-104133.png
END:VEVENT
BEGIN:VEVENT
DTSTART;TZID=America/New_York:20270621T190000
DTEND;TZID=America/New_York:20270621T210000
DTSTAMP:20260422T105909
CREATED:20260122T154936Z
LAST-MODIFIED:20260122T154938Z
UID:10024348-1813604400-1813611600@marketcommonmb.com
SUMMARY:Mystery Movie Monday - GTC Theaters
DESCRIPTION:Be the first to see a brand-new movie before it hits theaters — tickets are just $7.00! Past Mystery Movie Monday titles include Jurassic World Rebirth\, Eternity\, Song Sung Blue & Primate! You never know what you’ll get\, but you won’t want to miss it.
URL:https://marketcommonmb.com/event/mystery-movie-monday-gtc-theaters/2027-06-21/
LOCATION:GTC Theater\, 4002 Deville Street\, MYRTLE BEACH\, SC\, 29577-1640\, United States
CATEGORIES:Family Events,Movie Event
ATTACH;FMTTYPE=image/png:https://marketcommonmb.com/wp-content/uploads/2026/01/Screenshot-2026-01-22-104133.png
END:VEVENT
BEGIN:VEVENT
DTSTART;TZID=America/New_York:20270628T190000
DTEND;TZID=America/New_York:20270628T210000
DTSTAMP:20260422T105909
CREATED:20260122T154936Z
LAST-MODIFIED:20260122T154938Z
UID:10024349-1814209200-1814216400@marketcommonmb.com
SUMMARY:Mystery Movie Monday - GTC Theaters
DESCRIPTION:Be the first to see a brand-new movie before it hits theaters — tickets are just $7.00! Past Mystery Movie Monday titles include Jurassic World Rebirth\, Eternity\, Song Sung Blue & Primate! You never know what you’ll get\, but you won’t want to miss it.
URL:https://marketcommonmb.com/event/mystery-movie-monday-gtc-theaters/2027-06-28/
LOCATION:GTC Theater\, 4002 Deville Street\, MYRTLE BEACH\, SC\, 29577-1640\, United States
CATEGORIES:Family Events,Movie Event
ATTACH;FMTTYPE=image/png:https://marketcommonmb.com/wp-content/uploads/2026/01/Screenshot-2026-01-22-104133.png
END:VEVENT
BEGIN:VEVENT
DTSTART;TZID=America/New_York:20270705T190000
DTEND;TZID=America/New_York:20270705T210000
DTSTAMP:20260422T105909
CREATED:20260122T154936Z
LAST-MODIFIED:20260122T154938Z
UID:10024350-1814814000-1814821200@marketcommonmb.com
SUMMARY:Mystery Movie Monday - GTC Theaters
DESCRIPTION:Be the first to see a brand-new movie before it hits theaters — tickets are just $7.00! Past Mystery Movie Monday titles include Jurassic World Rebirth\, Eternity\, Song Sung Blue & Primate! You never know what you’ll get\, but you won’t want to miss it.
URL:https://marketcommonmb.com/event/mystery-movie-monday-gtc-theaters/2027-07-05/
LOCATION:GTC Theater\, 4002 Deville Street\, MYRTLE BEACH\, SC\, 29577-1640\, United States
CATEGORIES:Family Events,Movie Event
ATTACH;FMTTYPE=image/png:https://marketcommonmb.com/wp-content/uploads/2026/01/Screenshot-2026-01-22-104133.png
END:VEVENT
BEGIN:VEVENT
DTSTART;TZID=America/New_York:20270712T190000
DTEND;TZID=America/New_York:20270712T210000
DTSTAMP:20260422T105909
CREATED:20260122T154936Z
LAST-MODIFIED:20260122T154938Z
UID:10024351-1815418800-1815426000@marketcommonmb.com
SUMMARY:Mystery Movie Monday - GTC Theaters
DESCRIPTION:Be the first to see a brand-new movie before it hits theaters — tickets are just $7.00! Past Mystery Movie Monday titles include Jurassic World Rebirth\, Eternity\, Song Sung Blue & Primate! You never know what you’ll get\, but you won’t want to miss it.
URL:https://marketcommonmb.com/event/mystery-movie-monday-gtc-theaters/2027-07-12/
LOCATION:GTC Theater\, 4002 Deville Street\, MYRTLE BEACH\, SC\, 29577-1640\, United States
CATEGORIES:Family Events,Movie Event
ATTACH;FMTTYPE=image/png:https://marketcommonmb.com/wp-content/uploads/2026/01/Screenshot-2026-01-22-104133.png
END:VEVENT
BEGIN:VEVENT
DTSTART;TZID=America/New_York:20270719T190000
DTEND;TZID=America/New_York:20270719T210000
DTSTAMP:20260422T105909
CREATED:20260122T154936Z
LAST-MODIFIED:20260122T154938Z
UID:10024352-1816023600-1816030800@marketcommonmb.com
SUMMARY:Mystery Movie Monday - GTC Theaters
DESCRIPTION:Be the first to see a brand-new movie before it hits theaters — tickets are just $7.00! Past Mystery Movie Monday titles include Jurassic World Rebirth\, Eternity\, Song Sung Blue & Primate! You never know what you’ll get\, but you won’t want to miss it.
URL:https://marketcommonmb.com/event/mystery-movie-monday-gtc-theaters/2027-07-19/
LOCATION:GTC Theater\, 4002 Deville Street\, MYRTLE BEACH\, SC\, 29577-1640\, United States
CATEGORIES:Family Events,Movie Event
ATTACH;FMTTYPE=image/png:https://marketcommonmb.com/wp-content/uploads/2026/01/Screenshot-2026-01-22-104133.png
END:VEVENT
BEGIN:VEVENT
DTSTART;TZID=America/New_York:20270726T190000
DTEND;TZID=America/New_York:20270726T210000
DTSTAMP:20260422T105909
CREATED:20260122T154936Z
LAST-MODIFIED:20260122T154938Z
UID:10024353-1816628400-1816635600@marketcommonmb.com
SUMMARY:Mystery Movie Monday - GTC Theaters
DESCRIPTION:Be the first to see a brand-new movie before it hits theaters — tickets are just $7.00! Past Mystery Movie Monday titles include Jurassic World Rebirth\, Eternity\, Song Sung Blue & Primate! You never know what you’ll get\, but you won’t want to miss it.
URL:https://marketcommonmb.com/event/mystery-movie-monday-gtc-theaters/2027-07-26/
LOCATION:GTC Theater\, 4002 Deville Street\, MYRTLE BEACH\, SC\, 29577-1640\, United States
CATEGORIES:Family Events,Movie Event
ATTACH;FMTTYPE=image/png:https://marketcommonmb.com/wp-content/uploads/2026/01/Screenshot-2026-01-22-104133.png
END:VEVENT
BEGIN:VEVENT
DTSTART;TZID=America/New_York:20270802T190000
DTEND;TZID=America/New_York:20270802T210000
DTSTAMP:20260422T105909
CREATED:20260122T154936Z
LAST-MODIFIED:20260122T154938Z
UID:10024354-1817233200-1817240400@marketcommonmb.com
SUMMARY:Mystery Movie Monday - GTC Theaters
DESCRIPTION:Be the first to see a brand-new movie before it hits theaters — tickets are just $7.00! Past Mystery Movie Monday titles include Jurassic World Rebirth\, Eternity\, Song Sung Blue & Primate! You never know what you’ll get\, but you won’t want to miss it.
URL:https://marketcommonmb.com/event/mystery-movie-monday-gtc-theaters/2027-08-02/
LOCATION:GTC Theater\, 4002 Deville Street\, MYRTLE BEACH\, SC\, 29577-1640\, United States
CATEGORIES:Family Events,Movie Event
ATTACH;FMTTYPE=image/png:https://marketcommonmb.com/wp-content/uploads/2026/01/Screenshot-2026-01-22-104133.png
END:VEVENT
BEGIN:VEVENT
DTSTART;TZID=America/New_York:20270809T190000
DTEND;TZID=America/New_York:20270809T210000
DTSTAMP:20260422T105909
CREATED:20260122T154936Z
LAST-MODIFIED:20260122T154938Z
UID:10024355-1817838000-1817845200@marketcommonmb.com
SUMMARY:Mystery Movie Monday - GTC Theaters
DESCRIPTION:Be the first to see a brand-new movie before it hits theaters — tickets are just $7.00! Past Mystery Movie Monday titles include Jurassic World Rebirth\, Eternity\, Song Sung Blue & Primate! You never know what you’ll get\, but you won’t want to miss it.
URL:https://marketcommonmb.com/event/mystery-movie-monday-gtc-theaters/2027-08-09/
LOCATION:GTC Theater\, 4002 Deville Street\, MYRTLE BEACH\, SC\, 29577-1640\, United States
CATEGORIES:Family Events,Movie Event
ATTACH;FMTTYPE=image/png:https://marketcommonmb.com/wp-content/uploads/2026/01/Screenshot-2026-01-22-104133.png
END:VEVENT
BEGIN:VEVENT
DTSTART;TZID=America/New_York:20270816T190000
DTEND;TZID=America/New_York:20270816T210000
DTSTAMP:20260422T105909
CREATED:20260122T154936Z
LAST-MODIFIED:20260122T154938Z
UID:10024356-1818442800-1818450000@marketcommonmb.com
SUMMARY:Mystery Movie Monday - GTC Theaters
DESCRIPTION:Be the first to see a brand-new movie before it hits theaters — tickets are just $7.00! Past Mystery Movie Monday titles include Jurassic World Rebirth\, Eternity\, Song Sung Blue & Primate! You never know what you’ll get\, but you won’t want to miss it.
URL:https://marketcommonmb.com/event/mystery-movie-monday-gtc-theaters/2027-08-16/
LOCATION:GTC Theater\, 4002 Deville Street\, MYRTLE BEACH\, SC\, 29577-1640\, United States
CATEGORIES:Family Events,Movie Event
ATTACH;FMTTYPE=image/png:https://marketcommonmb.com/wp-content/uploads/2026/01/Screenshot-2026-01-22-104133.png
END:VEVENT
BEGIN:VEVENT
DTSTART;TZID=America/New_York:20270823T190000
DTEND;TZID=America/New_York:20270823T210000
DTSTAMP:20260422T105909
CREATED:20260122T154936Z
LAST-MODIFIED:20260122T154938Z
UID:10024357-1819047600-1819054800@marketcommonmb.com
SUMMARY:Mystery Movie Monday - GTC Theaters
DESCRIPTION:Be the first to see a brand-new movie before it hits theaters — tickets are just $7.00! Past Mystery Movie Monday titles include Jurassic World Rebirth\, Eternity\, Song Sung Blue & Primate! You never know what you’ll get\, but you won’t want to miss it.
URL:https://marketcommonmb.com/event/mystery-movie-monday-gtc-theaters/2027-08-23/
LOCATION:GTC Theater\, 4002 Deville Street\, MYRTLE BEACH\, SC\, 29577-1640\, United States
CATEGORIES:Family Events,Movie Event
ATTACH;FMTTYPE=image/png:https://marketcommonmb.com/wp-content/uploads/2026/01/Screenshot-2026-01-22-104133.png
END:VEVENT
BEGIN:VEVENT
DTSTART;TZID=America/New_York:20270830T190000
DTEND;TZID=America/New_York:20270830T210000
DTSTAMP:20260422T105909
CREATED:20260122T154936Z
LAST-MODIFIED:20260122T154938Z
UID:10024358-1819652400-1819659600@marketcommonmb.com
SUMMARY:Mystery Movie Monday - GTC Theaters
DESCRIPTION:Be the first to see a brand-new movie before it hits theaters — tickets are just $7.00! Past Mystery Movie Monday titles include Jurassic World Rebirth\, Eternity\, Song Sung Blue & Primate! You never know what you’ll get\, but you won’t want to miss it.
URL:https://marketcommonmb.com/event/mystery-movie-monday-gtc-theaters/2027-08-30/
LOCATION:GTC Theater\, 4002 Deville Street\, MYRTLE BEACH\, SC\, 29577-1640\, United States
CATEGORIES:Family Events,Movie Event
ATTACH;FMTTYPE=image/png:https://marketcommonmb.com/wp-content/uploads/2026/01/Screenshot-2026-01-22-104133.png
END:VEVENT
BEGIN:VEVENT
DTSTART;TZID=America/New_York:20270906T190000
DTEND;TZID=America/New_York:20270906T210000
DTSTAMP:20260422T105909
CREATED:20260122T154936Z
LAST-MODIFIED:20260122T154938Z
UID:10024359-1820257200-1820264400@marketcommonmb.com
SUMMARY:Mystery Movie Monday - GTC Theaters
DESCRIPTION:Be the first to see a brand-new movie before it hits theaters — tickets are just $7.00! Past Mystery Movie Monday titles include Jurassic World Rebirth\, Eternity\, Song Sung Blue & Primate! You never know what you’ll get\, but you won’t want to miss it.
URL:https://marketcommonmb.com/event/mystery-movie-monday-gtc-theaters/2027-09-06/
LOCATION:GTC Theater\, 4002 Deville Street\, MYRTLE BEACH\, SC\, 29577-1640\, United States
CATEGORIES:Family Events,Movie Event
ATTACH;FMTTYPE=image/png:https://marketcommonmb.com/wp-content/uploads/2026/01/Screenshot-2026-01-22-104133.png
END:VEVENT
BEGIN:VEVENT
DTSTART;TZID=America/New_York:20270913T190000
DTEND;TZID=America/New_York:20270913T210000
DTSTAMP:20260422T105909
CREATED:20260122T154936Z
LAST-MODIFIED:20260122T154938Z
UID:10024360-1820862000-1820869200@marketcommonmb.com
SUMMARY:Mystery Movie Monday - GTC Theaters
DESCRIPTION:Be the first to see a brand-new movie before it hits theaters — tickets are just $7.00! Past Mystery Movie Monday titles include Jurassic World Rebirth\, Eternity\, Song Sung Blue & Primate! You never know what you’ll get\, but you won’t want to miss it.
URL:https://marketcommonmb.com/event/mystery-movie-monday-gtc-theaters/2027-09-13/
LOCATION:GTC Theater\, 4002 Deville Street\, MYRTLE BEACH\, SC\, 29577-1640\, United States
CATEGORIES:Family Events,Movie Event
ATTACH;FMTTYPE=image/png:https://marketcommonmb.com/wp-content/uploads/2026/01/Screenshot-2026-01-22-104133.png
END:VEVENT
BEGIN:VEVENT
DTSTART;TZID=America/New_York:20270920T190000
DTEND;TZID=America/New_York:20270920T210000
DTSTAMP:20260422T105909
CREATED:20260122T154936Z
LAST-MODIFIED:20260122T154938Z
UID:10024361-1821466800-1821474000@marketcommonmb.com
SUMMARY:Mystery Movie Monday - GTC Theaters
DESCRIPTION:Be the first to see a brand-new movie before it hits theaters — tickets are just $7.00! Past Mystery Movie Monday titles include Jurassic World Rebirth\, Eternity\, Song Sung Blue & Primate! You never know what you’ll get\, but you won’t want to miss it.
URL:https://marketcommonmb.com/event/mystery-movie-monday-gtc-theaters/2027-09-20/
LOCATION:GTC Theater\, 4002 Deville Street\, MYRTLE BEACH\, SC\, 29577-1640\, United States
CATEGORIES:Family Events,Movie Event
ATTACH;FMTTYPE=image/png:https://marketcommonmb.com/wp-content/uploads/2026/01/Screenshot-2026-01-22-104133.png
END:VEVENT
BEGIN:VEVENT
DTSTART;TZID=America/New_York:20270927T190000
DTEND;TZID=America/New_York:20270927T210000
DTSTAMP:20260422T105909
CREATED:20260122T154936Z
LAST-MODIFIED:20260122T154938Z
UID:10024362-1822071600-1822078800@marketcommonmb.com
SUMMARY:Mystery Movie Monday - GTC Theaters
DESCRIPTION:Be the first to see a brand-new movie before it hits theaters — tickets are just $7.00! Past Mystery Movie Monday titles include Jurassic World Rebirth\, Eternity\, Song Sung Blue & Primate! You never know what you’ll get\, but you won’t want to miss it.
URL:https://marketcommonmb.com/event/mystery-movie-monday-gtc-theaters/2027-09-27/
LOCATION:GTC Theater\, 4002 Deville Street\, MYRTLE BEACH\, SC\, 29577-1640\, United States
CATEGORIES:Family Events,Movie Event
ATTACH;FMTTYPE=image/png:https://marketcommonmb.com/wp-content/uploads/2026/01/Screenshot-2026-01-22-104133.png
END:VEVENT
BEGIN:VEVENT
DTSTART;TZID=America/New_York:20271004T190000
DTEND;TZID=America/New_York:20271004T210000
DTSTAMP:20260422T105909
CREATED:20260122T154936Z
LAST-MODIFIED:20260122T154938Z
UID:10024363-1822676400-1822683600@marketcommonmb.com
SUMMARY:Mystery Movie Monday - GTC Theaters
DESCRIPTION:Be the first to see a brand-new movie before it hits theaters — tickets are just $7.00! Past Mystery Movie Monday titles include Jurassic World Rebirth\, Eternity\, Song Sung Blue & Primate! You never know what you’ll get\, but you won’t want to miss it.
URL:https://marketcommonmb.com/event/mystery-movie-monday-gtc-theaters/2027-10-04/
LOCATION:GTC Theater\, 4002 Deville Street\, MYRTLE BEACH\, SC\, 29577-1640\, United States
CATEGORIES:Family Events,Movie Event
ATTACH;FMTTYPE=image/png:https://marketcommonmb.com/wp-content/uploads/2026/01/Screenshot-2026-01-22-104133.png
END:VEVENT
BEGIN:VEVENT
DTSTART;TZID=America/New_York:20271011T190000
DTEND;TZID=America/New_York:20271011T210000
DTSTAMP:20260422T105909
CREATED:20260122T154936Z
LAST-MODIFIED:20260122T154938Z
UID:10024364-1823281200-1823288400@marketcommonmb.com
SUMMARY:Mystery Movie Monday - GTC Theaters
DESCRIPTION:Be the first to see a brand-new movie before it hits theaters — tickets are just $7.00! Past Mystery Movie Monday titles include Jurassic World Rebirth\, Eternity\, Song Sung Blue & Primate! You never know what you’ll get\, but you won’t want to miss it.
URL:https://marketcommonmb.com/event/mystery-movie-monday-gtc-theaters/2027-10-11/
LOCATION:GTC Theater\, 4002 Deville Street\, MYRTLE BEACH\, SC\, 29577-1640\, United States
CATEGORIES:Family Events,Movie Event
ATTACH;FMTTYPE=image/png:https://marketcommonmb.com/wp-content/uploads/2026/01/Screenshot-2026-01-22-104133.png
END:VEVENT
BEGIN:VEVENT
DTSTART;TZID=America/New_York:20271018T190000
DTEND;TZID=America/New_York:20271018T210000
DTSTAMP:20260422T105909
CREATED:20260122T154936Z
LAST-MODIFIED:20260122T154938Z
UID:10024365-1823886000-1823893200@marketcommonmb.com
SUMMARY:Mystery Movie Monday - GTC Theaters
DESCRIPTION:Be the first to see a brand-new movie before it hits theaters — tickets are just $7.00! Past Mystery Movie Monday titles include Jurassic World Rebirth\, Eternity\, Song Sung Blue & Primate! You never know what you’ll get\, but you won’t want to miss it.
URL:https://marketcommonmb.com/event/mystery-movie-monday-gtc-theaters/2027-10-18/
LOCATION:GTC Theater\, 4002 Deville Street\, MYRTLE BEACH\, SC\, 29577-1640\, United States
CATEGORIES:Family Events,Movie Event
ATTACH;FMTTYPE=image/png:https://marketcommonmb.com/wp-content/uploads/2026/01/Screenshot-2026-01-22-104133.png
END:VEVENT
BEGIN:VEVENT
DTSTART;TZID=America/New_York:20271025T190000
DTEND;TZID=America/New_York:20271025T210000
DTSTAMP:20260422T105909
CREATED:20260122T154936Z
LAST-MODIFIED:20260122T154938Z
UID:10024366-1824490800-1824498000@marketcommonmb.com
SUMMARY:Mystery Movie Monday - GTC Theaters
DESCRIPTION:Be the first to see a brand-new movie before it hits theaters — tickets are just $7.00! Past Mystery Movie Monday titles include Jurassic World Rebirth\, Eternity\, Song Sung Blue & Primate! You never know what you’ll get\, but you won’t want to miss it.
URL:https://marketcommonmb.com/event/mystery-movie-monday-gtc-theaters/2027-10-25/
LOCATION:GTC Theater\, 4002 Deville Street\, MYRTLE BEACH\, SC\, 29577-1640\, United States
CATEGORIES:Family Events,Movie Event
ATTACH;FMTTYPE=image/png:https://marketcommonmb.com/wp-content/uploads/2026/01/Screenshot-2026-01-22-104133.png
END:VEVENT
BEGIN:VEVENT
DTSTART;TZID=America/New_York:20271101T190000
DTEND;TZID=America/New_York:20271101T210000
DTSTAMP:20260422T105909
CREATED:20260122T154936Z
LAST-MODIFIED:20260122T154938Z
UID:10024367-1825095600-1825102800@marketcommonmb.com
SUMMARY:Mystery Movie Monday - GTC Theaters
DESCRIPTION:Be the first to see a brand-new movie before it hits theaters — tickets are just $7.00! Past Mystery Movie Monday titles include Jurassic World Rebirth\, Eternity\, Song Sung Blue & Primate! You never know what you’ll get\, but you won’t want to miss it.
URL:https://marketcommonmb.com/event/mystery-movie-monday-gtc-theaters/2027-11-01/
LOCATION:GTC Theater\, 4002 Deville Street\, MYRTLE BEACH\, SC\, 29577-1640\, United States
CATEGORIES:Family Events,Movie Event
ATTACH;FMTTYPE=image/png:https://marketcommonmb.com/wp-content/uploads/2026/01/Screenshot-2026-01-22-104133.png
END:VEVENT
END:VCALENDAR